BEGIN:VCALENDAR
VERSION:2.0
PRODID:-//Global Business Travel Association - GBTA - ECPv6.9.0//NONSGML v1.0//EN
CALSCALE:GREGORIAN
METHOD:PUBLISH
X-WR-CALNAME:Global Business Travel Association - GBTA
X-ORIGINAL-URL:https://gbta.org
X-WR-CALDESC:Events for Global Business Travel Association - GBTA
REFRESH-INTERVAL;VALUE=DURATION:PT1H
X-Robots-Tag:noindex
X-PUBLISHED-TTL:PT1H
BEGIN:VTIMEZONE
TZID:Europe/Vienna
BEGIN:DAYLIGHT
TZOFFSETFROM:+0100
TZOFFSETTO:+0200
TZNAME:CEST
DTSTART:20240331T010000
END:DAYLIGHT
BEGIN:STANDARD
TZOFFSETFROM:+0200
TZOFFSETTO:+0100
TZNAME:CET
DTSTART:20241027T010000
END:STANDARD
TZID:America/New_York
BEGIN:DAYLIGHT
TZOFFSETFROM:-0500
TZOFFSETTO:-0400
TZNAME:EDT
DTSTART:20240310T070000
END:DAYLIGHT
BEGIN:STANDARD
TZOFFSETFROM:-0400
TZOFFSETTO:-0500
TZNAME:EST
DTSTART:20241103T060000
END:STANDARD
END:VTIMEZONE
BEGIN:VEVENT
DTSTART;TZID=Europe/Vienna:20240222T100000
DTEND;TZID=Europe/Vienna:20240222T110000
DTSTAMP:20260422T005004
CREATED:20240123T164838Z
LAST-MODIFIED:20240206T160748Z
UID:14169-1708596000-1708599600@gbta.org
SUMMARY:L'evoluzione del trasporto via terra nel business travel in Europa: le prospettive di viaggiatori e travel manager
DESCRIPTION:In che modo le politiche di viaggio aziendali trattano il tema del trasporto a terra durante i viaggi di lavoro?\nQuali sono le modalità di trasporto via terra che i viaggiatori d’affari preferiscono utilizzare durante i viaggi di lavoro?\nChe impatto ha il tema della sostenibilità sul settore del trasporto via terra?\nQuali sono\, secondo i viaggiatori d’affari e i travel manager\, le caratteristiche più importanti delle app mobili di ride-hailing? \nDurante il Webinar del 22 febbraio\, tramite lo studio realizzato da FreeNow e GBTA\, un panel di esperti darà risposta alle domande più frequenti sul ground transportation.
URL:https://gbta.org/event/levoluzione-del-trasporto-via-terra-nel-business-travel-in-europa-le-prospettive-di-viaggiatori-e-travel-manager/
CATEGORIES:North America,US Chapter Event
END:VEVENT
BEGIN:VEVENT
DTSTART;TZID=America/New_York:20240222T130000
DTEND;TZID=America/New_York:20240222T170000
DTSTAMP:20260422T005004
CREATED:20240209T055252Z
LAST-MODIFIED:20240209T055252Z
UID:14411-1708606800-1708621200@gbta.org
SUMMARY:Corporate Travel Excellence: February Edition
DESCRIPTION:Embark on a transformative journey at our Corporate Travel Excellence: February Edition\, where our focus is on your professional development\, the influential power of mentorship\, and the art of presenting your personal brand. Join us for a 1/2 day of insights\, strategies\, and actionable advice from industry leaders\, aimed at shaping your career in the dynamic field of corporate travel. This event will be great for both buyers and suppliers. \nGuest speakers will bring tactical expertise on updating your LinkedIn profile\, providing you with the tools to showcase your skills and experiences effectively. Additionally\, we are thrilled to announce the launch of our mentorship program\, Powered by WINiT\, designed to connect you with seasoned professionals who will serve as guides and mentors on your career journey. Applications for mentors and mentees is now live! \nTopics & Speakers: \nLinkedIn Best Practices\nMichelle Ross\, Senior Manager – Contract Recruitment: NES Fircroft\nMentorship\nJane Pearsall\, Director of Global Business Travel – Worldwide Sales: BWH Hotels\nBev Heinritz\, Director\, Foundation Programs: GBTA Foundation\nHarnessing AI for Professional Development\nMike Daly\, Vice President Sales: Serko\, Ltd. \nAdded Value: Free headshots will be available during this event! New Year\, New Me? Get an updated headshot for your LinkedIn profile and other uses. Included in your registration! \nPrepare to immerse yourself in a day of learning\, networking\, and personal growth. Stay tuned for further details\, including the full agenda\, speaker lineup\, and mentorship program information. If you have any questions or specific topics you’d like covered\, feel free to reach out to us at programs@cnfbta.com. \nWe invite you to be part of this empowering experience at Corporate Travel Excellence: February Edition\, where your professional success takes center stage.
URL:https://gbta.org/event/corporate-travel-excellence-february-edition/
CATEGORIES:North America,US Chapter Event
END:VEVENT
END:VCALENDAR