BEGIN:VCALENDAR
VERSION:2.0
PRODID:-//Global Business Travel Association - GBTA - ECPv6.9.0//NONSGML v1.0//EN
CALSCALE:GREGORIAN
METHOD:PUBLISH
X-WR-CALNAME:Global Business Travel Association - GBTA
X-ORIGINAL-URL:https://gbta.org
X-WR-CALDESC:Events for Global Business Travel Association - GBTA
REFRESH-INTERVAL;VALUE=DURATION:PT1H
X-Robots-Tag:noindex
X-PUBLISHED-TTL:PT1H
BEGIN:VTIMEZONE
TZID:America/New_York
BEGIN:DAYLIGHT
TZOFFSETFROM:-0500
TZOFFSETTO:-0400
TZNAME:EDT
DTSTART:20240310T070000
END:DAYLIGHT
BEGIN:STANDARD
TZOFFSETFROM:-0400
TZOFFSETTO:-0500
TZNAME:EST
DTSTART:20241103T060000
END:STANDARD
END:VTIMEZONE
BEGIN:VEVENT
DTSTART;TZID=America/New_York:20240228T083000
DTEND;TZID=America/New_York:20240228T100000
DTSTAMP:20260421T235001
CREATED:20240209T052113Z
LAST-MODIFIED:20240209T052113Z
UID:14405-1709109000-1709114400@gbta.org
SUMMARY:GBTA Membership Advantages
DESCRIPTION:Chapter Name: Mid South Area Chapter \n  \nDescription: Come learn about the benefits and advantages of GBTA Membership and local MSABTA Membership over breakfast. Featuring a special presentation by Ronda Dean\, President of the GBTA Chapter Presidents’ Council. \nEvent Speaker: Ronda Dean\, President of the GBTA Chapter Presidents’ Council \nLocation of Event: Varsity’s Offices at 711 N Front Street Memphis\, TN 38107 \nPrice: $35.00
URL:https://gbta.org/event/gbta-membership-advantages/
CATEGORIES:North America,US Chapter Event
END:VEVENT
END:VCALENDAR