BEGIN:VCALENDAR
VERSION:2.0
PRODID:-//Global Business Travel Association - GBTA - ECPv6.9.0//NONSGML v1.0//EN
CALSCALE:GREGORIAN
METHOD:PUBLISH
X-WR-CALNAME:Global Business Travel Association - GBTA
X-ORIGINAL-URL:https://gbta.org
X-WR-CALDESC:Events for Global Business Travel Association - GBTA
REFRESH-INTERVAL;VALUE=DURATION:PT1H
X-Robots-Tag:noindex
X-PUBLISHED-TTL:PT1H
BEGIN:VTIMEZONE
TZID:America/New_York
BEGIN:DAYLIGHT
TZOFFSETFROM:-0500
TZOFFSETTO:-0400
TZNAME:EDT
DTSTART:20240310T070000
END:DAYLIGHT
BEGIN:STANDARD
TZOFFSETFROM:-0400
TZOFFSETTO:-0500
TZNAME:EST
DTSTART:20241103T060000
END:STANDARD
END:VTIMEZONE
BEGIN:VEVENT
DTSTART;TZID=America/New_York:20240312T110000
DTEND;TZID=America/New_York:20240312T130000
DTSTAMP:20260422T183246
CREATED:20240215T044249Z
LAST-MODIFIED:20240223T125850Z
UID:14588-1710241200-1710248400@gbta.org
SUMMARY:Resilience Essentials for Travel Experts - GBTA Tennessee March Chapter Meeting - GTP Credit Approved
DESCRIPTION:GBTA | Tennessee \n \nJoin GBTA-TN as we welcome keynote speaker Dr. Suzanne Castle. In this dynamic session designed exclusively for travel professionals\, discover actionable strategies to manage workload pressures\, prioritize self-care\, and cultivate a resilient mindset. Let’s shift gears to-do lists to ta-da moments\, empowering you to excel in your career\, and provide exceptional customer service to your clients. \n \nDr. Suzanne Castle\, Suzanne Castle Consulting / The Sparkle Factor \nElement Nashville Vanderbilt West End\n4 City Boulevard\nNashville\, TN 37209 \nTickets\n$35.00 GBTA-TN Member Registration\n$45.00 after 07:00 am March 11 \n$35.00 GBTA All-Access Registration\n$45.00 after 07:00 am March 11 \n$45.00 Guest Registration\n$55.00 after 07:00 am March 11
URL:https://gbta.org/event/resilience-essentials-for-travel-experts-gbta-tennessee-march-chapter-meeting/
CATEGORIES:North America,US Chapter Event
END:VEVENT
END:VCALENDAR