BEGIN:VCALENDAR
VERSION:2.0
PRODID:-//Global Business Travel Association - GBTA - ECPv6.9.0//NONSGML v1.0//EN
CALSCALE:GREGORIAN
METHOD:PUBLISH
X-ORIGINAL-URL:https://gbta.org
X-WR-CALDESC:Events for Global Business Travel Association - GBTA
REFRESH-INTERVAL;VALUE=DURATION:PT1H
X-Robots-Tag:noindex
X-PUBLISHED-TTL:PT1H
BEGIN:VTIMEZONE
TZID:America/New_York
BEGIN:DAYLIGHT
TZOFFSETFROM:-0500
TZOFFSETTO:-0400
TZNAME:EDT
DTSTART:20240310T070000
END:DAYLIGHT
BEGIN:STANDARD
TZOFFSETFROM:-0400
TZOFFSETTO:-0500
TZNAME:EST
DTSTART:20241103T060000
END:STANDARD
END:VTIMEZONE
BEGIN:VEVENT
DTSTART;TZID=America/New_York:20240509T100000
DTEND;TZID=America/New_York:20240509T170000
DTSTAMP:20260421T124537
CREATED:20240418T115600Z
LAST-MODIFIED:20240424T122507Z
UID:15590-1715248800-1715274000@gbta.org
SUMMARY:Future Insights: Reshaping Business Travel Dynamics - GTP Credit Approved
DESCRIPTION:Joint Education Day GBTA Silicon Valley and GBTA Bay Area Chapters \nStep into the future of business travel at our Annual Joint Education Day! Hear the experts’ discussions and discover strategies to reshape corporate travel programs\, ensuring continued relevance and value in the ever-evolving landscape. \n \nKeynote speaker – Kjarsten Philipsen\, Senior Vice President Americas\, BCD Travel\, \nThe event will be followed by the Suppliers Panel featuring\nNorm Rose\, President\, Travel Tech Consulting; Justin Schuster\, VP of Marketing\, Spotnana; Jonathan Dicesare\, Regional Manager\, Digital Sales\, United Airlines; Will Pinnell\, Senior Vice President & Managing Director\, HRS; Moderator Barbara Arena\, Global Category Manager\, Festive Road\nAnd Buyer Panel featuring\nRonda Dean\, US Travel Manager\, F5; Sean Parham\, Sr. Manager Travel & Meeting Services\, Discord; Ronda Gill\, Global Travel and Meetings\, The Estee Lauder Companies; Moderator Carey Pascoe\, Head of Global Travel Operations\, Block.\nHappening at Hyatt Regency SFO\n1333 Bayshore Highway\nBurlingame\, CA 94010
URL:https://gbta.org/event/future-insights-reshaping-business-travel-dynamics/
CATEGORIES:North America,US Chapter Event
END:VEVENT
END:VCALENDAR