BEGIN:VCALENDAR
VERSION:2.0
PRODID:-//Global Business Travel Association - GBTA - ECPv6.9.0//NONSGML v1.0//EN
CALSCALE:GREGORIAN
METHOD:PUBLISH
X-ORIGINAL-URL:https://gbta.org
X-WR-CALDESC:Events for Global Business Travel Association - GBTA
REFRESH-INTERVAL;VALUE=DURATION:PT1H
X-Robots-Tag:noindex
X-PUBLISHED-TTL:PT1H
BEGIN:VTIMEZONE
TZID:America/New_York
BEGIN:DAYLIGHT
TZOFFSETFROM:-0500
TZOFFSETTO:-0400
TZNAME:EDT
DTSTART:20240310T070000
END:DAYLIGHT
BEGIN:STANDARD
TZOFFSETFROM:-0400
TZOFFSETTO:-0500
TZNAME:EST
DTSTART:20241103T060000
END:STANDARD
END:VTIMEZONE
BEGIN:VEVENT
DTSTART;TZID=America/New_York:20240626T110000
DTEND;TZID=America/New_York:20240626T120000
DTSTAMP:20260422T141111
CREATED:20240416T155621Z
LAST-MODIFIED:20240416T155621Z
UID:15563-1719399600-1719403200@gbta.org
SUMMARY:GBTA Annual Business Meeting 2024
DESCRIPTION:Join GBTA leaders for a review of the state of the association\, key milestones and what’s ahead at the GBTA’s 2024 Annual Business Meeting\, to be held virtually on June 26 (Aligned with New York State law\, this serves as a notification for GBTA members.)
URL:https://gbta.org/event/gbta-annual-business-meeting-2024-2/
CATEGORIES:North America,Online Courses & Webinars
END:VEVENT
END:VCALENDAR