BEGIN:VCALENDAR
VERSION:2.0
PRODID:-//Global Business Travel Association - GBTA - ECPv6.9.0//NONSGML v1.0//EN
CALSCALE:GREGORIAN
METHOD:PUBLISH
X-WR-CALNAME:Global Business Travel Association - GBTA
X-ORIGINAL-URL:https://gbta.org
X-WR-CALDESC:Events for Global Business Travel Association - GBTA
REFRESH-INTERVAL;VALUE=DURATION:PT1H
X-Robots-Tag:noindex
X-PUBLISHED-TTL:PT1H
BEGIN:VTIMEZONE
TZID:America/New_York
BEGIN:DAYLIGHT
TZOFFSETFROM:-0500
TZOFFSETTO:-0400
TZNAME:EDT
DTSTART:20240310T070000
END:DAYLIGHT
BEGIN:STANDARD
TZOFFSETFROM:-0400
TZOFFSETTO:-0500
TZNAME:EST
DTSTART:20241103T060000
END:STANDARD
END:VTIMEZONE
BEGIN:VEVENT
DTSTART;TZID=America/New_York:20240813T110000
DTEND;TZID=America/New_York:20240813T130000
DTSTAMP:20260422T133200
CREATED:20240719T130540Z
LAST-MODIFIED:20240809T031138Z
UID:16939-1723546800-1723554000@gbta.org
SUMMARY:Inclusivity in Business Travel - GTP Credit Approved
DESCRIPTION:Chapter: Rocky Mountain Chapter \nDescription: Emeka Nnaka shares his personal experience of overcoming a tragic accident leaving him paralyzed from the chest down. He will also share his most memorable experiences traveling and the lessons that can be learned from his best and worst travel experiences. \nLearn about the challenges persons with disabilties face when traveling and the things that everyone can do to help people with disabilities have a positive experience while traveling. If you manage a travel program or provide services to travelers\, you won’t want to miss opportunity! \n \nThis event is capacity limited and will sell out – Get your tickets today! \nEvent Speaker: Emeka Nnaka\, Transformational Speaker & Coach\nLocation: United Airlines Flight Training Center\, 7401 E. Martin Luther King Jr. Blvd\, Denver\, CO 80207
URL:https://gbta.org/event/inclusivity-in-business-travel/
CATEGORIES:North America,US Chapter Event
END:VEVENT
BEGIN:VEVENT
DTSTART;TZID=America/New_York:20240813T110000
DTEND;TZID=America/New_York:20240813T131000
DTSTAMP:20260422T133200
CREATED:20240722T065150Z
LAST-MODIFIED:20240809T031355Z
UID:16952-1723546800-1723554600@gbta.org
SUMMARY:GBTA | Tennessee August Meeting: Business Travel: We're In Our AI Era - GTP Credit Approved
DESCRIPTION:GBTA | Tennessee \nHosted by Platinum Sponsor  \nAI is increasingly being referenced as the new star of the show\, the do all be all buzz that everyone has been talking about. \nAI technologies are making significant changes across numerous industries\, including banking and finance\, law\, engineering\, art\, health and human resources.\nThe travel sector is also experiencing this shift.\nWith the rich data travel suppliers hold\, like travel preferences and habits\, AI and travel seem to be the perfect match. \nWhether we realize it or not\, various AI-driven tools have already brought significant improvements to business travel. Enhancing aspects from trip planning and creating itineraries to booking travel\, checking in\, and managing expenses\, making the process more streamlined and efficient. \nCome hear from a panel of travel industry professionals to learn how AI is impacting and can bring value to your organizations\, and most importantly your travelers. \n \nLaura Faber\, Moderator \nProducer and Co-Host\, Tennessee Crossroads\, NPT\nVideo Content Creator\, StorySource \nPanelists: \nJustin Bundick\nManaging Director of Artificial Intelligence\nSouthwest Airlines \nDavid Mitchell\nPresident\nWorld Travel Service\, a BCD Travel Company \nAnna Rose Wascher\nAccount Sales Leader\nMarriott International \nTop Golf Nashville\n500 Cowan St\, Nashville\, Tennessee \nTickets\n$35.00 GBTA-TN Member Registration\n$45.00 after 07:00 am August 12 \n$35.00 GBTA All-Access Registration\n$45.00 after 07:00 am August 12 \n$45.00 Guest Registration\n$55.00 after 07:00 am August 12
URL:https://gbta.org/event/gbta-tennessee-august-meeting-business-travel-were-in-our-ai-era/
CATEGORIES:North America,US Chapter Event
END:VEVENT
END:VCALENDAR