BEGIN:VCALENDAR
VERSION:2.0
PRODID:-//Global Business Travel Association - GBTA - ECPv6.9.0//NONSGML v1.0//EN
CALSCALE:GREGORIAN
METHOD:PUBLISH
X-ORIGINAL-URL:https://gbta.org
X-WR-CALDESC:Events for Global Business Travel Association - GBTA
REFRESH-INTERVAL;VALUE=DURATION:PT1H
X-Robots-Tag:noindex
X-PUBLISHED-TTL:PT1H
BEGIN:VTIMEZONE
TZID:America/New_York
BEGIN:DAYLIGHT
TZOFFSETFROM:-0500
TZOFFSETTO:-0400
TZNAME:EDT
DTSTART:20240310T070000
END:DAYLIGHT
BEGIN:STANDARD
TZOFFSETFROM:-0400
TZOFFSETTO:-0500
TZNAME:EST
DTSTART:20241103T060000
END:STANDARD
END:VTIMEZONE
BEGIN:VEVENT
DTSTART;TZID=America/New_York:20240814T083000
DTEND;TZID=America/New_York:20240814T120000
DTSTAMP:20260422T133204
CREATED:20240603T150849Z
LAST-MODIFIED:20240713T142818Z
UID:16288-1723624200-1723636800@gbta.org
SUMMARY:GBTA LATAM Business Travel Forum – Bogotá
DESCRIPTION:The GBTA LATAM Business Travel Forum – Bogota is a half-day event designed to train Travel Managers in corporate travel from Colombia. \nBy attending\, you can: \n\nEnhance your corporate travel program knowledge.\nNetwork with local colleagues.\nEngage with event sponsors.\nInvest time in your personal and professional growth.\n\nParticipation is by invitation only. If you’re interested and you work in travel management\, please email latamevents@gbta.org. Expressing interest does not guarantee a spot; a formal registration and confirmation email from GBTA is required. \nSponsor opportunities now available>> \nRegister here
URL:https://gbta.org/event/gbta-latam-business-travel-forum-bogota/
CATEGORIES:LATAM,Summits & Workshops
END:VEVENT
END:VCALENDAR