BEGIN:VCALENDAR
VERSION:2.0
PRODID:-//Global Business Travel Association - GBTA - ECPv6.9.0//NONSGML v1.0//EN
CALSCALE:GREGORIAN
METHOD:PUBLISH
X-WR-CALNAME:Global Business Travel Association - GBTA
X-ORIGINAL-URL:https://gbta.org
X-WR-CALDESC:Events for Global Business Travel Association - GBTA
REFRESH-INTERVAL;VALUE=DURATION:PT1H
X-Robots-Tag:noindex
X-PUBLISHED-TTL:PT1H
BEGIN:VTIMEZONE
TZID:America/New_York
BEGIN:DAYLIGHT
TZOFFSETFROM:-0500
TZOFFSETTO:-0400
TZNAME:EDT
DTSTART:20240310T070000
END:DAYLIGHT
BEGIN:STANDARD
TZOFFSETFROM:-0400
TZOFFSETTO:-0500
TZNAME:EST
DTSTART:20241103T060000
END:STANDARD
END:VTIMEZONE
BEGIN:VEVENT
DTSTART;TZID=America/New_York:20240821T110000
DTEND;TZID=America/New_York:20240821T130000
DTSTAMP:20260422T133159
CREATED:20240814T140406Z
LAST-MODIFIED:20240814T140406Z
UID:17129-1724238000-1724245200@gbta.org
SUMMARY:Exciting updates from GBTA Conventions you won't want to miss!
DESCRIPTION:GBTA Puget Sound August’s General Meeting\nAugust has some exciting updates from our local Airline\, Buyer and GBTA Staff you won’t want to miss! \nIn this meeting you’ll hear from our President\, Michelle Amos with updates on GBTA Education Summit\, June’s GBTA Legislative Session recap\, GBTA Annual Convention recap\, news on our upcoming Education Day on September 19th and information on GBTA WINiT and Ladders programs. \nDirect/Travel Manager-Buyers can join the Direct Forum to collaborate with their colleagues beforehand: Join them between 9am-11am at no charge \nLocation: Hyatt Regency Seattle\n808 Howell St\nSeattle\, WA 98101
URL:https://gbta.org/event/exciting-updates-from-gbta-conventions-you-wont-want-to-miss/
CATEGORIES:North America,US Chapter Event
END:VEVENT
END:VCALENDAR