BEGIN:VCALENDAR
VERSION:2.0
PRODID:-//Global Business Travel Association - GBTA - ECPv6.9.0//NONSGML v1.0//EN
CALSCALE:GREGORIAN
METHOD:PUBLISH
X-WR-CALNAME:Global Business Travel Association - GBTA
X-ORIGINAL-URL:https://gbta.org
X-WR-CALDESC:Events for Global Business Travel Association - GBTA
REFRESH-INTERVAL;VALUE=DURATION:PT1H
X-Robots-Tag:noindex
X-PUBLISHED-TTL:PT1H
BEGIN:VTIMEZONE
TZID:America/New_York
BEGIN:DAYLIGHT
TZOFFSETFROM:-0500
TZOFFSETTO:-0400
TZNAME:EDT
DTSTART:20240310T070000
END:DAYLIGHT
BEGIN:STANDARD
TZOFFSETFROM:-0400
TZOFFSETTO:-0500
TZNAME:EST
DTSTART:20241103T060000
END:STANDARD
END:VTIMEZONE
BEGIN:VEVENT
DTSTART;TZID=America/New_York:20240822T103000
DTEND;TZID=America/New_York:20240822T143000
DTSTAMP:20260422T133201
CREATED:20240806T150445Z
LAST-MODIFIED:20240806T150445Z
UID:17049-1724322600-1724337000@gbta.org
SUMMARY:Secrets & Connections: A Murder Mystery Networking Event
DESCRIPTION:Join us on the Iconic Detroit Princess Riverboat for an exclusive networking day full of suspense and clues! Indulge in a delicious lunch\, enjoy stunning views of the Detroit river and skyline while your intrigue is peaked! Mingle with peers\, solve a thrilling murder mystery\, and enjoy some amazing company! Perfect for making new contacts while engaging in a captivating “whodunit”. Will you crack the case before its too late!? \nGBTA Michigan is pleased to partner with TeamBonding! TeamBonding has been THE leader in corporate team building for 25+ years. With clients like American Express\, Tesla\, LinkedIn\, Google\, Netflix\, Amazon\, Nike\, and Microsoft\, you are in for a real treat! With the Murder Mystery event\, you will find yourself meeting some of the most outlandish and interesting characters you have ever encountered! Clues begin popping up\, motives emerge\, and then…….. \nMURDER!!!!!!!!!!!!!!!!!!!!!!!!!!! \nThat’s when the fun really begins! You will question suspects\, evaluate clues\, and put your best problem solving skills to work! The comedic detective and other characters will keep you laughing every step of the way! The sleuths that crack the case will be handsomely rewarded! Channel your inner Sherlock Holmes or Dr. Watson to help solve this mystery! \nAgenda:\n10:30am: Boarding & Networking \n11:00am: Welcome\, Introductions & Instructions \n11:10am: Sponsor Presentation \n11:20: GBTAMI Business Meeting \n11:45am: Break & Networking \n12:00pm: Cruise & Murder Mystery Begins \n12:30pm: Lunch \n2:00pm: Cruise Ends \n2:30pm: All attendees off the boat \n*Please note that attendees will not be able to board early\, nor will members be able to depart early. The boat will cruise on the river from 12pm – 2pm EST. \nRegistration Information: \nRegistration must be received by 5:00pm on August 12\, 2024. Registrations received after this time will incur a $10 late fee.
URL:https://gbta.org/event/secrets-connections-a-murder-mystery-networking-event/
CATEGORIES:North America,US Chapter Event
END:VEVENT
END:VCALENDAR