BEGIN:VCALENDAR
VERSION:2.0
PRODID:-//Global Business Travel Association - GBTA - ECPv6.9.0//NONSGML v1.0//EN
CALSCALE:GREGORIAN
METHOD:PUBLISH
X-ORIGINAL-URL:https://gbta.org
X-WR-CALDESC:Events for Global Business Travel Association - GBTA
REFRESH-INTERVAL;VALUE=DURATION:PT1H
X-Robots-Tag:noindex
X-PUBLISHED-TTL:PT1H
BEGIN:VTIMEZONE
TZID:America/New_York
BEGIN:DAYLIGHT
TZOFFSETFROM:-0500
TZOFFSETTO:-0400
TZNAME:EDT
DTSTART:20240310T070000
END:DAYLIGHT
BEGIN:STANDARD
TZOFFSETFROM:-0400
TZOFFSETTO:-0500
TZNAME:EST
DTSTART:20241103T060000
END:STANDARD
END:VTIMEZONE
BEGIN:VEVENT
DTSTART;VALUE=DATE:20241118
DTEND;VALUE=DATE:20241120
DTSTAMP:20260421T235347
CREATED:20240514T052958Z
LAST-MODIFIED:20241004T162959Z
UID:15997-1731888000-1732060799@gbta.org
SUMMARY:GBTA Project\, Crew\, and Team Travel Summit 2024 - GTP Credit Approved
DESCRIPTION:Join industry business travel professionals at GBTA’s Project\, Crew\, and Team Travel Summit on November 18th and 19th in Houston\, TX. The summit kicks off with a welcome reception on Monday evening\, followed by a full day of insightful sessions focused on the significant complexities in programs which service large numbers of travelers seamlessly\, often including repetitive schedules or long-term accommodations with little notice and varying degrees of unpredictability. Tailored for specialized buyers and suppliers in sectors such as sports\, entertainment\, emergency management\, non-profit\, energy\, project management\, and consultancy\, this immersive event promises to showcase best practices in managing unique traveler journeys. \n \nForge connections between buyers and suppliers offering non-traditional travel services\, and discover innovative solutions to the multifaceted challenges of operating within a diverse ecosystem. Don’t miss this opportunity to engage\, learn\, and network with other business travel experts who share your same unique challenges and opportunities in the industry. \nWho should attend?\nBuyers managing travel in the following sectors: \n\nSports – Professional\, collegiate\, and amateur teams\nMedia & Entertainment – Concert\, movie\, and dance troupe crews\nNon-Profit – Foundations\, missionary\, purpose-driven travel\, and religious groups\nEmergency Management –Organizations in disaster relief and emergency service\nEnergy\, Resource and Marine (ERM) – Corporations with travel to offshore locations\nConstruction & Utilities – Including building\, electric\, gas\, etc.\nAirline – Flight crews\nProject and Consultancy – Firms with project-based work for extended periods\n\nTravel suppliers in the following areas: \n\nAir Travel\nLodging/Meeting Space/Food and Beverage\nGround Transportation\nMobility Services\nRisk Management/Security\nPayment Providers\nTravel and related technology companies\n\nLearn More
URL:https://gbta.org/event/gbta-project-crew-and-team-travel-summit-2024/
CATEGORIES:Summits & Workshops
END:VEVENT
END:VCALENDAR