BEGIN:VCALENDAR
VERSION:2.0
PRODID:-//Global Business Travel Association - GBTA - ECPv6.9.0//NONSGML v1.0//EN
CALSCALE:GREGORIAN
METHOD:PUBLISH
X-WR-CALNAME:Global Business Travel Association - GBTA
X-ORIGINAL-URL:https://gbta.org
X-WR-CALDESC:Events for Global Business Travel Association - GBTA
REFRESH-INTERVAL;VALUE=DURATION:PT1H
X-Robots-Tag:noindex
X-PUBLISHED-TTL:PT1H
BEGIN:VTIMEZONE
TZID:Europe/London
BEGIN:DAYLIGHT
TZOFFSETFROM:+0000
TZOFFSETTO:+0100
TZNAME:BST
DTSTART:20250330T010000
END:DAYLIGHT
BEGIN:STANDARD
TZOFFSETFROM:+0100
TZOFFSETTO:+0000
TZNAME:GMT
DTSTART:20251026T010000
END:STANDARD
END:VTIMEZONE
BEGIN:VEVENT
DTSTART;TZID=Europe/London:20250121T180000
DTEND;TZID=Europe/London:20250121T200000
DTSTAMP:20260421T142431
CREATED:20241017T160410Z
LAST-MODIFIED:20250102T204141Z
UID:18238-1737482400-1737489600@gbta.org
SUMMARY:The Fundamentals of Business Travel Management
DESCRIPTION:Course session dates: January 21 – February 11 \nTime: Live online classes weekly\, 1:00-3:00PM GMT \nThe Fundamentals of Business Travel Management course is designed for travel buyers and suppliers who want a deeper understanding of the foundational elements of a corporate travel policy. Learners will gain a better understanding of business travel management and make themselves indispensable to the needs of their organization. \nParticipants earn 14 GTP Recertification credits. \nCore Curriculum \n\nOverview of Travel Management\nTravel Policy\nCreating a Service Model\nTravel Technology Basics\nStrategic Sourcing/Vendor Management\n\nPricing \n$295 member/$675 non-member
URL:https://gbta.org/event/the-fundamentals-of-business-travel-management-6/
CATEGORIES:Africa,Europe,France,Italy,Learning,Online Courses & Webinars,Virtual
END:VEVENT
END:VCALENDAR