BEGIN:VCALENDAR
VERSION:2.0
PRODID:-//Global Business Travel Association - GBTA - ECPv6.9.0//NONSGML v1.0//EN
CALSCALE:GREGORIAN
METHOD:PUBLISH
X-WR-CALNAME:Global Business Travel Association - GBTA
X-ORIGINAL-URL:https://gbta.org
X-WR-CALDESC:Events for Global Business Travel Association - GBTA
REFRESH-INTERVAL;VALUE=DURATION:PT1H
X-Robots-Tag:noindex
X-PUBLISHED-TTL:PT1H
BEGIN:VTIMEZONE
TZID:America/New_York
BEGIN:DAYLIGHT
TZOFFSETFROM:-0500
TZOFFSETTO:-0400
TZNAME:EDT
DTSTART:20250309T070000
END:DAYLIGHT
BEGIN:STANDARD
TZOFFSETFROM:-0400
TZOFFSETTO:-0500
TZNAME:EST
DTSTART:20251102T060000
END:STANDARD
END:VTIMEZONE
BEGIN:VEVENT
DTSTART;TZID=America/New_York:20250127T130000
DTEND;TZID=America/New_York:20250128T170000
DTSTAMP:20260421T185535
CREATED:20240606T180111Z
LAST-MODIFIED:20240904T165642Z
UID:16344-1737982800-1738083600@gbta.org
SUMMARY:GBTA US Chapter Leadership Summit 2025
DESCRIPTION:The GBTA is proud to host the 21st Annual GBTA US Chapter Leadership Summit! This event brings almost 200 US Chapter volunteer leaders from across the country for 2 days of learning including professional development\, networking and collaboration to enhance GBTA’s 37 US Chapter organizations. \nAll US Chapter board members and volunteers are welcome and encouraged to attend! \nLearn more
URL:https://gbta.org/event/gbta-us-chapter-leadership-summit-2025/
CATEGORIES:Summits & Workshops,US Chapter Event
END:VEVENT
END:VCALENDAR