BEGIN:VCALENDAR
VERSION:2.0
PRODID:-//Global Business Travel Association - GBTA - ECPv6.9.0//NONSGML v1.0//EN
CALSCALE:GREGORIAN
METHOD:PUBLISH
X-WR-CALNAME:Global Business Travel Association - GBTA
X-ORIGINAL-URL:https://gbta.org
X-WR-CALDESC:Events for Global Business Travel Association - GBTA
REFRESH-INTERVAL;VALUE=DURATION:PT1H
X-Robots-Tag:noindex
X-PUBLISHED-TTL:PT1H
BEGIN:VTIMEZONE
TZID:America/New_York
BEGIN:DAYLIGHT
TZOFFSETFROM:-0500
TZOFFSETTO:-0400
TZNAME:EDT
DTSTART:20250309T070000
END:DAYLIGHT
BEGIN:STANDARD
TZOFFSETFROM:-0400
TZOFFSETTO:-0500
TZNAME:EST
DTSTART:20251102T060000
END:STANDARD
END:VTIMEZONE
BEGIN:VEVENT
DTSTART;TZID=America/New_York:20250401T093000
DTEND;TZID=America/New_York:20250401T140000
DTSTAMP:20260419T225828
CREATED:20250121T181810Z
LAST-MODIFIED:20250403T102657Z
UID:20359-1743499800-1743516000@gbta.org
SUMMARY:Roadshow Plus GBTA Italia
DESCRIPTION:Il Roadshow di GBTA Italia arriva a Milano per la prima volta in un formato potenziato. \nAlle consuete Masterclass tipiche del Roadshow\, verranno affiancati Talk\, Tavole Rotonde e Insight finalizzati ad esplorare in modo smart e pratico le tematiche più attuali di Mice e Business Travel. \nI posti sono attualmente esauriti \nLocation\nIl Roadshow Plus si terrà a pochi passi dalla stazione ferroviaria e della metropolitana di Porta Garibaldi Milano\, presso il:\nMilano Verticale | UNA Esperienze\nVia Carlo de Cristoforis\, 6\, 20124 Milano MI \n\n			\n				\n			\n			\n				\n			\n			\n				\n			\n			\n				\n			\n		\n\nAgenda\nL’agenda è in via di definizione. Gli orari del Roadshow Plus saranno:\n9.30 – Accredito e Welcome\n10.00 – Inizio lavori\n12.45 – Light Lunch \nRelatori\nTra gli altri relatori\, saranno presenti: \nAndrea Giuricin\nCEO @TRA Consulting \nElisabetta Faggiana\nCEO\n@ UNEXPECTED ITALY srl Società Benefit \nDaniele Cassioli\nSciatore Nautico e Dirigente sportivo\n@Real Eyes Sport \nArmando Brunini\nCEO\n@ SEA Aeroporti di Milano \nJames Marchant\nHead of Business Development\n@ easyJet \nEdoardo Priori\nManaging Director\n@ BCD Travel Italy \nCesare Belosi\nGlobal Travel & Expenses Manager\n@ CNH \nLaura Spatola\nHead of Sales\n@ Noleggiare\n \nAccesso\nGBTA Member: ingresso gratuito\nTravel\, Event\, Mobility Manager: ingresso gratuito\nSupplier Sponsor: ingresso gratuito\nSupplier non GBTA Member: 180€ + IVA \nLe registrazioni sono chiuse\, in quanto i posti sono esauriti. \n Il Roadshow Plus è sponsorizzato da:
URL:https://gbta.org/event/roadshow-plus-gbta-italia/
CATEGORIES:Italy,Summits & Workshops
END:VEVENT
END:VCALENDAR