BEGIN:VCALENDAR
VERSION:2.0
PRODID:-//Global Business Travel Association - GBTA - ECPv6.9.0//NONSGML v1.0//EN
CALSCALE:GREGORIAN
METHOD:PUBLISH
X-ORIGINAL-URL:https://gbta.org
X-WR-CALDESC:Events for Global Business Travel Association - GBTA
REFRESH-INTERVAL;VALUE=DURATION:PT1H
X-Robots-Tag:noindex
X-PUBLISHED-TTL:PT1H
BEGIN:VTIMEZONE
TZID:America/New_York
BEGIN:DAYLIGHT
TZOFFSETFROM:-0500
TZOFFSETTO:-0400
TZNAME:EDT
DTSTART:20250309T070000
END:DAYLIGHT
BEGIN:STANDARD
TZOFFSETFROM:-0400
TZOFFSETTO:-0500
TZNAME:EST
DTSTART:20251102T060000
END:STANDARD
END:VTIMEZONE
BEGIN:VEVENT
DTSTART;TZID=America/New_York:20250417T103000
DTEND;TZID=America/New_York:20250417T130000
DTSTAMP:20260419T232307
CREATED:20250409T172529Z
LAST-MODIFIED:20250422T113845Z
UID:22079-1744885800-1744894800@gbta.org
SUMMARY:GBTA DFW April Chapter Meeting - GTP Credit Approved
DESCRIPTION:Please join us April 17\, 2025 for GBTA-DFW Chapter Meeting\nHosted at Embassy Frisco\n7600 John Q Hammons Dr\, Frisco\, TX \n \nGuest Speaker \nHank Benedetti\nChief Commercial Officer\nBlockskye \nThis event will provide valuable perspectives on: \n· Business Travel Outlook: A forward-looking analysis of the industry’s trajectory\, covering anticipated challenges and opportunities for growth. \n· AI: What’s happening today in the marketplace but also in the future. \n· Digitization of the Travel Experience: Explore how digital innovations transform the traveler’s journey\, enhance convenience\, and streamline travel operations. \n· Content Distribution: Gain insights into the evolution of content distribution channels and their impact on travel booking\, pricing\, and traveler choice.
URL:https://gbta.org/event/gbta-dfw-april-chapter-meeting/
CATEGORIES:North America,US Chapter Event
END:VEVENT
BEGIN:VEVENT
DTSTART;TZID=America/New_York:20250417T110000
DTEND;TZID=America/New_York:20250417T120000
DTSTAMP:20260419T232307
CREATED:20250317T162446Z
LAST-MODIFIED:20250325T173236Z
UID:21690-1744887600-1744891200@gbta.org
SUMMARY:GBTA | Georgia April 17 The Past\, Present & Future of Air Travel. A Virtual Program. - GTP Credit Approved
DESCRIPTION:April 17\, 2025\n11am – 12 noon \nVIRTUAL PROGRAM\nThe Past\, Present and Future of Air Travel. \n \nBob Somers\, Senior VP Global Sales at Delta Air Lines will lead us on the journey from the first flight at Kitty Hawk in 2003 to formation of Huff Daland Dusters in March\, 1925. Fast forward 100 years to 2025 as we celebrate this pioneering company we now know as Delta Air Lines.\nFrom its crop duster roots to the modern marvel of today\, Bob will speak on the ever changing aviation industry and what innovations will lead us into the future.\n_______________________________\nBob Somers leads a global sales team focused on maximizing premium revenue and share performance with Delta’s commercial account base including global\, national\, and specialty accounts\, as well as Delta Vacations. \nOur Meeting Sponsor\nALTOUR\nA global travel expert team who provide flexible travel options within policy guidelines. \nREGISTRATION\nThere is no fee for Members or Guests to join our virtual meeting.\nPlease register on this site.\nYour registration confirmation will have the information to register for Microsoft Teams. \nThank You To DELTA AIR LINES\, Our GBTA | Georgia Cornerstone Sponsor\nwho is celebrating their 100th Anniversary of Air Travel.
URL:https://gbta.org/event/gbta-georgia-april-17-the-past-present-future-of-air-travel-a-virtual-program/
CATEGORIES:North America,US Chapter Event
END:VEVENT
END:VCALENDAR