BEGIN:VCALENDAR
VERSION:2.0
PRODID:-//Global Business Travel Association - GBTA - ECPv6.9.0//NONSGML v1.0//EN
CALSCALE:GREGORIAN
METHOD:PUBLISH
X-WR-CALNAME:Global Business Travel Association - GBTA
X-ORIGINAL-URL:https://gbta.org
X-WR-CALDESC:Events for Global Business Travel Association - GBTA
REFRESH-INTERVAL;VALUE=DURATION:PT1H
X-Robots-Tag:noindex
X-PUBLISHED-TTL:PT1H
BEGIN:VTIMEZONE
TZID:America/New_York
BEGIN:DAYLIGHT
TZOFFSETFROM:-0500
TZOFFSETTO:-0400
TZNAME:EDT
DTSTART:20250309T070000
END:DAYLIGHT
BEGIN:STANDARD
TZOFFSETFROM:-0400
TZOFFSETTO:-0500
TZNAME:EST
DTSTART:20251102T060000
END:STANDARD
END:VTIMEZONE
BEGIN:VEVENT
DTSTART;TZID=America/New_York:20250423T120000
DTEND;TZID=America/New_York:20250423T160000
DTSTAMP:20260419T232124
CREATED:20250402T125254Z
LAST-MODIFIED:20250410T154013Z
UID:21934-1745409600-1745424000@gbta.org
SUMMARY:Buyers Benchmarking Day! - GTP Credit Approved
DESCRIPTION:WELCOME TO VEGAS! Well…… Travel Buyers Vegas…… What happens here\, stays here! \nGather with industry peers for a dynamic day of benchmarking\, collaboration\, networking\, and education. Dive into key topics\, share best practices\, and benchmark policies to enhance your travel program. Connect with like-minded professionals\, exchange experiences\, and forge valuable relationships. \n \nLunch will be provided \nAgenda:\n11:45am: Arrival & Setup\n12:00pm: Welcome\, Introductions & Working Lunch\n1:00pm: Group topic discussion\n1:45pm: Micro session breakouts\n2:30pm: Break\n2:45pm: Group topic discussion\n3:30pm: Micro session breakouts\n4:15pm: Key takeaways & best practices\n4:30pm: Wrap Up & Farewell\n*Note: Topics will be added to the agenda upon requests from registration. More details will follow with program specifics.
URL:https://gbta.org/event/buyers-benchmarking-day/
CATEGORIES:North America,US Chapter Event
END:VEVENT
BEGIN:VEVENT
DTSTART;TZID=America/New_York:20250423T173000
DTEND;TZID=America/New_York:20250423T203000
DTSTAMP:20260419T232124
CREATED:20250402T124748Z
LAST-MODIFIED:20250402T124748Z
UID:21927-1745429400-1745440200@gbta.org
SUMMARY:GBTA Las Vegas April 2025 Pickleball & Networking
DESCRIPTION:Chapter/Committee/Partner Name: GBTA Las Vegas \nDescription:\nJoin us for an evening of networking\, pickleball\, and casual fun! Enjoy delicious food and drinks\, connect with fellow professionals\, and take a swing on our reserved court—or unwind with cornhole and giant Jenga. No paddle skills required—just bring your good vibes! \nTicket includes: Pickleball play (optional) and delicious food station. Register early to receive a free drink ticket. The venue offers free on-site parking. \nEvent Speaker: N/A \nLocation of Event: Chicken N Pickle Henderson\n3381 St. Rose Pkwy\, Henderson\, NV 89052 \nPrice: Members: $40 | All Access Members: $50 | Non-Members: $60
URL:https://gbta.org/event/gbta-las-vegas-april-2025-pickleball-networking/
CATEGORIES:North America,US Chapter Event
END:VEVENT
END:VCALENDAR