BEGIN:VCALENDAR
VERSION:2.0
PRODID:-//Global Business Travel Association - GBTA - ECPv6.9.0//NONSGML v1.0//EN
CALSCALE:GREGORIAN
METHOD:PUBLISH
X-ORIGINAL-URL:https://gbta.org
X-WR-CALDESC:Events for Global Business Travel Association - GBTA
REFRESH-INTERVAL;VALUE=DURATION:PT1H
X-Robots-Tag:noindex
X-PUBLISHED-TTL:PT1H
BEGIN:VTIMEZONE
TZID:America/New_York
BEGIN:DAYLIGHT
TZOFFSETFROM:-0500
TZOFFSETTO:-0400
TZNAME:EDT
DTSTART:20250309T070000
END:DAYLIGHT
BEGIN:STANDARD
TZOFFSETFROM:-0400
TZOFFSETTO:-0500
TZNAME:EST
DTSTART:20251102T060000
END:STANDARD
END:VTIMEZONE
BEGIN:VEVENT
DTSTART;VALUE=DATE:20250424
DTEND;VALUE=DATE:20250425
DTSTAMP:20260419T232304
CREATED:20250326T113845Z
LAST-MODIFIED:20250326T170607Z
UID:21819-1745452800-1745539199@gbta.org
SUMMARY:GBTA APAC Sustainability Committee Webinar: What is the Best Process for Sustainability Reporting?
DESCRIPTION:Time: 10:00AM Mumbai | 12:30PM Singapore | 1:30PM Tokyo | 3:30PM Sydney \nJoin us for a comprehensive webinar on Sustainability Reporting tailored for business travel professionals including buyers\, suppliers\, and advisors. This session is designed to help you navigate evolving regulatory requirements and explore practical solutions for robust sustainability reporting. \nGuest speaker Josette Soh\, Partner at Deloitte and leader of the ESG Assurance team in Singapore\, will provide an overview of Sustainability Reporting regulations across Asia Pacific\, followed by panel discussions and a Q&A session. \nKey Takeaways: \n\nUnderstand the latest regulatory requirements for Sustainability Reporting in Asia Pacific.\nLearn best practices and practical solutions for corporate buyers and suppliers.\nGain insights from industry leaders on effective sustainability strategies.\nEngage in a live Q&A session to address your specific challenges.\n\nPrice:\nGBTA Members: Free\nNon- Members: $25 USD
URL:https://gbta.org/event/gbta-apac-sustainability-committee-webinar-what-is-the-best-process-for-sustainability-reporting/
CATEGORIES:APAC
END:VEVENT
BEGIN:VEVENT
DTSTART;TZID=America/New_York:20250424T090000
DTEND;TZID=America/New_York:20250424T150000
DTSTAMP:20260419T232304
CREATED:20250307T172742Z
LAST-MODIFIED:20250422T113917Z
UID:21506-1745485200-1745506800@gbta.org
SUMMARY:Secret Sauce with Suzanne! - GTP Credit Approved
DESCRIPTION:GBTA Michigan \nSpeaker: Suzanne Neufang\, CEO GBTA\nDo you want to know the secret?!\nStep into this high-energy networking session designed to help you unlock and share the unique strengths that fuel your success. Each of us brings a “secret sauce” to the table—whether it’s resilience\, leadership\, creativity\, or empathy—and this is your chance to connect with fellow professionals through storytelling and skill-sharing. \n \nSpeakers: Rita Visser\, Oracle: Greg Wilczek\, Former Head of Travel Google\nPowerful Leader Panel: Secret Sauces of Industry Professionals\nIn this interactive panel discussion\, we will tap into the collective brainpower\, passion\, and diverse experiences of industry professionals who have paved a bold path throughout their career. We will be focusing on leadership and personal journeys that have shaped their success along with insights on how to navigate the challenges and opportunities in today’s business environment.
URL:https://gbta.org/event/secret-sauce-with-suzanne/
CATEGORIES:North America,US Chapter Event
END:VEVENT
BEGIN:VEVENT
DTSTART;TZID=America/New_York:20250424T120000
DTEND;TZID=America/New_York:20250424T140000
DTSTAMP:20260419T232304
CREATED:20250307T172640Z
LAST-MODIFIED:20250307T172640Z
UID:21502-1745496000-1745503200@gbta.org
SUMMARY:Elevating Business Travel- Innovations in Aviation at MCO
DESCRIPTION:GBTA Central & North Florida\nElevating Business Travel- Innovations in Aviation at MCO\nOrlando International Airport\n1 Jeff Fuqua Blvd\nOrlando\, FL 32827
URL:https://gbta.org/event/elevating-business-travel-innovations-in-aviation-at-mco/
CATEGORIES:North America,US Chapter Event
END:VEVENT
BEGIN:VEVENT
DTSTART;TZID=America/New_York:20250424T143000
DTEND;TZID=America/New_York:20250424T170000
DTSTAMP:20260419T232304
CREATED:20250218T161757Z
LAST-MODIFIED:20250410T061519Z
UID:21272-1745505000-1745514000@gbta.org
SUMMARY:Elevating Business Travel- Innovations in Aviation at Orlando International Airport
DESCRIPTION:Join us at Orlando International Airport (MCO) for Elevating Business Travel – Innovations in Aviation\, sponsored by Delta Air Lines & Air France! This engaging session will feature insightful updates from Delta Air Lines\, MCO leadership\, and Visit Orlando\, highlighting the latest innovations shaping air travel and business aviation. \nDiscover cutting-edge advancements in airline strategy\, airport operations\, and travel technology\, along with a market update from Visit Orlando covering key data\, upcoming developments\, and future booking trends that will shape the travel landscape in the months ahead. \nBonus: Air France will be raffling off two roundtrip tickets from MCO to Paris to celebrate the launch of their new direct flight!
URL:https://gbta.org/event/elevating-business-travel-innovations-in-aviation-at-orlando-international-airport/
CATEGORIES:North America,US Chapter Event
END:VEVENT
END:VCALENDAR