BEGIN:VCALENDAR
VERSION:2.0
PRODID:-//Global Business Travel Association - GBTA - ECPv6.9.0//NONSGML v1.0//EN
CALSCALE:GREGORIAN
METHOD:PUBLISH
X-WR-CALNAME:Global Business Travel Association - GBTA
X-ORIGINAL-URL:https://gbta.org
X-WR-CALDESC:Events for Global Business Travel Association - GBTA
REFRESH-INTERVAL;VALUE=DURATION:PT1H
X-Robots-Tag:noindex
X-PUBLISHED-TTL:PT1H
BEGIN:VTIMEZONE
TZID:America/New_York
BEGIN:DAYLIGHT
TZOFFSETFROM:-0500
TZOFFSETTO:-0400
TZNAME:EDT
DTSTART:20250309T070000
END:DAYLIGHT
BEGIN:STANDARD
TZOFFSETFROM:-0400
TZOFFSETTO:-0500
TZNAME:EST
DTSTART:20251102T060000
END:STANDARD
END:VTIMEZONE
BEGIN:VEVENT
DTSTART;TZID=America/New_York:20250515T080000
DTEND;TZID=America/New_York:20250516T160000
DTSTAMP:20260420T005848
CREATED:20250505T102717Z
LAST-MODIFIED:20250512T110804Z
UID:22443-1747296000-1747411200@gbta.org
SUMMARY:Ohio Valley Quarter 2 Meeting - GTP Credit Approved
DESCRIPTION:
URL:https://gbta.org/event/ohio-valley-quarter-2-meeting/
CATEGORIES:North America,US Chapter Event
END:VEVENT
BEGIN:VEVENT
DTSTART;TZID=America/New_York:20250516T090000
DTEND;TZID=America/New_York:20250516T100000
DTSTAMP:20260420T005848
CREATED:20250505T103023Z
LAST-MODIFIED:20250505T103023Z
UID:22452-1747386000-1747389600@gbta.org
SUMMARY:Meet the GBTA Committees
DESCRIPTION:On Friday\, May 16 at 2PM BST/ 9AM ET join GBTA to Meet the Committees. During this call you will learn about the GBTA Committees including upcoming projects and how you\, as a GBTA Member\, can become involved! Register via Zoom.
URL:https://gbta.org/event/meet-the-gbta-committees/
CATEGORIES:Committees,North America
END:VEVENT
END:VCALENDAR