BEGIN:VCALENDAR
VERSION:2.0
PRODID:-//Global Business Travel Association - GBTA - ECPv6.9.0//NONSGML v1.0//EN
CALSCALE:GREGORIAN
METHOD:PUBLISH
X-ORIGINAL-URL:https://gbta.org
X-WR-CALDESC:Events for Global Business Travel Association - GBTA
REFRESH-INTERVAL;VALUE=DURATION:PT1H
X-Robots-Tag:noindex
X-PUBLISHED-TTL:PT1H
BEGIN:VTIMEZONE
TZID:America/New_York
BEGIN:DAYLIGHT
TZOFFSETFROM:-0500
TZOFFSETTO:-0400
TZNAME:EDT
DTSTART:20250309T070000
END:DAYLIGHT
BEGIN:STANDARD
TZOFFSETFROM:-0400
TZOFFSETTO:-0500
TZNAME:EST
DTSTART:20251102T060000
END:STANDARD
END:VTIMEZONE
BEGIN:VEVENT
DTSTART;TZID=America/New_York:20250625T103000
DTEND;TZID=America/New_York:20250625T160000
DTSTAMP:20260420T031148
CREATED:20250609T110533Z
LAST-MODIFIED:20250609T110533Z
UID:23757-1750847400-1750867200@gbta.org
SUMMARY:Parks\, Putts & Food Trucks: GBTA Michigan Summer Social
DESCRIPTION:Join us for a summer day of fun\, food\, and friendly competition at “Parks\, Putts & Food Trucks: GBTA Michigan Summer Social”! This casual networking event is the perfect chance to unwind\, connect with fellow industry professionals\, enjoy exciting yard games like putt putt golf\, and indulge in our sweet and spirited Dessert Duel contest. Don’t miss this opportunity to mix\, mingle\, and make memories under the sun! \nThink your sweet treat has what it takes to win? Enter our Dessert Duel by bringing a homemade or store-bought dessert of your choice. When you arrive\, you’ll be given a number card to place by your dessert—no names allowed! Throughout the event\, attendees will sample the treats and cast their vote for the dessert they think is the best. The dessert with the most votes wins a special prize and ultimate bragging rights! Just remember: keep it secret\, keep it sweet—no telling anyone which dessert is yours! Please ensure if your dessert has any common allergens in them (gluten\, dairy\, etc.) to please list that on the card if possible to assist our allergy sensitive members with navigating the dessert options safest for them. \nEvent Highlights: \nPicnic style networking event\nLED Putt Putt Golf & other yard games\nFood Truck offerings compliments of GBTA Michigan\nDessert Duel competition \nAgenda: \n10:30am: Welcome & Yard Games!\n11:30am: LED Putt Putt Golf opens\n12:00pm: Roaming Hunger “The Wizard” Food Truck opens\n12:30pm: Dessert Duel begins\n2:00pm: Roaming Hunger “The Wizard” Food Truck closes\n2:30pm: Dessert Duel winner announcement\n3:30pm: Final Farewell & Drawings \nVenue Information: \nKensington MetroPark\n4570 Huron River Parkway\nMilford\, MI\n48380\n*Map will be provided to specific picnic area soon* \nParking: \nParking is complimentary for vehicles that have the Metropark Motor Vehicle Entry Pass \nFor vehicles who do not have the Metropark Motor Vehicle Entry Pass\, you will be responsible to pay $10 for the day pass to park. \nFood Information: \nGBTA Michigan is pleased to offer your food truck experience complimentary! Attendees will be able to select one entree and side from the menu. Below is a preview menu of the food truck offerings: \nIn Kind Donations: \nThe Charity Committee will be collecting in kind donations for CECMD! Please see the below list of items requested for donation in new condition: \nPaper Products\nArt Supplies\nCleaning Supplies\nGift Cards: Grocery (Meijer/Kroger)\, Costco/Sam’s Club\, Visa/Mastercard Gift Cards \nWe cannot wait to enjoy a Michigan summer day with everyone! Please note this is an alcohol free event. Please feel free to dress summer casual and enjoy the event!
URL:https://gbta.org/event/parks-putts-food-trucks-gbta-michigan-summer-social/
CATEGORIES:North America,US Chapter Event
END:VEVENT
END:VCALENDAR