BEGIN:VCALENDAR
VERSION:2.0
PRODID:-//Global Business Travel Association - GBTA - ECPv6.9.0//NONSGML v1.0//EN
CALSCALE:GREGORIAN
METHOD:PUBLISH
X-ORIGINAL-URL:https://gbta.org
X-WR-CALDESC:Events for Global Business Travel Association - GBTA
REFRESH-INTERVAL;VALUE=DURATION:PT1H
X-Robots-Tag:noindex
X-PUBLISHED-TTL:PT1H
BEGIN:VTIMEZONE
TZID:America/New_York
BEGIN:DAYLIGHT
TZOFFSETFROM:-0500
TZOFFSETTO:-0400
TZNAME:EDT
DTSTART:20250309T070000
END:DAYLIGHT
BEGIN:STANDARD
TZOFFSETFROM:-0400
TZOFFSETTO:-0500
TZNAME:EST
DTSTART:20251102T060000
END:STANDARD
END:VTIMEZONE
BEGIN:VEVENT
DTSTART;TZID=America/New_York:20250819T110000
DTEND;TZID=America/New_York:20250819T123000
DTSTAMP:20260420T004939
CREATED:20250612T072949Z
LAST-MODIFIED:20250624T100040Z
UID:23821-1755601200-1755606600@gbta.org
SUMMARY:GBTA Georgia August 19 Monthly Meeting Virtual - GTP Credit Approved
DESCRIPTION:GBTA Georgia Virtual Meeting – August 19. 11:00am -12:30pm \nSuzanne Neufang\, CEO Global Business Travel Association\nPresents\nThe Executive Cliff Notes For Today’s Business Travel and Traveler \n \nThe GBTA Convention 2025 in Denver will feature a wide range of important business travel topics and exceptional speakers. \nIf you’re attending\, chances are you won’t be able to catch every session—between meetings\, networking\, and other demands on your time\, it can be hard to take it all in. And if you’re not attending\, you’ll unfortunately miss out on the valuable insights these sessions provide. \nBut whether or not you’re going to the Convention\, your GBTA Georgia Chapter offers a great opportunity to enhance your personal and professional travel knowledge right here at home. \nWe are thrilled to welcome Suzanne Neufang\, CEO of GBTA who will provide a high-level overview of today’s business travel landscape and traveler trends. It’s the best of the best of all the Convention Speakers\, Topics and Experiences. \nAfter this personal “Cliff Notes” version of the Convention\, we’ll open the floor for an in-depth Q&A session – to allow time to explore topics that matter most to you and your organization. \nWe are sure you are getting caught up on work (or maybe from vacation)\, so August 19 is VIRTUAL … a short educational respite in your day… and it’s complimentary.\nProgram Sponsor: FOX World Travel\nGBTA Georgia Cornerstone Sponsor: Delta Air Lines
URL:https://gbta.org/event/gbta-georgia-august-19-monthly-meeting-virtual/
CATEGORIES:North America,US Chapter Event
END:VEVENT
END:VCALENDAR