BEGIN:VCALENDAR
VERSION:2.0
PRODID:-//Global Business Travel Association - GBTA - ECPv6.9.0//NONSGML v1.0//EN
CALSCALE:GREGORIAN
METHOD:PUBLISH
X-WR-CALNAME:Global Business Travel Association - GBTA
X-ORIGINAL-URL:https://gbta.org
X-WR-CALDESC:Events for Global Business Travel Association - GBTA
REFRESH-INTERVAL;VALUE=DURATION:PT1H
X-Robots-Tag:noindex
X-PUBLISHED-TTL:PT1H
BEGIN:VTIMEZONE
TZID:America/New_York
BEGIN:DAYLIGHT
TZOFFSETFROM:-0500
TZOFFSETTO:-0400
TZNAME:EDT
DTSTART:20250309T070000
END:DAYLIGHT
BEGIN:STANDARD
TZOFFSETFROM:-0400
TZOFFSETTO:-0500
TZNAME:EST
DTSTART:20251102T060000
END:STANDARD
TZID:Asia/Singapore
BEGIN:STANDARD
TZOFFSETFROM:+0800
TZOFFSETTO:+0800
TZNAME:+08
DTSTART:20250101T000000
END:STANDARD
END:VTIMEZONE
BEGIN:VEVENT
DTSTART;VALUE=DATE:20250918
DTEND;VALUE=DATE:20250920
DTSTAMP:20260419T213327
CREATED:20250624T101104Z
LAST-MODIFIED:20250624T101104Z
UID:24094-1758153600-1758326399@gbta.org
SUMMARY:All Florida Education Day 2025
DESCRIPTION:All-Florida Education Day Hosted by Tampa Bay September 18 – 19
URL:https://gbta.org/event/all-florida-education-day-2025/
CATEGORIES:North America,US Chapter Event
END:VEVENT
BEGIN:VEVENT
DTSTART;TZID=America/New_York:20250918T103000
DTEND;TZID=America/New_York:20250918T130000
DTSTAMP:20260419T213327
CREATED:20250827T141109Z
LAST-MODIFIED:20250910T142225Z
UID:25622-1758191400-1758200400@gbta.org
SUMMARY:GBTA DFW Chapter September 2025 Meeting - GTP Credit Approved
DESCRIPTION:GBTA DFW Chapter\nSeptember 2025 Monthly Meeting\nGet the latest information on all the updates at DFW International!\nDean Ahmad\, DFW Airport\, VP Parking & Transportation\n$50 Members\, $70 Guest of Member\, $50 All Access Members & $75.00 Non-Guest Member
URL:https://gbta.org/event/gbta-dfw-chapter-september-2025-meeting/
CATEGORIES:North America,US Chapter Event
END:VEVENT
BEGIN:VEVENT
DTSTART;TZID=Asia/Singapore:20250918T130000
DTEND;TZID=Asia/Singapore:20250918T153000
DTSTAMP:20260419T213327
CREATED:20250610T145533Z
LAST-MODIFIED:20250610T145847Z
UID:23789-1758200400-1758209400@gbta.org
SUMMARY:The Fundamentals of Business Travel Management
DESCRIPTION:Course dates: September 18 – October 9 \nTimes: 4 Weekly Live Classes | 1:00PM – 3:00PM GMT+8 \nThe Fundamentals of Business Travel Management course is designed for travel buyers and suppliers who want a deeper understanding of the foundational elements of a corporate travel policy. Learners will gain a better understanding of business travel management and make themselves indispensable to the needs of their organization. \nParticipants earn 14 GTP Recertification credits. \nCore Curriculum \n\nOverview of Travel Management\nTravel Policy\nCreating a Service Model\nTravel Technology Basics\nStrategic Sourcing/Vendor Management\n\nRegister by September 11
URL:https://gbta.org/event/the-fundamentals-of-business-travel-management-9/
CATEGORIES:APAC,Learning,Virtual
END:VEVENT
BEGIN:VEVENT
DTSTART;TZID=America/New_York:20250918T170000
DTEND;TZID=America/New_York:20250919T183000
DTSTAMP:20260419T213327
CREATED:20250616T083734Z
LAST-MODIFIED:20250616T153325Z
UID:23906-1758214800-1758306600@gbta.org
SUMMARY:All-Florida Education Day Hosted by Tampa Bay September 18 – 19
DESCRIPTION:Get ready for All Florida Education Day\, hosted by the Tampa Bay Chapter Clearwater! \nThe event kicks off with a cocktail reception on September 18th\, followed by a full-day education session on September 19th starting at 8 AM. \nWe’re excited to welcome you to the new JW Marriott Clearwater Beach Resort and Spa this September. Come network\, educate\, and learn with your fellow GBTA Floridians!
URL:https://gbta.org/event/all-florida-education-day-hosted-by-tampa-bay/
CATEGORIES:North America,US Chapter Event
END:VEVENT
BEGIN:VEVENT
DTSTART;TZID=America/New_York:20250918T183000
DTEND;TZID=America/New_York:20250919T170000
DTSTAMP:20260419T213327
CREATED:20250806T140432Z
LAST-MODIFIED:20250822T160754Z
UID:25260-1758220200-1758301200@gbta.org
SUMMARY:All-Florida Education Day - GTP Credit Approved
DESCRIPTION:Chapter: All-Florida Education Day Hosted by Tampa Bay September 18 – 19.\nDescription: It’s time again for our All Florida Education Day and the Tampa Bay Chapter is taking it to Clearwater! That’s right\, the new JW Marriott Clearwater Beach Resort and Spa is welcoming us this September as we network\, educate and learn with our fellow GBTA Floridians! \n \nThe event kicks off with a cocktail reception on September 18th\, followed by a full-day education session on September 19th starting at 8 AM.\nEvent Speakers Include: Ilana Goldenberg\, Senior Manager\, Marketing Tampa Intl Airport\,\nTheo Szymanski\, Head of Global Enterprise Sales\, Skylink\nSuzanne Neufang\, GBTA CEO\nBrittany Duhon Area Director of Business Travel and Luxury Sales Consortia\, The Adolphus\, The Alida\nAndy Menkes\, Founder and CEO\, Partnership Travel Consulting\nLocation: JW Marriott Clearwater Beach Resort and Spa 691 S. Gulfview Blvd\nClearwater Beach\, FL 33767\nPrice: $125.00 Member Ticket\n$175.00 after 5:00 pm September 17\n$95.00 Earlybird rate before July 18\n$175.00 Non-Member Ticket\n$125.00 Earlybird rate before July 18\n$50.00 Opening Reception Only (Not Attending Full Program)
URL:https://gbta.org/event/all-florida-education-day/
CATEGORIES:North America,US Chapter Event
END:VEVENT
END:VCALENDAR