BEGIN:VCALENDAR
VERSION:2.0
PRODID:-//Global Business Travel Association - GBTA - ECPv6.9.0//NONSGML v1.0//EN
CALSCALE:GREGORIAN
METHOD:PUBLISH
X-ORIGINAL-URL:https://gbta.org
X-WR-CALDESC:Events for Global Business Travel Association - GBTA
REFRESH-INTERVAL;VALUE=DURATION:PT1H
X-Robots-Tag:noindex
X-PUBLISHED-TTL:PT1H
BEGIN:VTIMEZONE
TZID:America/New_York
BEGIN:DAYLIGHT
TZOFFSETFROM:-0500
TZOFFSETTO:-0400
TZNAME:EDT
DTSTART:20250309T070000
END:DAYLIGHT
BEGIN:STANDARD
TZOFFSETFROM:-0400
TZOFFSETTO:-0500
TZNAME:EST
DTSTART:20251102T060000
END:STANDARD
END:VTIMEZONE
BEGIN:VEVENT
DTSTART;TZID=America/New_York:20251120T080000
DTEND;TZID=America/New_York:20251120T170000
DTSTAMP:20260419T174803
CREATED:20250317T103044Z
LAST-MODIFIED:20250806T144634Z
UID:21675-1763625600-1763658000@gbta.org
SUMMARY:GBTA Canada Business Travel Forums - Toronto
DESCRIPTION:The GBTA Canada Business Travel Forums are meticulously crafted as a one-day education and networking program replicated in 3 Canadian cities:  Calgary\, Montreal and Toronto.  The program is strategically structured to deliver invaluable knowledge\, profound insights\, and cutting-edge education to an industry grappling with escalating costs\, supply chain uncertainties\, and multifaceted disruptions. \nAlongside the invaluable educational content\, the Forums offer curated networking opportunities\, with ample time allocated for meaningful buyer interaction within the Supplier Showcase. By participating in these enriching workshops\, our esteemed sponsors gain a crucial platform to highlight their commitment to evolving in alongside the ever-changing landscape of travel programs and traveler expectations. \nLearn More
URL:https://gbta.org/event/gbta-canada-business-travel-forums-toronto-2/
CATEGORIES:Canada
END:VEVENT
END:VCALENDAR