BEGIN:VCALENDAR
VERSION:2.0
PRODID:-//Global Business Travel Association - GBTA - ECPv6.9.0//NONSGML v1.0//EN
CALSCALE:GREGORIAN
METHOD:PUBLISH
X-ORIGINAL-URL:https://gbta.org
X-WR-CALDESC:Events for Global Business Travel Association - GBTA
REFRESH-INTERVAL;VALUE=DURATION:PT1H
X-Robots-Tag:noindex
X-PUBLISHED-TTL:PT1H
BEGIN:VTIMEZONE
TZID:America/New_York
BEGIN:DAYLIGHT
TZOFFSETFROM:-0500
TZOFFSETTO:-0400
TZNAME:EDT
DTSTART:20260308T070000
END:DAYLIGHT
BEGIN:STANDARD
TZOFFSETFROM:-0400
TZOFFSETTO:-0500
TZNAME:EST
DTSTART:20261101T060000
END:STANDARD
TZID:Asia/Shanghai
BEGIN:STANDARD
TZOFFSETFROM:+0800
TZOFFSETTO:+0800
TZNAME:CST
DTSTART:20260101T000000
END:STANDARD
END:VTIMEZONE
BEGIN:VEVENT
DTSTART;TZID=America/New_York:20260225T120000
DTEND;TZID=America/New_York:20260225T180000
DTSTAMP:20260419T192910
CREATED:20251124T182912Z
LAST-MODIFIED:20251124T182912Z
UID:27625-1772020800-1772042400@gbta.org
SUMMARY:GBTA Convention Supplier Summit 2026
DESCRIPTION:GBTA’s Convention Supplier Summit in Chicago is your go-to event to kick-start 2026. Don’t miss this opportunity to unite with industry colleagues and learn about what GBTA has in store for 2026\, how you can maximize your GBTA experience\, and plan and prepare for the GBTA Convention 2026. This is an excellent opportunity to explore and create customized opportunities to enhance visibility of your company while learning best practices and tips to position you for Convention success. \nStart Date and Time: February 25\, 2026 12:00 PM; CT\nEnd Date and Time: February 25\, 2026 6:00 PM; CT \nLocation:\nMcCormick Place Convention Center\n2301 S. Dr. Martin Luther King Jr. (MLK) Drive \nVenue Information: Meeting Room name to be confirmed via email to registered attendees \nPricing & RSVP: Complimentary for Suppliers \nLearn More
URL:https://gbta.org/event/gbta-convention-supplier-summit-2026/
CATEGORIES:Conference/Convention,Summits & Workshops
END:VEVENT
BEGIN:VEVENT
DTSTART;TZID=Asia/Shanghai:20260225T130000
DTEND;TZID=Asia/Shanghai:20260225T140000
DTSTAMP:20260419T192910
CREATED:20251008T094809Z
LAST-MODIFIED:20260205T160717Z
UID:26578-1772024400-1772028000@gbta.org
SUMMARY:The Year Ahead: 2026 Global Risk Outlook presented by the GBTA Risk Committee (APAC) - GTP Credit Approved
DESCRIPTION:Join GBTA’s Global Risk Committee for The Year Ahead: 2026 Global Risk Outlook\, a must-attend live webinar designed to equip organizations with the knowledge they need to navigate the emerging risks of 2026. As we move into the new year\, businesses must be proactive in identifying and preparing for key risks to ensure traveler safety and organizational success. Our panel of experts will provide an in-depth review of the emerging risks and how they expect to shape safety and security for global business travelers throughout the year. Tune in for this vital look ahead and enter 2026 with confidence!
URL:https://gbta.org/event/the-year-ahead-2026-global-risk-outlook-presented-by-the-gbta-risk-committee-apac/
CATEGORIES:APAC,Committees
END:VEVENT
END:VCALENDAR