BEGIN:VCALENDAR
VERSION:2.0
PRODID:-//Global Business Travel Association - GBTA - ECPv6.9.0//NONSGML v1.0//EN
CALSCALE:GREGORIAN
METHOD:PUBLISH
X-WR-CALNAME:Global Business Travel Association - GBTA
X-ORIGINAL-URL:https://gbta.org
X-WR-CALDESC:Events for Global Business Travel Association - GBTA
REFRESH-INTERVAL;VALUE=DURATION:PT1H
X-Robots-Tag:noindex
X-PUBLISHED-TTL:PT1H
BEGIN:VTIMEZONE
TZID:America/New_York
BEGIN:DAYLIGHT
TZOFFSETFROM:-0500
TZOFFSETTO:-0400
TZNAME:EDT
DTSTART:20260308T070000
END:DAYLIGHT
BEGIN:STANDARD
TZOFFSETFROM:-0400
TZOFFSETTO:-0500
TZNAME:EST
DTSTART:20261101T060000
END:STANDARD
END:VTIMEZONE
BEGIN:VEVENT
DTSTART;TZID=America/New_York:20260326T110000
DTEND;TZID=America/New_York:20260326T120000
DTSTAMP:20260419T204848
CREATED:20260227T170745Z
LAST-MODIFIED:20260306T171711Z
UID:30152-1774522800-1774526400@gbta.org
SUMMARY:The State of Corporate Travel Policies: What a Modern Policy Looks Like in the U.S. and Canada
DESCRIPTION:In business travel\, there is nothing more universal than a corporate travel policy. Based on GBTA research\, this webinar will discuss the current state of corporate travel policies. Topics include: \n1. Travel policy evolution: How are travel policies changing? Are policies becoming stricter or more lenient over time? How long is a typical travel policy? How can AI help educate employees about travel policies?\n2. Risk management: Why is a well-designed travel policy important to keep employees safe? What risk-related considerations are important when designing a corporate travel policy?\n3. Air travel: How often is business class allowed? In which scenarios is it allowed? How often are employees allowed to purchase various air-related add-ons and amenities—such as seat selection and early boarding—at company expense? Do travel programs have “lowest logical fare” (LLF) and “advance purchase” policies?\n4. Meals: Do travel policies outline per diems or spending limits for employee meals?\nDo companies set their own meal rates – or use a government benchmark?\n5. How do travel policies address hotel stays? Do they outline per diems or spending limits – or do they advise employees to purchase “reasonably” or “moderately” priced accommodations? \nSpeaker Info: \n\nDr John Rose\nChief Risk Advisor\nALTOUR \n\nMichael J. Boult\nSVP Chief Commercial Officer\nALTOUR \nStart Date and Time: 3.26.26 11am EST\nEnd Date and Time: 3.26.26 12pm EST\nLocation: Webinar
URL:https://gbta.org/event/the-state-of-corporate-travel-policies-what-a-modern-policy-looks-like-in-the-u-s-and-canada/
LOCATION:Virtual
CATEGORIES:Online Courses & Webinars,Virtual
END:VEVENT
BEGIN:VEVENT
DTSTART;TZID=America/New_York:20260326T160000
DTEND;TZID=America/New_York:20260326T180000
DTSTAMP:20260419T204848
CREATED:20260306T181518Z
LAST-MODIFIED:20260306T181518Z
UID:30566-1774540800-1774548000@gbta.org
SUMMARY:GBTA South Carolina Networking Mixer
DESCRIPTION:Comp Networking Mixer for Members in Charleston\, SC at the Bella Grace Hotel.
URL:https://gbta.org/event/gbta-south-carolina-networking-mixer-2/
CATEGORIES:North America,US Chapter Event
END:VEVENT
END:VCALENDAR