BEGIN:VCALENDAR
VERSION:2.0
PRODID:-//Global Business Travel Association - GBTA - ECPv6.9.0//NONSGML v1.0//EN
CALSCALE:GREGORIAN
METHOD:PUBLISH
X-ORIGINAL-URL:https://gbta.org
X-WR-CALDESC:Events for Global Business Travel Association - GBTA
REFRESH-INTERVAL;VALUE=DURATION:PT1H
X-Robots-Tag:noindex
X-PUBLISHED-TTL:PT1H
BEGIN:VTIMEZONE
TZID:Australia/Melbourne
BEGIN:STANDARD
TZOFFSETFROM:+1100
TZOFFSETTO:+1000
TZNAME:AEST
DTSTART:20260404T160000
END:STANDARD
BEGIN:DAYLIGHT
TZOFFSETFROM:+1000
TZOFFSETTO:+1100
TZNAME:AEDT
DTSTART:20261003T160000
END:DAYLIGHT
TZID:America/New_York
BEGIN:DAYLIGHT
TZOFFSETFROM:-0500
TZOFFSETTO:-0400
TZNAME:EDT
DTSTART:20260308T070000
END:DAYLIGHT
BEGIN:STANDARD
TZOFFSETFROM:-0400
TZOFFSETTO:-0500
TZNAME:EST
DTSTART:20261101T060000
END:STANDARD
TZID:Asia/Shanghai
BEGIN:STANDARD
TZOFFSETFROM:+0800
TZOFFSETTO:+0800
TZNAME:CST
DTSTART:20260101T000000
END:STANDARD
END:VTIMEZONE
BEGIN:VEVENT
DTSTART;TZID=Australia/Melbourne:20260311T090000
DTEND;TZID=Australia/Melbourne:20260311T123000
DTSTAMP:20260421T154522
CREATED:20260210T153621Z
LAST-MODIFIED:20260210T154330Z
UID:29474-1773219600-1773232200@gbta.org
SUMMARY:GBTA APAC Business Travel Forum 2026 | Brisbane
DESCRIPTION:The GBTA APAC Business Travel Forums returns in 2026 with four regionally focused events across Brisbane\, Perth\, Melbourne and Auckland\, running from March to April.    \nAbout the GBTA APAC Business Travel Forum 2026 | Brisbane\nThe GBTA APAC Business Travel Forum 2026 in Brisbane will focus on sustainable travel\, workforce mobility and corporate growth in Queensland\, reflecting the region’s strong resources\, infrastructure and decentralised workforce base. Sessions will explore how organisations are balancing cost\, sustainability and duty of care as travel demand continues to normalise.  \nKey sessions:  \n\nDesigning and delivering sustainable travel programs \nSustainable Travel Panel: Decarbonising Aviation & Travel: Can Australia rise to the forefront? 
URL:https://gbta.org/event/gbta-apac-business-travel-forum-2026-brisbane/
LOCATION:Sofitel Brisbane Central\, 249 Turbot Street\, Brisbane\, QLD 4000\, Australia
CATEGORIES:APAC
END:VEVENT
BEGIN:VEVENT
DTSTART;TZID=America/New_York:20260318T140000
DTEND;TZID=America/New_York:20260318T170000
DTSTAMP:20260421T154522
CREATED:20260210T154101Z
LAST-MODIFIED:20260210T154327Z
UID:29480-1773842400-1773853200@gbta.org
SUMMARY:GBTA APAC Business Travel Forum 2026 | Perth
DESCRIPTION:The GBTA APAC Business Travel Forums returns in 2026 with four regionally focused events across Brisbane\, Perth\, Melbourne and Auckland\, running from March to April.    \nAbout the GBTA APAC Business Travel Forum 2026 | Perth\nThe GBTA APAC Business Travel Forum 2026 in Perth will feature content that has been tailored to address air access and long-haul dependency\, with a strong emphasis on aviation capacity\, mining and energy travel requirements\, and duty of care for remote and regional travel. The program reflects Western Australia’s unique reliance on air connectivity and global supply chains.  \nKey sessions:  \n\nAI & Travel Procurement Keynote: Reinventing Program Management in the Age of Intelligent Automation \nAir Capacity Outlook Panel: The Future of Connectivity for WA Business and FIFO Travellers 
URL:https://gbta.org/event/gbta-apac-business-travel-forum-2026-perth/
LOCATION:Pan Pacific\, Perth\, 207 Adelaide Terrace\, Perth\, Western Australia 6000\, Australia
CATEGORIES:APAC
END:VEVENT
BEGIN:VEVENT
DTSTART;TZID=Asia/Shanghai:20260325T130000
DTEND;TZID=Asia/Shanghai:20260325T140000
DTSTAMP:20260421T154522
CREATED:20260210T152907Z
LAST-MODIFIED:20260306T171651Z
UID:29467-1774443600-1774447200@gbta.org
SUMMARY:The Road Ahead: The Global Sustainable Business Travel Outlook and what this means for APAC
DESCRIPTION:Join speakers as they explore the Global sustainable business travel outlook\, covering predictions and forecasts on regulations\, trends and insights and what this means for the APAC market. We’ll cover off sustainability\, SAF\, GHG reporting\, technology\, data analytics\, certifications\, compliance and climate. \nBrought to you by APAC Sustainability Committee
URL:https://gbta.org/event/the-road-ahead-the-global-sustainable-business-travel-outlook-and-what-this-means-for-apac/
LOCATION:Virtual
CATEGORIES:APAC,Online Courses & Webinars,Virtual
END:VEVENT
END:VCALENDAR