BEGIN:VCALENDAR
VERSION:2.0
PRODID:-//Global Business Travel Association - GBTA - ECPv6.9.0//NONSGML v1.0//EN
CALSCALE:GREGORIAN
METHOD:PUBLISH
X-ORIGINAL-URL:https://gbta.org
X-WR-CALDESC:Events for Global Business Travel Association - GBTA
REFRESH-INTERVAL;VALUE=DURATION:PT1H
X-Robots-Tag:noindex
X-PUBLISHED-TTL:PT1H
BEGIN:VTIMEZONE
TZID:Asia/Singapore
BEGIN:STANDARD
TZOFFSETFROM:+0800
TZOFFSETTO:+0800
TZNAME:+08
DTSTART:20250101T000000
END:STANDARD
TZID:America/New_York
BEGIN:DAYLIGHT
TZOFFSETFROM:-0500
TZOFFSETTO:-0400
TZNAME:EDT
DTSTART:20230312T070000
END:DAYLIGHT
BEGIN:STANDARD
TZOFFSETFROM:-0400
TZOFFSETTO:-0500
TZNAME:EST
DTSTART:20231105T060000
END:STANDARD
BEGIN:DAYLIGHT
TZOFFSETFROM:-0500
TZOFFSETTO:-0400
TZNAME:EDT
DTSTART:20240310T070000
END:DAYLIGHT
BEGIN:STANDARD
TZOFFSETFROM:-0400
TZOFFSETTO:-0500
TZNAME:EST
DTSTART:20241103T060000
END:STANDARD
BEGIN:DAYLIGHT
TZOFFSETFROM:-0500
TZOFFSETTO:-0400
TZNAME:EDT
DTSTART:20250309T070000
END:DAYLIGHT
BEGIN:STANDARD
TZOFFSETFROM:-0400
TZOFFSETTO:-0500
TZNAME:EST
DTSTART:20251102T060000
END:STANDARD
END:VTIMEZONE
BEGIN:VEVENT
DTSTART;TZID=Asia/Singapore:20250918T130000
DTEND;TZID=Asia/Singapore:20250918T153000
DTSTAMP:20260421T154700
CREATED:20250610T145533Z
LAST-MODIFIED:20250610T145847Z
UID:23789-1758200400-1758209400@gbta.org
SUMMARY:The Fundamentals of Business Travel Management
DESCRIPTION:Course dates: September 18 – October 9 \nTimes: 4 Weekly Live Classes | 1:00PM – 3:00PM GMT+8 \nThe Fundamentals of Business Travel Management course is designed for travel buyers and suppliers who want a deeper understanding of the foundational elements of a corporate travel policy. Learners will gain a better understanding of business travel management and make themselves indispensable to the needs of their organization. \nParticipants earn 14 GTP Recertification credits. \nCore Curriculum \n\nOverview of Travel Management\nTravel Policy\nCreating a Service Model\nTravel Technology Basics\nStrategic Sourcing/Vendor Management\n\nRegister by September 11
URL:https://gbta.org/event/the-fundamentals-of-business-travel-management-9/
CATEGORIES:APAC,Learning,Virtual
END:VEVENT
BEGIN:VEVENT
DTSTART;TZID=America/New_York:20250829T130000
DTEND;TZID=America/New_York:20250829T140000
DTSTAMP:20260421T154700
CREATED:20250722T142451Z
LAST-MODIFIED:20250827T142015Z
UID:24919-1756472400-1756476000@gbta.org
SUMMARY:Travel Risk Management 101 Part 2: Health and Security Travel Risks
DESCRIPTION:10:30 AM Mumbai | 1:00 PM Singapore | 2:00 PM Tokyo | 3:00 PM Sydney \nTraveling for work can be exciting\, but it also comes with real risks — from unexpected illnesses and accidents to political unrest or legal trouble in unfamiliar places. This session is all about helping organizations keep their people safe when they travel. \nWe’ll walk through the different types of health and security risks travelers might face\, and how companies can prepare for them. Think of it as a practical guide to doing the right thing — not just because it’s legally expected\, but because it’s the smart and responsible thing to do. \nYou’ll hear about: \n\nThe biggest travel risks today — from disease outbreaks and crime to cyber threats and natural disasters\nWhat “duty of care” really means for employers\nHow to prepare before\, during\, and after a trip\nWhat to do when things go wrong — like a medical emergency or border issues\n The role of tech — from tracking tools to real-time alerts\nReal-life scenarios based on common challenges travelers face\n\nBy the end\, you’ll have a clear checklist to help you build or improve your organization’s travel risk management plan – so your people stay safe\, supported\, and confident wherever they go. \nGBTA Members: FREE\nNon Members: $25 USD
URL:https://gbta.org/event/travel-risk-management-101-part-2-health-and-security-travel-risks/
CATEGORIES:APAC,Online Courses & Webinars
END:VEVENT
BEGIN:VEVENT
DTSTART;TZID=America/New_York:20250731T133000
DTEND;TZID=America/New_York:20250731T160000
DTSTAMP:20260421T154700
CREATED:20250423T072013Z
LAST-MODIFIED:20250731T172008Z
UID:22298-1753968600-1753977600@gbta.org
SUMMARY:GBTA Australia Business Travel Forums 2025 | Melbourne
DESCRIPTION:The GBTA Australia Business Travel Forums are a must-attend event for corporate travel professionals\, offering an afternoon of expert insights\, dynamic discussions\, and valuable networking. Taking place in Brisbane on June 10\, 2025\, and Melbourne on July 31\, 2025\, these forums bring together industry leaders to explore the most pressing challenges and opportunities in Australian business travel. \nWith engaging panels on the corporate travel outlook\, AI and technology’s impact on travel programs\, and the ongoing complexities of air travel\, attendees will gain actionable insights to navigate the evolving landscape. A dedicated Buyer Roundtable provides a platform for candid discussions on shared challenges\, while structured networking sessions create opportunities for meaningful connections. \nJoin us in Brisbane or Melbourne for a forward-thinking program designed to equip you with the knowledge\, strategies\, and industry relationships needed to stay ahead in corporate travel. \nVenue:\nThe Langham\, Melbourne\n1 Southgate Ave\nSouthbank\nVIC 3006 \nLearn More & Register
URL:https://gbta.org/event/gbta-australia-business-travel-forums-2025-melbourne/
CATEGORIES:APAC
END:VEVENT
BEGIN:VEVENT
DTSTART;VALUE=DATE:20250610
DTEND;VALUE=DATE:20250611
DTSTAMP:20260421T154700
CREATED:20250407T162606Z
LAST-MODIFIED:20250423T072413Z
UID:22014-1749513600-1749599999@gbta.org
SUMMARY:GBTA Australia Business Travel Forums 2025 | Brisbane
DESCRIPTION:The GBTA Australia Business Travel Forums are a must-attend event for corporate travel professionals\, offering an afternoon of expert insights\, dynamic discussions\, and valuable networking. Taking place in Brisbane on June 10\, 2025\, and Melbourne on July 31\, 2025\, these forums bring together industry leaders to explore the most pressing challenges and opportunities in Australian business travel. \nWith engaging panels on the corporate travel outlook\, AI and technology’s impact on travel programs\, and the ongoing complexities of air travel\, attendees will gain actionable insights to navigate the evolving landscape. A dedicated Buyer Roundtable provides a platform for candid discussions on shared challenges\, while structured networking sessions create opportunities for meaningful connections. \nJoin us in Brisbane or Melbourne for a forward-thinking program designed to equip you with the knowledge\, strategies\, and industry relationships needed to stay ahead in corporate travel. \nVenue:\nSofitel Brisbane Central\n249 Turbot St\nBrisbane City\nQLD 4000 \nLearn More & Register
URL:https://gbta.org/event/gbta-australia-business-travel-forums-2025-brisbane/
CATEGORIES:APAC
END:VEVENT
BEGIN:VEVENT
DTSTART;VALUE=DATE:20250527
DTEND;VALUE=DATE:20250529
DTSTAMP:20260421T154700
CREATED:20240917T050443Z
LAST-MODIFIED:20241112T150624Z
UID:17541-1748304000-1748476799@gbta.org
SUMMARY:GBTA APAC Conference 2025 | Singapore
DESCRIPTION:Join us in Singapore for the 2025 GBTA APAC Conference at the Raffles City Convention Centre on May 27-28 as we bring together the business travel community again to network\, learn from industry experts\, and benefit from peer-to-peer education. \nWe’re thrilled to announce that the GBTA APAC Conference will be co-located with the Worldwide ERC® Regional Summit in Singapore for the 3rd year running. Maximize your experience by exploring synergies between business travel and workforce mobility and benefit from the learning and networking opportunities from both Conferences. \nConnect with peers\, expand your network\, and be inspired by innovative content that will enhance your understanding of industry issues and accelerate your career. Mark your calendar and register now for the biggest gathering of the global business travel industry in APAC! \nLearn more
URL:https://gbta.org/event/gbta-apac-conference-2025-singapore/
CATEGORIES:APAC,Conference/Convention
ATTACH;FMTTYPE=image/png:https://gbta.org/wp-content/uploads/raffles600.png
END:VEVENT
BEGIN:VEVENT
DTSTART;VALUE=DATE:20250424
DTEND;VALUE=DATE:20250425
DTSTAMP:20260421T154700
CREATED:20250326T113845Z
LAST-MODIFIED:20250326T170607Z
UID:21819-1745452800-1745539199@gbta.org
SUMMARY:GBTA APAC Sustainability Committee Webinar: What is the Best Process for Sustainability Reporting?
DESCRIPTION:Time: 10:00AM Mumbai | 12:30PM Singapore | 1:30PM Tokyo | 3:30PM Sydney \nJoin us for a comprehensive webinar on Sustainability Reporting tailored for business travel professionals including buyers\, suppliers\, and advisors. This session is designed to help you navigate evolving regulatory requirements and explore practical solutions for robust sustainability reporting. \nGuest speaker Josette Soh\, Partner at Deloitte and leader of the ESG Assurance team in Singapore\, will provide an overview of Sustainability Reporting regulations across Asia Pacific\, followed by panel discussions and a Q&A session. \nKey Takeaways: \n\nUnderstand the latest regulatory requirements for Sustainability Reporting in Asia Pacific.\nLearn best practices and practical solutions for corporate buyers and suppliers.\nGain insights from industry leaders on effective sustainability strategies.\nEngage in a live Q&A session to address your specific challenges.\n\nPrice:\nGBTA Members: Free\nNon- Members: $25 USD
URL:https://gbta.org/event/gbta-apac-sustainability-committee-webinar-what-is-the-best-process-for-sustainability-reporting/
CATEGORIES:APAC
END:VEVENT
BEGIN:VEVENT
DTSTART;TZID=America/New_York:20250402T180000
DTEND;TZID=America/New_York:20250402T203000
DTSTAMP:20260421T154700
CREATED:20250305T160043Z
LAST-MODIFIED:20250313T125046Z
UID:21468-1743616800-1743625800@gbta.org
SUMMARY:GBTA APAC Networking Cocktail Event in Singapore
DESCRIPTION:When: Wednesday\, April 2 @ 6:00 PM – 8:30 PM\nWhere: The Robertson House by the Crest Collection\, Singapore\nCharge: info (see event information) \nGBTA invites you to an exclusive evening of networking with a distinguished group of business travel professionals. This event offers a unique opportunity to connect with industry peers\, foster valuable relationships with both buyers and suppliers\, and gain insights into the latest GBTA Poll results through a brief presentation. \nEnjoy an elegant setting with drinks and canapés as you engage in meaningful conversations. Register early\, as spaces are limited.
URL:https://gbta.org/event/gbta-apac-networking-cocktail-event-in-singapore/
CATEGORIES:APAC
END:VEVENT
BEGIN:VEVENT
DTSTART;TZID=America/New_York:20250402T080000
DTEND;TZID=America/New_York:20250402T170000
DTSTAMP:20260421T154700
CREATED:20241017T161348Z
LAST-MODIFIED:20250102T205502Z
UID:18259-1743580800-1743613200@gbta.org
SUMMARY:Global Travel Professional (GTP®) Certification
DESCRIPTION:Testing Window: May\, 2025\nApplication deadline: April 2\, 2025 \nThe Global Travel Professional® Certification program is designed for individuals who are committed to leadership and knowledge of business travel. The program establishes the business travel industry standard of knowledge and positions Certification holders as credible and influential leaders. The GTP® Certification Program brings three key benefits to those who earn their certification: \n\nAdvance your career in business travel management\nShowcase your career commitment to peers and leadership team\nAmplify your ability to contribute to strategic business objectives\n\nThe GTP® examination consists of 125 multiple-choice questions and is offered in English only. \nPricing\n$350 member/$450 non-member
URL:https://gbta.org/event/global-travel-professional-gtp-certification/
CATEGORIES:Africa,APAC,Canada,Europe,France,Italy,LATAM,Learning,North America,Online Courses & Webinars,Virtual
END:VEVENT
BEGIN:VEVENT
DTSTART;TZID=America/New_York:20250221T080000
DTEND;TZID=America/New_York:20250221T110000
DTSTAMP:20260421T154700
CREATED:20250130T055734Z
LAST-MODIFIED:20250130T055734Z
UID:20719-1740124800-1740135600@gbta.org
SUMMARY:Volunteer Beach CleanUp in Singapore
DESCRIPTION:Hosted by the GBTA APAC Sustainability Committee \nWe are excited to announce that the GBTA APAC Sustainability Committee is organizing a beach cleaning event at Pasir Ris Park in Singapore. This meaningful activity will take place on Friday\, 21st February 2025\, from 8:00 AM to 11:00 AM. \nThis is a wonderful opportunity for you and your colleagues to come together and take action against the climate and environmental challenges facing our planet today. By joining us\, you’ll be contributing to the preservation of our natural spaces and showcasing the power of collective responsibility. \nIf there are changes due to rain or thunderstorms\, we’ll adjust our plans and keep everyone informed closer to the date. \nWe look forward to welcoming you to Pasir Ris Park for this impactful event!
URL:https://gbta.org/event/volunteer-beach-cleanup-in-singapore/
CATEGORIES:APAC,Sustainability
END:VEVENT
BEGIN:VEVENT
DTSTART;VALUE=DATE:20250219
DTEND;VALUE=DATE:20250220
DTSTAMP:20260421T154700
CREATED:20250121T182201Z
LAST-MODIFIED:20250122T041800Z
UID:20363-1739923200-1740009599@gbta.org
SUMMARY:The Year Ahead: 2025 Global Risk Outlook by the GBTA APAC Risk Committee
DESCRIPTION:Join GBTA APAC’s Risk Committee for The Year Ahead: 2025 Global Risk Outlook\, a must-attend live webinar designed to equip organizations with the knowledge they need to navigate the emerging risks of 2025. \nNow more than ever\, businesses must be proactive in identifying and preparing for key risks to ensure traveler safety and organizational success. Our panel of experts will provide an in-depth review of the emerging risks and how they expect to shape safety and security for global business travelers throughout the year. Tune in for this vital look ahead and enter 2025 with confidence! \nWednesday\, 19 February 2025​\n9:30 AM Mumbai | 12:00 Noon Singapore | 1:00 PM Tokyo | 3:00 PM Sydney \nCharge:\nGBTA Member Exclusive Benefit: Complimentary\nNon-Member: $25
URL:https://gbta.org/event/the-year-ahead-2025-global-risk-outlook-by-the-gbta-apac-risk-committee/
CATEGORIES:APAC,Online Courses & Webinars
END:VEVENT
BEGIN:VEVENT
DTSTART;TZID=America/New_York:20241212T120000
DTEND;TZID=America/New_York:20241212T130000
DTSTAMP:20260421T154700
CREATED:20241025T081750Z
LAST-MODIFIED:20241025T081750Z
UID:18459-1734004800-1734008400@gbta.org
SUMMARY:Travel Risk Management 101 for Travel Managers and Procurement Professionals
DESCRIPTION:Join Us for the APAC GBTA Risk Committee inaugural webinar \nDate: 12 December 2024\nTime: 9:30AM Mumbai | 12NOON Singapore | 1PM Tokyo | 3PM Sydney\nLocation: Webinar\nCharge: FREE for GBTA members\, $25 for non- members \nAre you a Travel Manager or Procurement Professional looking to enhance your travel risk management strategies? Don’t miss this interactive session and the opportunity to gain invaluable insights from industry experts. \nWhat You’ll Learn: \n\nUnderstanding Travel Risk Management: Grasp the fundamentals and importance of managing travel risks effectively.\nBest Practices: Discover practical tips and strategies to ensure the safety and wellbeing of your travellers.\nCase Studies: Learn from real-world examples and success stories.\n\nWhy Attend? \n\nExpert Speakers: Hear from leading experts in travel risk management.\nActionable Insights: Walk away with practical knowledge you can apply immediately.\n\nSpeakers/ panellists \n\nNoriko Takasaki\, Security Director – International SOS\nDr Criag Stark\, Medical Director – Crisis 24\nVictor Lim\, Global Travel Leader – IKEA (Ingka Group)\nDean Fowles\, Unit Head – Travel – Asian Development Bank\n\nModerator: \n\n Rebecca Malzacher\, Co-Chair – APAC GBTA Risk Committee\n\nDon’t miss out on this essential session! Equip yourself with the knowledge and tools to navigate the complexities of travel risk management.
URL:https://gbta.org/event/travel-risk-management-101-for-travel-managers-and-procurement-professionals/
CATEGORIES:APAC,Online Courses & Webinars
END:VEVENT
BEGIN:VEVENT
DTSTART;TZID=America/New_York:20241113T080000
DTEND;TZID=America/New_York:20241113T170000
DTSTAMP:20260421T154700
CREATED:20240917T050633Z
LAST-MODIFIED:20241017T033553Z
UID:17546-1731484800-1731517200@gbta.org
SUMMARY:Australia Corporate Travel Summit (ACTS)
DESCRIPTION:GBTA is partnering with the Australia Corporate Travel Summit (ACTS) – which will take place at the Sheraton Grand on the Park in Sydney\, on November 13\, 2024.  We are pleased to share that all GBTA members will receive an exclusive 40% discount to attend – please contact enquiries@gbta.org for more information. \nWhy Attend?\nJoin us at the Australia Corporate Travel Summit for unparalleled networking\, knowledge sharing\, and collaboration in the corporate travel industry. You’ll have the opportunity to explore the latest trends\, innovations\, and gain valuable insights from top C-level speakers. Discover more here. \nTime & Location\n13 Nov 2024\, 8:00 am – 5:30 pm\nSheraton Grand Sydney Hyde Park\, 161 Elizabeth St\, Sydney NSW 2000\, Australia \nLearn more
URL:https://gbta.org/event/australia-corporate-travel-summit-acts/
CATEGORIES:APAC,Conference/Convention
END:VEVENT
BEGIN:VEVENT
DTSTART;TZID=America/New_York:20240905T130000
DTEND;TZID=America/New_York:20240926T150000
DTSTAMP:20260421T154700
CREATED:20240517T163212Z
LAST-MODIFIED:20240820T103621Z
UID:16068-1725541200-1727362800@gbta.org
SUMMARY:The Fundamentals of Business Travel Management™
DESCRIPTION:The Fundamentals of Business Travel Management course is designed for travel buyers and suppliers who want a deeper understanding of the foundational elements of a corporate travel policy. Learners will gain a better understanding of business travel management and make themselves indispensable to the needs of their organization. \nParticipants earn 14 GTP Recertification credits. \nCore Curriculum \n\nOverview of Travel Management\nTravel Policy\nCreating a Service Model\nTravel Technology Basics\nStrategic Sourcing/Vendor Management\n\n Pricing\n$99 member/$675 non-member \nMore information >>
URL:https://gbta.org/event/the-fundamentals-of-business-travel-management-4/
CATEGORIES:APAC,Learning
END:VEVENT
BEGIN:VEVENT
DTSTART;TZID=America/New_York:20240830T140000
DTEND;TZID=America/New_York:20240830T150000
DTSTAMP:20260421T154700
CREATED:20240815T154324Z
LAST-MODIFIED:20240820T120945Z
UID:17147-1725026400-1725030000@gbta.org
SUMMARY:Your Hotel Program Essentials – Building the Foundation of a Corporate Hotel Program
DESCRIPTION:Join the upcoming GBTA APAC webinar on Friday 30 August from 2:00 PM – 3:00 PM SGT\, and hear from our panel of experts as they delve into the fundamental aspects of establishing and optimizing a corporate hotel program that aligns with your organization’s strategic objectives. Whether you are in the process of developing your first structured program or seeking to enhance an existing one\, this session will provide invaluable insights and practical strategies. \nWebinar Panellists:\nEwan Lim\nAsia Pacific Travel & Meetings (SG\, MY PH & ID) Operations Lead\nJohnson & Johnson Travel & Meeting Services \nKaren Goh\nSenior Director of Sales | South East Asia\nBWH Hotels \nVibhav Singh\nPrincipal Consultant – Commercial Lead\, Amex GBT Consulting\nAmerican Express Global Business Travel \nTse Ling Soong\nCorporate Travel Manager\, Asia Oceania\nShell Singapore \nThis webinar will look at: \n\nAssessing your current hotel program\nUnderstand the current environment and industry trends\nHow are your corporate hotels being sourced\nTracking: performance\, leakages\, weaknesses\, opportunities\nHotel program content tiering: what does it really mean to your program?\n\nPrice: FREE for GBTA Members\, $25USD for Non-members \nIf you have any questions or need assistance with your registration\, please contact the team at Enquiries@gbta.org.
URL:https://gbta.org/event/your-hotel-program-essentials-building-the-foundation-of-a-corporate-hotel-program/
CATEGORIES:APAC,Online Courses & Webinars,Virtual
END:VEVENT
BEGIN:VEVENT
DTSTART;VALUE=DATE:20240514
DTEND;VALUE=DATE:20240516
DTSTAMP:20260421T154700
CREATED:20231027T134553Z
LAST-MODIFIED:20240417T150545Z
UID:13278-1715644800-1715817599@gbta.org
SUMMARY:GBTA APAC Conference 2024 – Singapore
DESCRIPTION:Join us in Singapore for the 2024 GBTA APAC Conference at the Raffles City Convention Centre on May 14-15 as we bring together the business travel community again to network\, learn from industry experts\, and benefit from peer-to-peer education. The two-day business travel conference\, has been curated by regional thought leaders as well as leveraging on the GBTA global insights. This event will focus on the key issues and opportunities the business travel industry today. \nWe’re thrilled to announce that the GBTA APAC Conference will be co-located with the Worldwide ERC® APAC Regional Summit Singapore for the 2nd year running.  Maximize your experience by exploring synergies between business travel and workforce mobility and benefit from the learning and networking opportunities from both Conferences. \nConnect with peers\, expand your network\, and be inspired by innovative content that will enhance your understanding of industry issues and accelerate your career.  Mark your calendar and register now for the biggest gathering of the global business travel industry in APAC! \n \n 
URL:https://gbta.org/event/gbta-apac-conference-2024-singapore/
CATEGORIES:APAC
ATTACH;FMTTYPE=image/png:https://gbta.org/wp-content/uploads/apacbanner-1.png
END:VEVENT
BEGIN:VEVENT
DTSTART;TZID=America/New_York:20230919T110000
DTEND;TZID=America/New_York:20230920T160000
DTSTAMP:20260421T154700
CREATED:20230505T053241Z
LAST-MODIFIED:20230626T125836Z
UID:10527-1695121200-1695225600@gbta.org
SUMMARY:GBTA APAC Conference 2023 – Singapore
DESCRIPTION:  \n \nThe GBTA APAC Conference 2023 – Singapore will bring together the business travel community to network\, learn from industry experts and benefit from peer-to- peer education. Tapping into the global insights of GBTA and curated by regional thought leaders this event will focus on the key issues and opportunities facing the business travel industry today. \nJoin us to connect with peers; expand your network; be inspired by innovative content and gain insights and knowledge to enhance your understanding of industry issues and accelerate your career. \nFor the first time\, this event will be co-located with the Worldwide ERC® APAC Regional Summit Singapore offering all delegates the valuable opportunity to benefit from learning and networking opportunities provided by both organizations. \n \nRegister today for this important gathering of the global business travel industry and be a part of the journey.
URL:https://gbta.org/event/gbta-apac-conference-2023-singapore/
CATEGORIES:APAC,Conference/Convention
ATTACH;FMTTYPE=image/png:https://gbta.org/wp-content/uploads/apacbannerhbta.png
END:VEVENT
BEGIN:VEVENT
DTSTART;VALUE=DATE:20230720
DTEND;VALUE=DATE:20230721
DTSTAMP:20260421T154700
CREATED:20230704T124850Z
LAST-MODIFIED:20230711T165809Z
UID:11747-1689811200-1689897599@gbta.org
SUMMARY:The Sustainability Journey from a Hotel Perspective
DESCRIPTION:Brought to by the GBTA Sustainability Committee APAC \nJoin us for a fireside chat with John Timson\, VP of Sustainability and Safety with Accor Hotels. Diving into topics such as distinguishing common practice sustainable initiatives from best-practice\, the biggest challenges the hotel industry is facing in the race to net-zero\, and the types of discussions buyers should be having with their hotel partners. John will be interviewed by Jaclynn Kidd\, Practice Lead\, Responsible Travel Consulting\, CWT Solutions Group. \nWhen: 20th July\, Thursday\, 2pm SGT / 8am CET\nCharge: Complimentary
URL:https://gbta.org/event/the-sustainability-journey-from-a-hotel-perspective/
CATEGORIES:APAC,Online Courses & Webinars,Sustainability
END:VEVENT
BEGIN:VEVENT
DTSTART;VALUE=DATE:20230315
DTEND;VALUE=DATE:20230316
DTSTAMP:20260421T154700
CREATED:20230209T144656Z
LAST-MODIFIED:20230315T034135Z
UID:9127-1678838400-1678924799@gbta.org
SUMMARY:Carbon Emissions reporting: What’s best practice?
DESCRIPTION:Webinar Date: \nWednesday March 15 at 1.30pm SGT \nYou can’t manage what you can’t measure.  Data is the foundation to any good business strategy\, and in the world of Sustainability carbon emissions is king.  Without industry standards in place\, it’s hard to know what is best-practice when it comes to carbon emissions calculations and reporting metrics.  Come join us unravel the various reporting methodologies and best practices for carbon reporting that can lead to a more sustainable travel strategy. \nSpeakers:\nJackie Kidd\, Practice Lead\, Responsible Travel Consulting\, CWT Solutions Group \n  \n  \n  \nBrenda Quek | Asia-Pacific Travel\, Meetings and Events Program and Engagement Leader | Supply Chain Services – Travel\, Meetings and Events Services\, Ernst & Young Solutions LLP \n  \n  \nCatherine Logan\, Regional Vice President EMEA & APAC\, GBTA \n  \n  \n  \nBen Wedlock\, SVP Global Sales\, Asia Pacific\, BCD Travel \n  \n  \n  \nBrought to you by the GBTA APAC Sustainability Committee \nYou can’t manage what you can’t measure.  Data is the foundation to any good business strategy\, and in the world of Sustainability carbon emissions is king.  Without industry standards in place\, it’s hard to know what is best-practice when it comes to carbon emissions calculations and reporting metrics.  Come join us unravel the various reporting methodologies and best practices for carbon reporting that can lead to a more sustainable travel strategy.
URL:https://gbta.org/event/carbon-emissions-reporting-whats-best-practice/
LOCATION:Virtual
CATEGORIES:APAC,Online Courses & Webinars,Sustainability,Virtual
END:VEVENT
END:VCALENDAR