BEGIN:VCALENDAR
VERSION:2.0
PRODID:-//Global Business Travel Association - GBTA - ECPv6.9.0//NONSGML v1.0//EN
CALSCALE:GREGORIAN
METHOD:PUBLISH
X-WR-CALNAME:Global Business Travel Association - GBTA
X-ORIGINAL-URL:https://gbta.org
X-WR-CALDESC:Events for Global Business Travel Association - GBTA
REFRESH-INTERVAL;VALUE=DURATION:PT1H
X-Robots-Tag:noindex
X-PUBLISHED-TTL:PT1H
BEGIN:VTIMEZONE
TZID:Asia/Shanghai
BEGIN:STANDARD
TZOFFSETFROM:+0800
TZOFFSETTO:+0800
TZNAME:CST
DTSTART:20260101T000000
END:STANDARD
TZID:Asia/Kolkata
BEGIN:STANDARD
TZOFFSETFROM:+0530
TZOFFSETTO:+0530
TZNAME:IST
DTSTART:20260101T000000
END:STANDARD
TZID:America/New_York
BEGIN:DAYLIGHT
TZOFFSETFROM:-0500
TZOFFSETTO:-0400
TZNAME:EDT
DTSTART:20260308T070000
END:DAYLIGHT
BEGIN:STANDARD
TZOFFSETFROM:-0400
TZOFFSETTO:-0500
TZNAME:EST
DTSTART:20261101T060000
END:STANDARD
END:VTIMEZONE
BEGIN:VEVENT
DTSTART;TZID=Asia/Shanghai:20260325T130000
DTEND;TZID=Asia/Shanghai:20260325T140000
DTSTAMP:20260422T185914
CREATED:20260210T152907Z
LAST-MODIFIED:20260306T171651Z
UID:29467-1774443600-1774447200@gbta.org
SUMMARY:The Road Ahead: The Global Sustainable Business Travel Outlook and what this means for APAC
DESCRIPTION:Join speakers as they explore the Global sustainable business travel outlook\, covering predictions and forecasts on regulations\, trends and insights and what this means for the APAC market. We’ll cover off sustainability\, SAF\, GHG reporting\, technology\, data analytics\, certifications\, compliance and climate. \nBrought to you by APAC Sustainability Committee
URL:https://gbta.org/event/the-road-ahead-the-global-sustainable-business-travel-outlook-and-what-this-means-for-apac/
LOCATION:Virtual
CATEGORIES:APAC,Online Courses & Webinars,Virtual
END:VEVENT
BEGIN:VEVENT
DTSTART;TZID=Asia/Kolkata:20260408T120000
DTEND;TZID=Asia/Kolkata:20260408T180000
DTSTAMP:20260422T185914
CREATED:20260227T151204Z
LAST-MODIFIED:20260302T155140Z
UID:30096-1775649600-1775671200@gbta.org
SUMMARY:The GBTA APAC Business Travel Forum 2026 | Hyderabad
DESCRIPTION:The GBTA APAC Business Travel Forums are a must-attend event for business travel professionals\, offering a full day of expert insights\, dynamic discussions\, and valuable networking followed by an evening gala dinner. \nTaking place in Hyderabad on April 8\, 2026\, and Pune on September 11\, 2026\, these forums bring together industry leaders to explore the most pressing challenges and opportunities in India business travel. \nDetails:\nWednesday\, April 8\, 2026\n12:00 Noon – 6:00 PM followed by an evening cocktail reception and gala dinner 6:00PM–9:00 PM.
URL:https://gbta.org/event/the-gbta-apac-business-travel-forum-2026-hyderabad/
LOCATION:Sheraton Hyderabad Hotel\, 15/1\, Nanakramguda Rd\, Financial District\, Hyderabad\, IN-TG 500032\, India
CATEGORIES:APAC
END:VEVENT
BEGIN:VEVENT
DTSTART;TZID=America/New_York:20260422T090000
DTEND;TZID=America/New_York:20260422T123000
DTSTAMP:20260422T185914
CREATED:20260210T154538Z
LAST-MODIFIED:20260210T154538Z
UID:29485-1776848400-1776861000@gbta.org
SUMMARY:GBTA APAC Business Travel Forum 2026 | Melbourne
DESCRIPTION:The GBTA APAC Business Travel Forums returns in 2026 with four regionally focused events across Brisbane\, Perth\, Melbourne and Auckland\, running from March to April.    \nAbout the GBTA APAC Business Travel Forum 2026 | Melbourne  \nThe GBTA APAC Business Travel Forum 2026 in Melbourne will examine data-driven travel programs\, ESG accountability and complex travel ecosystems\, aligned with the city’s concentration of large corporates\, professional services firms and multinational headquarters. Discussions will focus on using analytics\, AI and supplier partnerships to optimise spend\, compliance and sustainability outcomes.  \nKey sessions:  \n\nSustainability & Carbon-Aware Travel Policy \nDuty of Care in a Complex World 
URL:https://gbta.org/event/gbta-apac-business-travel-forum-2026-melbourne/
LOCATION:Sofitel Melbourne on Collins\, 25 Collins Street\, Melbourne\, Victoria\, Australia
CATEGORIES:APAC
END:VEVENT
BEGIN:VEVENT
DTSTART;TZID=America/New_York:20260430T090000
DTEND;TZID=America/New_York:20260430T123000
DTSTAMP:20260422T185914
CREATED:20260210T154914Z
LAST-MODIFIED:20260210T154914Z
UID:29492-1777539600-1777552200@gbta.org
SUMMARY:GBTA APAC Business Travel Forum 2026 | Auckland
DESCRIPTION:The GBTA APAC Business Travel Forums returns in 2026 with four regionally focused events across Brisbane\, Perth\, Melbourne and Auckland\, running from March to April.    \nAbout the GBTA APAC Business Travel Forum 2026 | Auckland  \nThe GBTA APAC Business Travel Forum 2026 in Auckland will explore trans-Tasman and Asia-Pacific connectivity\, integrated travel and meetings strategy\, and technology adoption\, recognising New Zealand’s gateway role and growing convergence between corporate travel and business events. Content has been shaped to reflect the needs of both multinational and mid-market organisations.  \nKey sessions:  \n\nTechnology Adoption & Supplier Innovation  \nIntegration of Travel + Meetings & Events 
URL:https://gbta.org/event/gbta-apac-business-travel-forum-2026-auckland/
LOCATION:Sofitel Auckland\, 21 Viaduct Harbour Avenue\, Auckland 1010\, New Zealand
CATEGORIES:APAC
END:VEVENT
BEGIN:VEVENT
DTSTART;VALUE=DATE:20260512
DTEND;VALUE=DATE:20260514
DTSTAMP:20260422T185915
CREATED:20250724T073916Z
LAST-MODIFIED:20260312T123840Z
UID:24975-1778544000-1778716799@gbta.org
SUMMARY:GBTA APAC Conference 2026 | Singapore
DESCRIPTION:GBTA APAC Conference 2026 | Singapore \nJoin us in Singapore for the 2026 GBTA APAC Conference at Marina Bay Sands on May 12-13\, where the business travel community will come together to connect\, learn\, and grow. Curated by regional thought leaders and backed by GBTA’s global insights\, this two-day event will tackle the most pressing issues and emerging opportunities shaping the business travel landscape in Asia Pacific. \nDate: May 12-13\, 2026\nLocation: Marina Bay Sands\, Singapore \n 
URL:https://gbta.org/event/gbta-apac-conference-2026-singapore/
CATEGORIES:APAC,Conference/Convention
ATTACH;FMTTYPE=image/webp:https://gbta.org/wp-content/uploads/apacbanner-600.webp
END:VEVENT
BEGIN:VEVENT
DTSTART;VALUE=DATE:20260619
DTEND;VALUE=DATE:20260620
DTSTAMP:20260422T185915
CREATED:20260312T124716Z
LAST-MODIFIED:20260312T124716Z
UID:30675-1781827200-1781913599@gbta.org
SUMMARY:GBTA India Summit 2026
DESCRIPTION:Step Into India’s Flagship Gathering for Business Travel Leaders: GBTA India Summit 2026 is the must-attend one-day experience for business leaders and decision-makers shaping corporate travel across India and beyond. With high-impact insights\, forward-thinking conversations\, and unmatched networking opportunities\, it builds on the exceptional success of the inaugural 2025 Summit\, a sold-out gathering that received excellent feedback from attendees.
URL:https://gbta.org/event/gbta-india-summit-2026/
CATEGORIES:APAC,Summits & Workshops
END:VEVENT
BEGIN:VEVENT
DTSTART;VALUE=DATE:20260911
DTEND;VALUE=DATE:20260912
DTSTAMP:20260422T185915
CREATED:20260312T125939Z
LAST-MODIFIED:20260312T125939Z
UID:30695-1789084800-1789171199@gbta.org
SUMMARY:GBTA APAC Business Travel Forums 2026 | Pune
DESCRIPTION:The GBTA APAC Business Travel Forums are a must-attend event for business travel professionals\, offering a full day of expert insights\, dynamic discussions\, and valuable networking followed by an evening gala dinner. \nTaking place in Hyderabad on April 8\, 2026\, and Pune on September 11\, 2026\, these forums bring together industry leaders to explore the most pressing challenges and opportunities in India business travel. \nJoin us in Hyderabad and Pune\, for a forward-thinking program designed to equip you with the knowledge\, strategies\, and industry relationships needed to stay ahead in corporate travel.
URL:https://gbta.org/event/gbta-apac-business-travel-forums-2026-pune/
CATEGORIES:APAC
END:VEVENT
END:VCALENDAR