BEGIN:VCALENDAR
VERSION:2.0
PRODID:-//Global Business Travel Association - GBTA - ECPv6.9.0//NONSGML v1.0//EN
CALSCALE:GREGORIAN
METHOD:PUBLISH
X-ORIGINAL-URL:https://gbta.org
X-WR-CALDESC:Events for Global Business Travel Association - GBTA
REFRESH-INTERVAL;VALUE=DURATION:PT1H
X-Robots-Tag:noindex
X-PUBLISHED-TTL:PT1H
BEGIN:VTIMEZONE
TZID:America/New_York
BEGIN:DAYLIGHT
TZOFFSETFROM:-0500
TZOFFSETTO:-0400
TZNAME:EDT
DTSTART:20240310T070000
END:DAYLIGHT
BEGIN:STANDARD
TZOFFSETFROM:-0400
TZOFFSETTO:-0500
TZNAME:EST
DTSTART:20241103T060000
END:STANDARD
END:VTIMEZONE
BEGIN:VEVENT
DTSTART;TZID=America/New_York:20241022T080000
DTEND;TZID=America/New_York:20241022T180000
DTSTAMP:20260422T015105
CREATED:20240712T072559Z
LAST-MODIFIED:20240712T072724Z
UID:16818-1729584000-1729620000@gbta.org
SUMMARY:GBTA Canada Business Travel Forums – Montreal
DESCRIPTION:The GBTA Canada Business Travel Forums are meticulously crafted as a one-day education and networking program replicated in four Canadian cities:  Vancouver\, Calgary\, Montreal and Toronto.  The program is strategically structured to deliver invaluable knowledge\, profound insights\, and cutting-edge education to an industry grappling with escalating costs\, supply chain uncertainties\, and multifaceted disruptions. \nAlongside the invaluable educational content\, the Forums offer curated networking opportunities\, with ample time allocated for meaningful buyer interaction within the Supplier Showcase. By participating in these enriching workshops\, our esteemed sponsors gain a crucial platform to highlight their commitment to evolving in alongside the ever-changing landscape of travel programs and traveler expectations. \nLocation:\nMarriott Montréal Chateau Champlain\n1100-1170 Rue De la Gauchetière O\,\nMontréal\, QC H3B 4C9\nTel: 514-878-9000\nHotel Website \nSponsor opportunities now available>> \nLearn More>>
URL:https://gbta.org/event/gbta-canada-business-travel-forums-montreal/
CATEGORIES:Canada,Summits & Workshops
END:VEVENT
END:VCALENDAR