BEGIN:VCALENDAR
VERSION:2.0
PRODID:-//Global Business Travel Association - GBTA - ECPv6.9.0//NONSGML v1.0//EN
CALSCALE:GREGORIAN
METHOD:PUBLISH
X-ORIGINAL-URL:https://gbta.org
X-WR-CALDESC:Events for Global Business Travel Association - GBTA
REFRESH-INTERVAL;VALUE=DURATION:PT1H
X-Robots-Tag:noindex
X-PUBLISHED-TTL:PT1H
BEGIN:VTIMEZONE
TZID:America/New_York
BEGIN:DAYLIGHT
TZOFFSETFROM:-0500
TZOFFSETTO:-0400
TZNAME:EDT
DTSTART:20250309T070000
END:DAYLIGHT
BEGIN:STANDARD
TZOFFSETFROM:-0400
TZOFFSETTO:-0500
TZNAME:EST
DTSTART:20251102T060000
END:STANDARD
END:VTIMEZONE
BEGIN:VEVENT
DTSTART;TZID=America/New_York:20250327T140000
DTEND;TZID=America/New_York:20250327T150000
DTSTAMP:20260421T173821
CREATED:20250114T120226Z
LAST-MODIFIED:20250114T152429Z
UID:20072-1743084000-1743087600@gbta.org
SUMMARY:Regional Direct Talks - GBTA Canada
DESCRIPTION:GBTA Canada recognizes the importance of peer networking and best practice sharing. Unique to GBTA Canada are our Regional Direct (buyer) Talks. Direct (buyer) members gather virtually\, to exchange ideas\, and understand market dynamics. \nUpcoming 2025 Direct Talk:\n• March 27\, 2025 @ 2PM EST\n• May 29\, 2025 @ 2PM EST\n• September 25\, 2025 @ 2PM EST\n• December 4\, 2025 @ 2PM EST\nTo learn more and register for the GBTA Canada Direct Talks\, please contact: Canada@gbta.org
URL:https://gbta.org/event/regional-direct-talks-gbta-canada/
CATEGORIES:Canada,North America,Online Courses & Webinars
END:VEVENT
END:VCALENDAR