BEGIN:VCALENDAR
VERSION:2.0
PRODID:-//Global Business Travel Association - GBTA - ECPv6.9.0//NONSGML v1.0//EN
CALSCALE:GREGORIAN
METHOD:PUBLISH
X-ORIGINAL-URL:https://gbta.org
X-WR-CALDESC:Events for Global Business Travel Association - GBTA
REFRESH-INTERVAL;VALUE=DURATION:PT1H
X-Robots-Tag:noindex
X-PUBLISHED-TTL:PT1H
BEGIN:VTIMEZONE
TZID:America/New_York
BEGIN:DAYLIGHT
TZOFFSETFROM:-0500
TZOFFSETTO:-0400
TZNAME:EDT
DTSTART:20260308T070000
END:DAYLIGHT
BEGIN:STANDARD
TZOFFSETFROM:-0400
TZOFFSETTO:-0500
TZNAME:EST
DTSTART:20261101T060000
END:STANDARD
END:VTIMEZONE
BEGIN:VEVENT
DTSTART;VALUE=DATE:20260611
DTEND;VALUE=DATE:20260612
DTSTAMP:20260420T195857
CREATED:20260409T131120Z
LAST-MODIFIED:20260409T131120Z
UID:31189-1781136000-1781222399@gbta.org
SUMMARY:Buyer Only Exchange | Ottawa
DESCRIPTION:The GBTA Canada Buyer Only Exchange is a series of half-day\, hosted events designed exclusively for corporate travel buyers.\n\nHeld in Winnipeg\, Edmonton\, and Ottawa these sessions provide a dynamic environment for education\, peer networking\, and knowledge sharing. More than just learning opportunities\, these events foster a sense of community—encouraging open dialogue\, shared challenges\, and fresh ideas to help buyers of all company sizes thrive in today’s business travel landscape. \nJune 11\nAC Hotel Ottawa Downtown\n201 Rideau Street\, Ottawa\nON\, K1N 5X8
URL:https://gbta.org/event/buyer-only-exchange-ottawa/
LOCATION:AC Hotel Ottawa Downtown\, 201 Rideau Street\, Ottawa\, ON\, K1N 5X8\, Canada
CATEGORIES:Canada
END:VEVENT
END:VCALENDAR