BEGIN:VCALENDAR
VERSION:2.0
PRODID:-//Global Business Travel Association - GBTA - ECPv6.9.0//NONSGML v1.0//EN
CALSCALE:GREGORIAN
METHOD:PUBLISH
X-WR-CALNAME:Global Business Travel Association - GBTA
X-ORIGINAL-URL:https://gbta.org
X-WR-CALDESC:Events for Global Business Travel Association - GBTA
REFRESH-INTERVAL;VALUE=DURATION:PT1H
X-Robots-Tag:noindex
X-PUBLISHED-TTL:PT1H
BEGIN:VTIMEZONE
TZID:America/Denver
BEGIN:DAYLIGHT
TZOFFSETFROM:-0700
TZOFFSETTO:-0600
TZNAME:MDT
DTSTART:20260308T090000
END:DAYLIGHT
BEGIN:STANDARD
TZOFFSETFROM:-0600
TZOFFSETTO:-0700
TZNAME:MST
DTSTART:20261101T080000
END:STANDARD
TZID:America/New_York
BEGIN:DAYLIGHT
TZOFFSETFROM:-0500
TZOFFSETTO:-0400
TZNAME:EDT
DTSTART:20260308T070000
END:DAYLIGHT
BEGIN:STANDARD
TZOFFSETFROM:-0400
TZOFFSETTO:-0500
TZNAME:EST
DTSTART:20261101T060000
END:STANDARD
END:VTIMEZONE
BEGIN:VEVENT
DTSTART;TZID=America/Denver:20260616T123000
DTEND;TZID=America/Denver:20260616T160000
DTSTAMP:20260421T202551
CREATED:20260306T153621Z
LAST-MODIFIED:20260306T153639Z
UID:30504-1781613000-1781625600@gbta.org
SUMMARY:GBTA Canada Buyer Only Exchange | Edmonton
DESCRIPTION:Held in Winnipeg\, Edmonton\, and Ottawa these sessions provide a dynamic environment for education\, peer networking\, and knowledge sharing. More than just learning opportunities\, these events foster a sense of community—encouraging open dialogue\, shared challenges\, and fresh ideas to help buyers of all company sizes thrive in today’s business travel landscape. \nIf you are a corporate travel buyer interested in attending one of the GBTA Canada Buyer Only Exchange events\, please contact Canada@GBTA.org for more information.
URL:https://gbta.org/event/gbta-canada-buyer-only-exchange-edmonton/
CATEGORIES:Canada
END:VEVENT
BEGIN:VEVENT
DTSTART;VALUE=DATE:20260917
DTEND;VALUE=DATE:20260918
DTSTAMP:20260421T202551
CREATED:20260409T131850Z
LAST-MODIFIED:20260409T131850Z
UID:31204-1789603200-1789689599@gbta.org
SUMMARY:GBTA Canada Regional Direct (Buyer) Talks
DESCRIPTION:GBTA Canada recognizes the importance of peer networking and best practice sharing. Unique to GBTA Canada are our Regional Direct (buyer) Talks. Direct (buyer) members gather virtually\, to exchange ideas\, and understand market dynamics. \nSeptember 17\, 2026 at 2:00 PM ET \nTo learn more and register for the GBTA Canada Direct Talks\, please contact: Canada@gbta.org
URL:https://gbta.org/event/gbta-canada-regional-direct-buyer-talks-3/
CATEGORIES:Canada
END:VEVENT
BEGIN:VEVENT
DTSTART;VALUE=DATE:20261203
DTEND;VALUE=DATE:20261204
DTSTAMP:20260421T202551
CREATED:20260409T131927Z
LAST-MODIFIED:20260409T131927Z
UID:31208-1796256000-1796342399@gbta.org
SUMMARY:GBTA Canada Regional Direct (Buyer) Talks
DESCRIPTION:GBTA Canada recognizes the importance of peer networking and best practice sharing. Unique to GBTA Canada are our Regional Direct (buyer) Talks. Direct (buyer) members gather virtually\, to exchange ideas\, and understand market dynamics. \nDecember 3\, 2026 at 2:00 PM ET \nTo learn more and register for the GBTA Canada Direct Talks\, please contact: Canada@gbta.org
URL:https://gbta.org/event/gbta-canada-regional-direct-buyer-talks-4/
CATEGORIES:Canada
END:VEVENT
END:VCALENDAR