BEGIN:VCALENDAR
VERSION:2.0
PRODID:-//Global Business Travel Association - GBTA - ECPv6.9.0//NONSGML v1.0//EN
CALSCALE:GREGORIAN
METHOD:PUBLISH
X-ORIGINAL-URL:https://gbta.org
X-WR-CALDESC:Events for Global Business Travel Association - GBTA
REFRESH-INTERVAL;VALUE=DURATION:PT1H
X-Robots-Tag:noindex
X-PUBLISHED-TTL:PT1H
BEGIN:VTIMEZONE
TZID:America/New_York
BEGIN:DAYLIGHT
TZOFFSETFROM:-0500
TZOFFSETTO:-0400
TZNAME:EDT
DTSTART:20250309T070000
END:DAYLIGHT
BEGIN:STANDARD
TZOFFSETFROM:-0400
TZOFFSETTO:-0500
TZNAME:EST
DTSTART:20251102T060000
END:STANDARD
END:VTIMEZONE
BEGIN:VEVENT
DTSTART;TZID=America/New_York:20250514T093000
DTEND;TZID=America/New_York:20250514T133000
DTSTAMP:20260424T001612
CREATED:20250130T060643Z
LAST-MODIFIED:20250505T115842Z
UID:20734-1747215000-1747229400@gbta.org
SUMMARY:Roadshow GBTA Italia - Firenze
DESCRIPTION:Per la prima volta\, i contenuti di GBTA sotto forma di Masterclass arrivano a Firenze in una sessione interattiva: Insight di mercato\, Sostenibilità\, Travel and Expenses Management\, D&I. \nNetworking\, Aggiornamento\, Best Practice \nRiserva il tuo posto\, qua: https://events.gbta.org/er82KP \nLocation\nIl Roadshow si tiene in Firenze città presso l’Hotel NH Firenze in Piazza Vittorio Veneto\, 4/A \n\n			\n				\n			\n			\n				\n			\n			\n				\n			\n			\n				\n			\n		\n\nAgenda\nL’agenda è in via di definizione. Gli orari del Roadshow sono: \n9.30 – Accredito e Welcome Coffee \n10.00 – Inizio lavori \n12.45 – Light Lunch \n  \nRelatori\nTra i relatori\, saranno presenti: \n\n\n\n\n\n\n\n\nCarlotta Ferrari\nPresidente @ Convention Bureau Italia\,\nGeneral Manager @ Fondazione Destination Florence\n\nMarco Quagliarella\nGeneral Manager Corporate Pharma Division & International Operation\n@ AIM Group International\nGiuseppe Viesti\nTravel and Mobility Manager\n@ Salvatore Ferragamo\n\n\n\n  \n\n\n\n\n\n\n\n\nCesare Belosi\nGlobal Travel & Expenses Manager\n@ CNH\nEliana Sanvito\nAccount Manager Corporate\n@ Cathay Pacific\nChristian Isola\nChief Commercial Officer\n@Locauto Group\n\n\n\n  \nAccesso\nL’evento è dedicato a Travel/Event/Mobility Manager e Supplier del Travel. \nL’accesso all’evento è gratuito\, previa registrazione. I posti sono limitati\, consigliamo la registrazione appena possibile. \nIl roadshow è possibile grazie a: \n\n			\n				\n			\n			\n				\n			\n			\n				\n			\n			\n				\n			\n			\n				\n			\n		\n\nRegistrazioni
URL:https://gbta.org/event/roadshow-gbta-italia-firenze/
CATEGORIES:Italy,Summits & Workshops
END:VEVENT
END:VCALENDAR