BEGIN:VCALENDAR
VERSION:2.0
PRODID:-//Global Business Travel Association - GBTA - ECPv6.9.0//NONSGML v1.0//EN
CALSCALE:GREGORIAN
METHOD:PUBLISH
X-ORIGINAL-URL:https://gbta.org
X-WR-CALDESC:Events for Global Business Travel Association - GBTA
REFRESH-INTERVAL;VALUE=DURATION:PT1H
X-Robots-Tag:noindex
X-PUBLISHED-TTL:PT1H
BEGIN:VTIMEZONE
TZID:America/New_York
BEGIN:DAYLIGHT
TZOFFSETFROM:-0500
TZOFFSETTO:-0400
TZNAME:EDT
DTSTART:20260308T070000
END:DAYLIGHT
BEGIN:STANDARD
TZOFFSETFROM:-0400
TZOFFSETTO:-0500
TZNAME:EST
DTSTART:20261101T060000
END:STANDARD
END:VTIMEZONE
BEGIN:VEVENT
DTSTART;TZID=America/New_York:20260521T094500
DTEND;TZID=America/New_York:20260521T140000
DTSTAMP:20260421T161712
CREATED:20260227T153126Z
LAST-MODIFIED:20260227T153126Z
UID:30117-1779356700-1779372000@gbta.org
SUMMARY:GBTA Italia Roadshow | Roma
DESCRIPTION:Il Roadshow di GBTA Italia unisce Masterclass\, Talk\, Tavole Rotonde e Insight finalizzati ad esplorare in modo smart e pratico le tematiche più attuali di Mice e Business Travel.
URL:https://gbta.org/event/gbta-italia-roadshow-roma/
LOCATION:Best Western Premier Hotel Royal Santina\, Via Marsala\, 22\, 00185\, Roma RM\, Italy
CATEGORIES:Italy
END:VEVENT
END:VCALENDAR