BEGIN:VCALENDAR
VERSION:2.0
PRODID:-//Global Business Travel Association - GBTA - ECPv6.9.0//NONSGML v1.0//EN
CALSCALE:GREGORIAN
METHOD:PUBLISH
X-WR-CALNAME:Global Business Travel Association - GBTA
X-ORIGINAL-URL:https://gbta.org
X-WR-CALDESC:Events for Global Business Travel Association - GBTA
REFRESH-INTERVAL;VALUE=DURATION:PT1H
X-Robots-Tag:noindex
X-PUBLISHED-TTL:PT1H
BEGIN:VTIMEZONE
TZID:America/New_York
BEGIN:DAYLIGHT
TZOFFSETFROM:-0500
TZOFFSETTO:-0400
TZNAME:EDT
DTSTART:20250309T070000
END:DAYLIGHT
BEGIN:STANDARD
TZOFFSETFROM:-0400
TZOFFSETTO:-0500
TZNAME:EST
DTSTART:20251102T060000
END:STANDARD
END:VTIMEZONE
BEGIN:VEVENT
DTSTART;TZID=America/New_York:20250617T100000
DTEND;TZID=America/New_York:20250617T110000
DTSTAMP:20260423T214211
CREATED:20250421T151728Z
LAST-MODIFIED:20250421T151738Z
UID:22237-1750154400-1750158000@gbta.org
SUMMARY:Webinar GBTA Italia: Sicurezza\, Cyber Attack e Business Travel
DESCRIPTION:Durante il webinar verranno trattate le tematiche di sicurezza e Cyber Attack applicate al Business Travel sempre più all’ordine del giorno.\nIl Webinar è in collaborazione con gli esperti di AIPSA – L’associazione Italiana Professionisti di Sicurezza Aziendale \nData: 17 giugno 2025\nOrario: dalle 10.00 am alle 11.00 am\nLingua: italiano
URL:https://gbta.org/event/webinar-gbta-italia-sicurezza-cyber-attack-e-business-travel/
CATEGORIES:Italy,Online Courses & Webinars
END:VEVENT
END:VCALENDAR