BEGIN:VCALENDAR
VERSION:2.0
PRODID:-//Global Business Travel Association - GBTA - ECPv6.9.0//NONSGML v1.0//EN
CALSCALE:GREGORIAN
METHOD:PUBLISH
X-WR-CALNAME:Global Business Travel Association - GBTA
X-ORIGINAL-URL:https://gbta.org
X-WR-CALDESC:Events for Global Business Travel Association - GBTA
REFRESH-INTERVAL;VALUE=DURATION:PT1H
X-Robots-Tag:noindex
X-PUBLISHED-TTL:PT1H
BEGIN:VTIMEZONE
TZID:America/New_York
BEGIN:DAYLIGHT
TZOFFSETFROM:-0500
TZOFFSETTO:-0400
TZNAME:EDT
DTSTART:20260308T070000
END:DAYLIGHT
BEGIN:STANDARD
TZOFFSETFROM:-0400
TZOFFSETTO:-0500
TZNAME:EST
DTSTART:20261101T060000
END:STANDARD
END:VTIMEZONE
BEGIN:VEVENT
DTSTART;TZID=America/New_York:20260204T100000
DTEND;TZID=America/New_York:20260204T110000
DTSTAMP:20260421T192219
CREATED:20260120T182330Z
LAST-MODIFIED:20260128T204818Z
UID:28748-1770199200-1770202800@gbta.org
SUMMARY:Webinar GBTA Italia - Scenari del Business Travel nel 2026
DESCRIPTION:Durante il webinar i relatori si confronteranno sull’outlook generale del mercato dei viaggi d’affari nel 2026\, tra cui le previsioni di spesa e dei volumi\, sulle ultime novità di settore e sulle priorità di Travel Management.
URL:https://gbta.org/event/webinar-gbta-italia-scenari-del-business-travel-nel-2026/
LOCATION:Virtual
CATEGORIES:Italy,Online Courses & Webinars
END:VEVENT
END:VCALENDAR