BEGIN:VCALENDAR
VERSION:2.0
PRODID:-//Global Business Travel Association - GBTA - ECPv6.9.0//NONSGML v1.0//EN
CALSCALE:GREGORIAN
METHOD:PUBLISH
X-WR-CALNAME:Global Business Travel Association - GBTA
X-ORIGINAL-URL:https://gbta.org
X-WR-CALDESC:Events for Global Business Travel Association - GBTA
REFRESH-INTERVAL;VALUE=DURATION:PT1H
X-Robots-Tag:noindex
X-PUBLISHED-TTL:PT1H
BEGIN:VTIMEZONE
TZID:America/New_York
BEGIN:DAYLIGHT
TZOFFSETFROM:-0500
TZOFFSETTO:-0400
TZNAME:EDT
DTSTART:20260308T070000
END:DAYLIGHT
BEGIN:STANDARD
TZOFFSETFROM:-0400
TZOFFSETTO:-0500
TZNAME:EST
DTSTART:20261101T060000
END:STANDARD
END:VTIMEZONE
BEGIN:VEVENT
DTSTART;TZID=America/New_York:20260611T093000
DTEND;TZID=America/New_York:20260611T140000
DTSTAMP:20260421T192216
CREATED:20260227T183434Z
LAST-MODIFIED:20260227T183434Z
UID:30162-1781170200-1781186400@gbta.org
SUMMARY:GBTA Italia Roadshow | Padova
DESCRIPTION:Il Roadshow di GBTA Italia unisce Masterclass\, Talk\, Tavole Rotonde e Insight finalizzati ad esplorare in modo smart e pratico le tematiche più attuali di Mice e Business Travel.
URL:https://gbta.org/event/gbta-italia-roadshow-padova/
LOCATION:SAVHOTEL MANTEGNA PADOVA\, Via Niccolò Tommaseo\, 61\, 35131 Padova PD\, Italy
CATEGORIES:Italy
END:VEVENT
END:VCALENDAR