BEGIN:VCALENDAR
VERSION:2.0
PRODID:-//Global Business Travel Association - GBTA - ECPv6.9.0//NONSGML v1.0//EN
CALSCALE:GREGORIAN
METHOD:PUBLISH
X-ORIGINAL-URL:https://gbta.org
X-WR-CALDESC:Events for Global Business Travel Association - GBTA
REFRESH-INTERVAL;VALUE=DURATION:PT1H
X-Robots-Tag:noindex
X-PUBLISHED-TTL:PT1H
BEGIN:VTIMEZONE
TZID:America/New_York
BEGIN:DAYLIGHT
TZOFFSETFROM:-0500
TZOFFSETTO:-0400
TZNAME:EDT
DTSTART:20220313T070000
END:DAYLIGHT
BEGIN:STANDARD
TZOFFSETFROM:-0400
TZOFFSETTO:-0500
TZNAME:EST
DTSTART:20221106T060000
END:STANDARD
TZID:Europe/London
BEGIN:DAYLIGHT
TZOFFSETFROM:+0000
TZOFFSETTO:+0100
TZNAME:BST
DTSTART:20220327T010000
END:DAYLIGHT
BEGIN:STANDARD
TZOFFSETFROM:+0100
TZOFFSETTO:+0000
TZNAME:GMT
DTSTART:20221030T010000
END:STANDARD
END:VTIMEZONE
BEGIN:VEVENT
DTSTART;TZID=America/New_York:20220908T110000
DTEND;TZID=America/New_York:20220908T130000
DTSTAMP:20260424T063846
CREATED:20220801T152746Z
LAST-MODIFIED:20220825T022009Z
UID:3463-1662634800-1662642000@gbta.org
SUMMARY:Certificate in Corporate Travel Execution (CCTE)
DESCRIPTION:Dates: Sept. 8 and 22\, Oct. 6 and 20\, Nov. 3 and 17\, Dec. 1 and 15 \nTimes: 11:00 AM – 1:00 PM ET each day \nParticipants must be available to commit to the 2-hour sessions twice a month\, September through December. \nThe Certificate in Corporate Travel Execution is a customized education offered in partnership with Cornell University’s Executive Education Division. The curriculum is designed for corporate buyers overseeing a managed travel program and suppliers offering travel-related products and services. \nThis virtual classroom opportunity is focused on critical business travel topics including accounting\, finance\, human resources\, sales strategy\, risk and legal issues\, and travel procurement. This relaunched course will be taught by Cornell University professors who teach and research in business\, travel and hospitality. \nMore Information
URL:https://gbta.org/event/certificate-in-corporate-travel-execution-ccte/2022-09-08/
LOCATION:Virtual
CATEGORIES:Europe,Italy,Learning,North America,Summits & Workshops
END:VEVENT
BEGIN:VEVENT
DTSTART;TZID=Europe/London:20220914T140000
DTEND;TZID=Europe/London:20220914T170000
DTSTAMP:20260424T063846
CREATED:20220801T153901Z
LAST-MODIFIED:20220825T022002Z
UID:3475-1663164000-1663174800@gbta.org
SUMMARY:Travel Risk Management Bootcamp - Understanding and Implementing ISO31030
DESCRIPTION:September 14-15\, 14:00 – 17:00 BST \nPrice\n€450 member / €550 non-member \nCourse Outline\nExplore Travel Risk Management in the context of the new ISO 31030 standard and gain the tools and confidence to update and/or create a robust system within your organization. This two-day course\, led by travel risk management experts Global Secure Accreditation in conjunction with GBTA and the Anvil Group\, is designed to give practical guidance to anyone involved in building and managing corporate travel programs. \nMore Information
URL:https://gbta.org/event/travel-risk-management-bootcamp-understanding-and-implementing-iso31030/2022-09-14/
LOCATION:Virtual
CATEGORIES:Europe,Italy,Learning,North America,Summits & Workshops
END:VEVENT
BEGIN:VEVENT
DTSTART;TZID=America/New_York:20220916T100000
DTEND;TZID=America/New_York:20220916T120000
DTSTAMP:20260424T063846
CREATED:20220801T154839Z
LAST-MODIFIED:20220826T202250Z
UID:3481-1663322400-1663329600@gbta.org
SUMMARY:Fundamentals of Business Travel Management™
DESCRIPTION:Dates: September 16\, 23\, and 30; and October 7 \nTime: 10:00 AM – 12:O0 PM ET each day \nPricing: $450 member / $550 non member \nRegistration Deadline: Sept. 8 \nDesigned as a comprehensive guide to the key areas of managed travel\, GBTA’s Fundamentals curriculum includes a full range of topics including safety\, policy\, trends\, performance\, and more. Participants in this course gain a better understanding of business travel management and make themselves indispensable to the business travel needs of their organization. \nThe program covers 7 modules and includes 4 two-hour live sessions with an instructor. Participants will need to complete a recorded session and prep work prior to each virtual session. \nMore Information
URL:https://gbta.org/event/fundamentals-of-business-travel-management/
LOCATION:Virtual
CATEGORIES:Europe,Italy,Learning,North America,Summits & Workshops
END:VEVENT
END:VCALENDAR