BEGIN:VCALENDAR
VERSION:2.0
PRODID:-//Global Business Travel Association - GBTA - ECPv6.9.0//NONSGML v1.0//EN
CALSCALE:GREGORIAN
METHOD:PUBLISH
X-WR-CALNAME:Global Business Travel Association - GBTA
X-ORIGINAL-URL:https://gbta.org
X-WR-CALDESC:Events for Global Business Travel Association - GBTA
REFRESH-INTERVAL;VALUE=DURATION:PT1H
X-Robots-Tag:noindex
X-PUBLISHED-TTL:PT1H
BEGIN:VTIMEZONE
TZID:America/New_York
BEGIN:DAYLIGHT
TZOFFSETFROM:-0500
TZOFFSETTO:-0400
TZNAME:EDT
DTSTART:20240310T070000
END:DAYLIGHT
BEGIN:STANDARD
TZOFFSETFROM:-0400
TZOFFSETTO:-0500
TZNAME:EST
DTSTART:20241103T060000
END:STANDARD
END:VTIMEZONE
BEGIN:VEVENT
DTSTART;TZID=America/New_York:20241004T110000
DTEND;TZID=America/New_York:20241101T130000
DTSTAMP:20260421T212016
CREATED:20240517T165317Z
LAST-MODIFIED:20240522T151319Z
UID:16096-1728039600-1730466000@gbta.org
SUMMARY:Sustainable Travel Management
DESCRIPTION:  \nCompanies around the world are now examining their business travel practices as a lever to reduce overall emissions. But what does this mean in practice\, and how can travel programs contribute to the effort? GBTA’s Sustainable Travel Management course focuses on the practical application of climate action and the management\, reduction\, and tracking of carbon emissions from business travel. This training course will address the challenges and opportunities as forward-thinking organizations look to launch or advance their sustainable travel management program. \nParticipants earn 10 GTP Recertification credits. \nCore Curriculum \n\nEmissions-reducing technologies in business travel\nEmpowering travelers to make informed decisions via travel policy\, booking tools\, and more\nEmissions tracking\nSustainability criteria to aid in the selection of suppliers\n\nPricing\n$450 member/$675 non-member \nMore information >>
URL:https://gbta.org/event/sustainable-travel-management-2/
CATEGORIES:Learning
END:VEVENT
END:VCALENDAR