BEGIN:VCALENDAR
VERSION:2.0
PRODID:-//Global Business Travel Association - GBTA - ECPv6.9.0//NONSGML v1.0//EN
CALSCALE:GREGORIAN
METHOD:PUBLISH
X-WR-CALNAME:Global Business Travel Association - GBTA
X-ORIGINAL-URL:https://gbta.org
X-WR-CALDESC:Events for Global Business Travel Association - GBTA
REFRESH-INTERVAL;VALUE=DURATION:PT1H
X-Robots-Tag:noindex
X-PUBLISHED-TTL:PT1H
BEGIN:VTIMEZONE
TZID:America/New_York
BEGIN:DAYLIGHT
TZOFFSETFROM:-0500
TZOFFSETTO:-0400
TZNAME:EDT
DTSTART:20250309T070000
END:DAYLIGHT
BEGIN:STANDARD
TZOFFSETFROM:-0400
TZOFFSETTO:-0500
TZNAME:EST
DTSTART:20251102T060000
END:STANDARD
BEGIN:DAYLIGHT
TZOFFSETFROM:-0500
TZOFFSETTO:-0400
TZNAME:EDT
DTSTART:20260308T070000
END:DAYLIGHT
BEGIN:STANDARD
TZOFFSETFROM:-0400
TZOFFSETTO:-0500
TZNAME:EST
DTSTART:20261101T060000
END:STANDARD
END:VTIMEZONE
BEGIN:VEVENT
DTSTART;TZID=America/New_York:20260211T140000
DTEND;TZID=America/New_York:20260211T190000
DTSTAMP:20260421T140336
CREATED:20251212T135147Z
LAST-MODIFIED:20260210T140321Z
UID:28015-1770818400-1770836400@gbta.org
SUMMARY:GBTA Middle East Business Travel Forum | Dubai
DESCRIPTION:Join us for the first-ever GBTA Middle East Business Travel Forum in Dubai \nStep into the future of business travel at this landmark regional gathering designed to bring together industry leaders\, travel buyers\, suppliers\, and innovators shaping the business travel landscape across the Middle East and beyond. \nThis inaugural forum will be your gateway to: \n\nRegional insights into the trends\, challenges\, and opportunities transforming business travel in the Middle East\nGlobal expertise from thought leaders and seasoned professionals from across the GBTA community\nHigh-value connections with key stakeholders\, partners\, and peers driving the next era of mobility\, meetings\, and corporate travel\n\nWhether you’re building new partnerships\, seeking strategic knowledge\, or exploring emerging solutions\, this event is crafted to inspire fresh thinking and spark meaningful dialogue. \nVenue – SO Uptown Dubai Hotel & Residences\, Uptown Tower\, First Al Khail Street 2\, Dubai
URL:https://gbta.org/event/gbta-middle-east-business-travel-forum-dubai/
LOCATION:2 Uptown – Uptown Tower\, First Al Khail St\, Dubai\, United Arab Emirates
CATEGORIES:Middle East
END:VEVENT
BEGIN:VEVENT
DTSTART;TZID=America/New_York:20251022T120000
DTEND;TZID=America/New_York:20251022T130000
DTSTAMP:20260421T140336
CREATED:20250806T140108Z
LAST-MODIFIED:20250922T103749Z
UID:25255-1761134400-1761138000@gbta.org
SUMMARY:Navigating New Horizons: Launching Corporate Travel in the Middle East
DESCRIPTION:Date: 22nd October.\nTime; 2pm/ 11am Uk/ 12noon CET\nFormat: The webinar will be 45 minutes long with an additional 10 mins for Q&A\, \nJoin us for this insightful session as we introduce GBTA (Global Business Travel Association) and explore the evolving landscape of business travel in the Middle East. The webinar will begin with a short presentation offering high-level market insights\, followed by a dynamic panel discussion featuring both buyers and suppliers. Together\, we’ll explore the key opportunities\, emerging trends\, and challenges shaping the region’s corporate travel market. \nWhether you’re new to business travel or an experienced travel professional\, this session will provide valuable perspectives to help you navigate the road ahead.
URL:https://gbta.org/event/navigating-new-horizons-launching-corporate-travel-in-the-middle-east/
CATEGORIES:Middle East,Online Courses & Webinars
END:VEVENT
END:VCALENDAR