BEGIN:VCALENDAR
VERSION:2.0
PRODID:-//Global Business Travel Association - GBTA - ECPv6.9.0//NONSGML v1.0//EN
CALSCALE:GREGORIAN
METHOD:PUBLISH
X-WR-CALNAME:Global Business Travel Association - GBTA
X-ORIGINAL-URL:https://gbta.org
X-WR-CALDESC:Events for Global Business Travel Association - GBTA
REFRESH-INTERVAL;VALUE=DURATION:PT1H
X-Robots-Tag:noindex
X-PUBLISHED-TTL:PT1H
BEGIN:VTIMEZONE
TZID:Europe/Rome
BEGIN:DAYLIGHT
TZOFFSETFROM:+0100
TZOFFSETTO:+0200
TZNAME:CEST
DTSTART:20220327T010000
END:DAYLIGHT
BEGIN:STANDARD
TZOFFSETFROM:+0200
TZOFFSETTO:+0100
TZNAME:CET
DTSTART:20221030T010000
END:STANDARD
TZID:America/Mexico_City
BEGIN:DAYLIGHT
TZOFFSETFROM:-0600
TZOFFSETTO:-0500
TZNAME:CDT
DTSTART:20220403T080000
END:DAYLIGHT
BEGIN:STANDARD
TZOFFSETFROM:-0500
TZOFFSETTO:-0600
TZNAME:CST
DTSTART:20221030T070000
END:STANDARD
TZID:America/New_York
BEGIN:DAYLIGHT
TZOFFSETFROM:-0500
TZOFFSETTO:-0400
TZNAME:EDT
DTSTART:20220313T070000
END:DAYLIGHT
BEGIN:STANDARD
TZOFFSETFROM:-0400
TZOFFSETTO:-0500
TZNAME:EST
DTSTART:20221106T060000
END:STANDARD
TZID:Asia/Singapore
BEGIN:STANDARD
TZOFFSETFROM:+0800
TZOFFSETTO:+0800
TZNAME:+08
DTSTART:20220101T000000
END:STANDARD
TZID:America/Sao_Paulo
BEGIN:STANDARD
TZOFFSETFROM:-0300
TZOFFSETTO:-0300
TZNAME:-03
DTSTART:20220101T000000
END:STANDARD
END:VTIMEZONE
BEGIN:VEVENT
DTSTART;TZID=Europe/Rome:20221005T093000
DTEND;TZID=Europe/Rome:20221005T160000
DTSTAMP:20260420T031130
CREATED:20220728T184409Z
LAST-MODIFIED:20220830T145359Z
UID:3023-1664962200-1664985600@gbta.org
SUMMARY:GBTA Conference 2022 – Milano
DESCRIPTION:GBTA Italy Annual Conference Milan – 5 October\, 9:30 – 16:00 CEST. The annual gathering of the Italian Business Travel and MICE community. \nDuring a full day conference\, 25 speakers will deep dive into the current main business travel market trends: Sustainability\, New Market Opportunities\, Diversity & Inclusion\, Digitalization and the evolution of the meetings management. \nWith the active involvement of the audience\, we will define the market priorities and design the strategies to fulfil them. Networking\, best practice sharing and education sessions will provide the knowledge and the critical take-aways to face the future successfully. \nMore information
URL:https://gbta.org/event/gbta-conference-2022-milano/
LOCATION:in-person
CATEGORIES:Conference/Convention,Europe
ATTACH;FMTTYPE=image/jpeg:https://gbta.org/wp-content/uploads/Milano.jpg
END:VEVENT
BEGIN:VEVENT
DTSTART;TZID=America/Mexico_City:20221006T083000
DTEND;TZID=America/Mexico_City:20221006T141500
DTSTAMP:20260420T031130
CREATED:20220801T155821Z
LAST-MODIFIED:20221004T170239Z
UID:3492-1665045000-1665065700@gbta.org
SUMMARY:GBTA reconecta CDMX: Educación y Networking
DESCRIPTION:Jueves 6 de Octubre\n08:30 am MEX a 14:15 pm MEX \nTe invitamos a reencontrarte con tus pares y colegas a puro Educación y Networking\, con presentaciones únicas inherentes a la actualidad de la Industria de Viajes Corporativos y con un sector para Expo donde podrás conocer más sobre qué tienen para contarte las principales empresas aliadas de TÚ Industria. \nEn el bellísimo piso 40 del Sofitel Mexico City Reforma\, te espera este evento único y con plazas limitadas ¡No te quedes sin tu lugar! \nEl registro abrirá a inicios de Septiembre y pronto compartiremos más novedades sobre los ponentes y la agenda general. \nSi quieres recibir más información como participante o si te interesa estar presente en el área de Expo con tu empresa\, contáctanos a: latamevents@gbta.org \n\nSede\n\nSofitel Mexico City Reforma\nAv. Paseo de la Reforma 297\n06500 Mexico City\, Mexico\n\n\n\nAgenda*\n* subject to change \n  \n\n\n\n08:30 am – 09:00am\n\nAcreditaciones en Sede\n(Procura estar registrado/a previo al inicio del evento)\n\n\n09:00 am – 09:30 am\n\nPalabras de Bienvenida\n\n\n\n09:30 am – 10:15 am\n\nGestiona con éxito tu Programa de Viajes: Herramientas Online (OBTs)Tu aliado Post-Pandemia\nModeradora: \nGabriela Escalante Roman\, Gerente Comercial Américas\, Viajes El Corte Inglés \nPanelistas: \nBolivar Fuentes León\, Global Procurement Indirect Director\, Grupo Bimbo\nNancy Goycochea\, Regional Travel Manager NORAM/Europe & UK\, Unilever\nIvonne Cordova\, Travel Manager\, Nissan\nMiguel Ruiz\, Solutions Consulting Director Latin America\, SAP Concur\nEmmanuel Delgado\, Director de Cuentas\, Sabre\nMauricio Bañados\, Corporate Account Manager\,  Amadeus\n\n\n10:15 am – 11:00 am\n\nSustentabilidad referida a Viajes Corporativos\nNavegando sobre los standards de Sustentabilidad en las diferentes industrias proveedoras: cómo y porqué elegir opciones “verdes” \nJoanna Baskin\, Corporate Business Travel & Consortia Director\, Grupo Posadas\nDiana Olivares\, Gerente General México\, LATAM Airlines y Presidente CANAERO\nHéctor Javier Alva Mirazo\, Gerente de Cuentas Corporativas\, Enterprise\n\n\n11:00 am – 12:30 pm\n\nNetworking Brunch y Expo\n\n\n\n12:30 pm – 13:15 pm\n\nBienestar y Seguridad referidos a Viajes Corporativos: una charla de Safety y Wellness post-Pandemia\nDra. Dayana Tinoco Hans\, Médico Especialista en Seguridad e Higiene\, Master en Salud Ocupacional y Medicina Aeroespacial\, Jefe de Salud Ocupacional Grupo Aeroméxico\n\n\n13:15 pm – 14:15 pm\n\nExpo\n\n\n\n\n  \nHecho posible por\n \nExpositores\n \nValores de Registro\nDirect Members: USD 40 // Direct Non-Members: USD 50\nAllied Members: USD 60 // Allied Non-Members: USD 70 \nRegistro
URL:https://gbta.org/event/gbta-reconecta-cdmx-educacion-y-networking/
LOCATION:in-person
CATEGORIES:LATAM,Summits & Workshops
END:VEVENT
BEGIN:VEVENT
DTSTART;VALUE=DATE:20221011
DTEND;VALUE=DATE:20221012
DTSTAMP:20260420T031130
CREATED:20220916T234924Z
LAST-MODIFIED:20220916T235017Z
UID:7148-1665446400-1665532799@gbta.org
SUMMARY:Tennessee Chapter - The State of Travel\, Nashville CVC updates featuring Butch Spyridon and Deana Ivey
DESCRIPTION:Join us as we hear from Butch Spyridon\, CEO\, and Deana Ivey\, President\, of the Nashville Convention & Visitors Corporation (NCVC). The Team will share what is in store for Nashville and the Midstate as we continue to grow even stronger in our everchanging times. During this meeting you will gain the forecast for tourism and strategies moving forward. Butch will bring the Music City bandwidth on the NCVC initiatives during the pandemic to help the community\, shifting marketing strategy\, and encouraging news in the hospitality industry with hotels opening and growth at the airport. \nEvent Speaker \nButch Spyridon  & Deana Ivey\, CEO & President |  Nashville CVC \nLocation of Event \nNashville\, TN \nVenue Information \nConrad Nashville\, 1620 West End Ave\, Nashville\, TN 37203\nComplimentary Parking
URL:https://gbta.org/event/tennessee-chapter-the-state-of-travel-nashville-cvc-updates-featuring-butch-spyridon-and-deana-ivey/
LOCATION:in-person
CATEGORIES:US Chapter Event
END:VEVENT
BEGIN:VEVENT
DTSTART;VALUE=DATE:20221012
DTEND;VALUE=DATE:20221013
DTSTAMP:20260420T031130
CREATED:20221010T180551Z
LAST-MODIFIED:20221010T180626Z
UID:7604-1665532800-1665619199@gbta.org
SUMMARY:Greater DC Metro - TAMS & GBTA Greater DC Metro present - A Black Man’s Perspective
DESCRIPTION:~ Don’t Miss Out On What Will Be An Insightful Session ~ \nStarted more than 50 years later\, Black History month in Europe was first celebrated October 1\, 1987 in London as part of African Jubilee marking the contributions of Black People throughout history. \nDiversity\, Equity and Inclusion is about people and belonging. While we cannot totally eradicate the biases of some\, TAMS in collaboration with the Greater DC Metro Chapter of GBTA offer the opportunity for people of all races\, creeds\, and colors to come and hear our distinguished panel offer their perspectives on past and current experiences while discussing their thoughts on the future. \nEvent Speaker \nCarmen Smith\, Senior Manager\, Global Travel & Events | ICF \nVenue Information \nZoom \nRegistration Link \nhttps://us06web.zoom.us/webinar/register/WN_04rIkGU1R4KBo4VJOVKS1w
URL:https://gbta.org/event/greater-dc-metro-tams-gbta-greater-dc-metro-present-a-black-mans-perspective/
LOCATION:Virtual
CATEGORIES:US Chapter Event
END:VEVENT
BEGIN:VEVENT
DTSTART;TZID=Asia/Singapore:20221012T130000
DTEND;TZID=Asia/Singapore:20221012T130000
DTSTAMP:20260420T031130
CREATED:20220926T221015Z
LAST-MODIFIED:20221011T155653Z
UID:7304-1665579600-1665579600@gbta.org
SUMMARY:Sustainability: Why it’s so important\, and where to start
DESCRIPTION:Join us for our Asia-Pacific Sustainability series kick-off.  Global Sustainability Officer of Flight Centre Travel Group\, Michelle Degenhardt\, will share an introductory presentation on sustainability\, detailing how responsible business is good business.  We’ll then open up for a discussion with committee members sharing success stories and examples of how they have taken the first steps in their sustainability journeys.  We are excited to see you and look forward to introducing the committee members and charter while hearing from you on what you’d like to see from our local GBTA Sustainability committee task force\, so come prepared with questions for our panel! \nTime \n1:00 PM Singapore Time \n  \nSpeakers \n \nCarl Jones | Managing Director\, SE Asia | SAP Concur & Vice Chair\, GBTA Sustainability Committee \n \nMichelle Degenhardt |Global Sustainability Officer | Flight Centre Travel Group \n \nRachel Tracey | Manager | Strategic Sourcing | Brookfield Asset Management \n \nNicola Winchester | Asia-Pacific Travel\, M&E Leader | Global Corporate Card Leader | Supply Chain Services | Travel Meetings and Events | Ernst & Young APAC \n  \nRegistration is now closed
URL:https://gbta.org/event/sustainability-why-its-so-important-and-where-to-start/
LOCATION:Virtual
END:VEVENT
BEGIN:VEVENT
DTSTART;TZID=America/New_York:20221013T110000
DTEND;TZID=America/New_York:20221013T130000
DTSTAMP:20260420T031130
CREATED:20220731T120023Z
LAST-MODIFIED:20220824T125351Z
UID:3287-1665658800-1665666000@gbta.org
SUMMARY:Utah Chapter Tradeshow
DESCRIPTION:Registration \nOctober 13\, 2022\,  11:00 AM MDT – 1:00 PM MDT \nCome visit with vendors and direct members to create relationships and educate yourselves on their services and products. \nVenue: Embassy Suites\, 10333 S. Jordan Gateway\, South Jordan UT \nPricing: 35.00 per registrant
URL:https://gbta.org/event/utah-chapter-tradeshow/
LOCATION:in-person
CATEGORIES:North America,US Chapter Event
END:VEVENT
BEGIN:VEVENT
DTSTART;TZID=America/New_York:20221013T150000
DTEND;TZID=America/New_York:20221013T170000
DTSTAMP:20260420T031130
CREATED:20220915T202841Z
LAST-MODIFIED:20220915T223914Z
UID:7091-1665673200-1665680400@gbta.org
SUMMARY:North Central Chapter  - Oktoberfest Social/Networking Event
DESCRIPTION:We are hosting a social networking event on October 13 from 3:00-5:00 pm to celebrate Oktoberfest.  All are welcome. \nLocation of Event \nMinneapolis\, MN \nVenue Information \nThe Chambers Hotel\, Minneapolis 901 Hennepin Ave Minneapolis\, MN 55403 \nGuest fee – $75
URL:https://gbta.org/event/north-central-chapter-oktoberfest-social-networking-event/
LOCATION:in-person
CATEGORIES:US Chapter Event
END:VEVENT
BEGIN:VEVENT
DTSTART;TZID=America/New_York:20221014T110000
DTEND;TZID=America/New_York:20221014T130000
DTSTAMP:20260420T031130
CREATED:20220803T175745Z
LAST-MODIFIED:20220825T021934Z
UID:3812-1665745200-1665752400@gbta.org
SUMMARY:Fundamentals of Strategic Meetings Management™
DESCRIPTION:Dates: October 14\, 21\, and 28th \nTime: 11:00 AM – 12:00 PM ET each day \nPioneers and thought leaders in meetings\, procurement\, and travel management have collaborated to create a road map and share best practices on how to create and manage an effective strategic meetings management program for your company. \nThe program covers 6 modules and includes 3 two-hour live sessions with an instructor.  Participants will need to complete a recorded session and prep work prior to each virtual session. \nFor more information\, see The Fundamentals of Strategic Meetings Management™ \nREGISTER BY OCT. 6th
URL:https://gbta.org/event/fundamentals-of-strategic-meetings-management/
LOCATION:Virtual
CATEGORIES:Europe,Italy,Learning,North America,Summits & Workshops
END:VEVENT
BEGIN:VEVENT
DTSTART;VALUE=DATE:20221018
DTEND;VALUE=DATE:20221019
DTSTAMP:20260420T031130
CREATED:20220928T154327Z
LAST-MODIFIED:20221013T045329Z
UID:7356-1666051200-1666137599@gbta.org
SUMMARY:Chicago Chapter - GBTA Chicago October Meeting - Emerging Technology and Managing Travel Post Pandemic - GTP Credit Approved
DESCRIPTION:Don’t miss this dynamic speaker line up for our Q3 meeting. We all know this past summer travel has not been easy\, but our key speakers are enhancing the travel experience with new and innovative solutions that will impact the travel experience for years to come. \nEvent Speaker \nCaitlin Gomez\, VP\, Travel Partnerships CLEAR | CLEAR \nLocation of Event \nRosemont\, IL \nVenue Information \nOLC Education & Conference Center\, 9400 West Higgins Road Suite 100\, Rosemont\, IL 60018 \nPricing \n$75 members / $125 non-members
URL:https://gbta.org/event/chicago-chapter-gbta-chicago-october-meeting-emerging-technology-and-managing-travel-post-pandemic/
LOCATION:in-person
CATEGORIES:North America
END:VEVENT
BEGIN:VEVENT
DTSTART;TZID=America/New_York:20221018T110000
DTEND;TZID=America/New_York:20221018T120000
DTSTAMP:20260420T031130
CREATED:20220929T140605Z
LAST-MODIFIED:20220930T003151Z
UID:7380-1666090800-1666094400@gbta.org
SUMMARY:Beyond Travel Risk Management
DESCRIPTION:From COVID\, to civil unrest\, to war\, the increase in risk events which impact travelers around the globe is increasing.  At the same time\, the number of employees working remotely is rising.  Nearly 70% of HR and Managed Travel departments believe that the dominant way of working will by hybrid in the future.  Join us on October 18th as industry expert\, Eric Chetwynd from Everbridge explores:• The evolution of Travel Risk Management programs• Emerging protection standards and best practices for mitigating travel risks• How lessons from these evolutions can be applied to remote workers as well.  Speaker \n \n  \n  \n  \n  \nEric ChetwyndSenior Product Marketing Director at EverbridgeEric Chetwynd is Senior Product Marketing Director and General Manager of Healthcare at Everbridge. He oversees the company’s global portfolio of corporate and health care solutions go-to-market strategies. Chetwynd has more than 20 years of experience creating and leading innovative software solutions to market. Prior to working for Everbridge\, he led go-to-market strategies and solution delivery at a number of mission-driven technology organizations including Curaspan (NaviHealth)\, PatientKeeper (HCA Healthcare)\, Ingenix (Optum Insights) and OneSource Information Insights (Dun & Bradstreet). Chetwynd has a unique global perspective\, having worked closely with diverse teams world-wide to develop patient-centric solutions that address the complexities of today’s health care landscape. He regularly speaks at educational conferences and organizational meetings and has been a featured speaker at HIMSS\, Becker’s\, CMSA\, NTOCC\, Society of Actuaries\, National Association of Healthcare Services\, and IAHSS. \nMade Possible by \n \n  \n  \n 
URL:https://gbta.org/event/beyond-travel-risk-management/
LOCATION:Virtual
CATEGORIES:Online Courses & Webinars
END:VEVENT
BEGIN:VEVENT
DTSTART;TZID=America/Sao_Paulo:20221025T090000
DTEND;TZID=America/Sao_Paulo:20221025T123000
DTSTAMP:20260420T031130
CREATED:20220803T180433Z
LAST-MODIFIED:20221025T110517Z
UID:3817-1666688400-1666701000@gbta.org
SUMMARY:GBTA Reconecta - BR - Travel Managers Reunited
DESCRIPTION:25 octubre 2022\, 9:00 AM – 12:30 PM \nSão Paulo\, InterContinental São Paulo \nParticipe de este programa exclusivo para Travel Managers\, que traz o que hoje é última tendência em Viagens de Negócios. Um evento de curta duração\, parte de um Road Show Regional que aproxima mais do que nunca Você\, à sua Associação. \nSe sua Companhia tem interesse em ser um dos Sponsors deste Evento especial\, pode nos contatar a latamevents@gbta.org \nExclusivo para Travel Managers\, sem custo. \n  \nFull Agenda \n8:30 hs – Credenciamento \n9:00 hs – Boas-vindas GBTA e Sponsors \n9:30 hs – Marta Vieira Da Silva\, Jogadora Profissional de Futebol \nMarta Vieira da Silva é Embaixadora da boa vontade da ONU Mulheres e jogadora brasileira que atua como atacante ou meia-atacante. Atualmente\, joga pelo Orlando Pride\, dos Estados Unidos.\nMarta já foi escolhida como melhor futebolista do mundo por seis vezes\, sendo cinco de forma consecutiva. Um recorde não apenas entre mulheres mas também entre homens.\nDesde 2015 é a maior artilheira da história da Seleção Brasileira (contando a Masculina e a Feminina) com 116 gols. \n  \n  \n  \n  \n  \n  \n  \n  \n  \n  \n  \n  \n10:30 hs – Atualidade no mundo das Viagens Corporativas Regionais e Globais \nModerador: Felipe Mesquita\, Copastur \nPainelistas: \nAlba Mendes\, Front Office Lead Brazil\, Argentina\, Uruguay – Travel and Expenses Management\, ABB \nJoyce Macieri\, Travel & Expense Manager\, Minerva Foods” \n11:15 hs – Networking Brunch \n12:30 hs – Fim do Evento \n  \nTornado possível por \n \n\n 
URL:https://gbta.org/event/gbta-reconecta-br-travel-managers-reunited/
LOCATION:in-person
CATEGORIES:LATAM,Summits & Workshops
END:VEVENT
BEGIN:VEVENT
DTSTART;TZID=America/New_York:20221026T073000
DTEND;TZID=America/New_York:20221027T130000
DTSTAMP:20260420T031130
CREATED:20220825T200600Z
LAST-MODIFIED:20220825T200706Z
UID:6383-1666769400-1666875600@gbta.org
SUMMARY:GBTA Conference 2022 - Southern Africa
DESCRIPTION:Join GBTA Southern Africa on 26 and 27 October for our annual conference at Southern Sun Rosebank Hotel.  Attend our conference to (re) connect and grow your valuable relationship with your fellow travel professionals. (Re) collaborate to get back to travel and back to business. Here is the opportunity to (re) communicate\, plan and evolve for the future of the travel industry.  You will be equipped with new knowledge\, expertise and the ability to prepare for the return of business travel. \nLearn More
URL:https://gbta.org/event/6383/
LOCATION:in-person
CATEGORIES:Africa,Conference/Convention
END:VEVENT
BEGIN:VEVENT
DTSTART;VALUE=DATE:20221027
DTEND;VALUE=DATE:20221028
DTSTAMP:20260420T031130
CREATED:20220930T211343Z
LAST-MODIFIED:20221013T045433Z
UID:7417-1666828800-1666915199@gbta.org
SUMMARY:Greater DC Metro - Greater DC Metro Chapter Of GBTA 2022 Education Day - GTP Credit Approved
DESCRIPTION:Greater DC Metro Chapter of GBTA Education Day \nAGENDA \n-Registration and Networking \n-Welcome by David Thorne\, Chapter President and Travel Manager for T. Rowe Price; and our Education Committee \n-Industry Update provided by Chris Ely Research Director at GBTA \n-NDC – Where are We\, Where do we want to Go and How do we get There? \n-Moderated By Jay Campbell\, Journalist and Co-Founder of The Company Dime \nPanelist:  Jay Richmond – Head of Customer Solutions at Amadeus; Tom Wilkinson – Director\, Distribution NDC at SAP Concur; Eric Hall – Director\,B2B Channels and TMC Strategy at Southwest Business; David Weaver – Manager of Global Travel at Bechtel; Matt Beck – Sr. Director of Sales Operations at SERKO \n-LUNCH provided by Hilton Garden Inn Reagan National Airport \n-Just the Facts Mama or Get to the Point – What’s Your Communication Style? presented by Debbie Thomas – Owner of DT & Associates \n-THANK YOU presentations from our Sponsors – SERKO\, Sixt\, and Interim Homes \n-Are YOU ready for the Real Id???? – TSA update presented by Simone Davis – Intelligence Officer at TSA \n-What you should know about Sustainability presented by Niklas Eriksson – Sales Manager at United Airlines; Sarah Mandell – Business Rental Sales Executive at Enterprise Holdings; and Hilton Worldwide \n-NETWORKING RECEPTION \nEvent Speaker \nChris Ely\,  Research Director \nLocation of Event \nHilton Garden Inn Reagan National Airport; 2020 Richmond Hwy; Arlington\, VA 22202 \nPricing \nMembers $125\nAll access members $125\nGuest $150
URL:https://gbta.org/event/greater-dc-metro-greater-dc-metro-chapter-of-gbta-2022-education-day/
LOCATION:in-person
CATEGORIES:US Chapter Event
END:VEVENT
BEGIN:VEVENT
DTSTART;TZID=America/New_York:20221027T190000
DTEND;TZID=America/New_York:20221027T220000
DTSTAMP:20260420T031130
CREATED:20220803T180626Z
LAST-MODIFIED:20221019T131140Z
UID:3819-1666897200-1666908000@gbta.org
SUMMARY:WINiT Gala
DESCRIPTION:Oct 27 @ 7:00 – 10:00 PM \nThe goal of the WINiT Awards is to recognize the women\, men\, and companies who together are driving positive change for the career mobility of women in the travel-related industries. Winners will be honored at the Gala. \nWINiT Gala award categories for nomination submissions will include: \n• Most Innovative Trailblazer\n• Outstanding Woman of the Year\n• Rising Female Leader\n• Best Mentor or Coach (Women)\n• Best Mentor or Coach (Male)\n• Top 50 Women in Travel\n• Company Culture Supporting for Women to Advance and Succeed \nLocation: Westin Times Square\, New York City. \nIndividual Registration: $1\,000\nFull Table Purchase: $10\,000\nTo Sponsor a Full Table\, please contact Robert Ambrozy rambrozy@gbta.org(Link mailto)\nAs a part of the GBTA Foundation\, a 501c3 organization\, a portion of your contribution to the GBTA WINiT Gala is tax deductible. \nBe on the look out for updates on nomination submissions and registration. We hope to see you there! \n  \nLearn more about WINiT\nHow to Sponsor WINiT Gala\n\n\n  \nSOLD OUT
URL:https://gbta.org/event/winit-gala/
LOCATION:in-person
CATEGORIES:North America,Summits & Workshops,WINiT
END:VEVENT
END:VCALENDAR