BEGIN:VCALENDAR
VERSION:2.0
PRODID:-//Global Business Travel Association - GBTA - ECPv6.9.0//NONSGML v1.0//EN
CALSCALE:GREGORIAN
METHOD:PUBLISH
X-WR-CALNAME:Global Business Travel Association - GBTA
X-ORIGINAL-URL:https://gbta.org
X-WR-CALDESC:Events for Global Business Travel Association - GBTA
REFRESH-INTERVAL;VALUE=DURATION:PT1H
X-Robots-Tag:noindex
X-PUBLISHED-TTL:PT1H
BEGIN:VTIMEZONE
TZID:America/New_York
BEGIN:DAYLIGHT
TZOFFSETFROM:-0500
TZOFFSETTO:-0400
TZNAME:EDT
DTSTART:20220313T070000
END:DAYLIGHT
BEGIN:STANDARD
TZOFFSETFROM:-0400
TZOFFSETTO:-0500
TZNAME:EST
DTSTART:20221106T060000
END:STANDARD
TZID:America/Mexico_City
BEGIN:DAYLIGHT
TZOFFSETFROM:-0600
TZOFFSETTO:-0500
TZNAME:CDT
DTSTART:20220403T080000
END:DAYLIGHT
BEGIN:STANDARD
TZOFFSETFROM:-0500
TZOFFSETTO:-0600
TZNAME:CST
DTSTART:20221030T070000
END:STANDARD
END:VTIMEZONE
BEGIN:VEVENT
DTSTART;VALUE=DATE:20221201
DTEND;VALUE=DATE:20221203
DTSTAMP:20260420T024707
CREATED:20221024T161838Z
LAST-MODIFIED:20221024T161934Z
UID:7785-1669852800-1670025599@gbta.org
SUMMARY:Michigan Chapter - December Holiday Event & Charity Auction
DESCRIPTION:Charity Auction \nOur 2022 Charity is Hope Against Trafficking. \nWhen Hope Against Trafficking started\, the founders realized that there was a lack of long-term\, safe\, restorative environments for adult survivors of human trafficking. The women who have been rescued or escaped their traffickers lack hope as they have no safe-haven\, no financial stability\, and fear for their lives. \nHope Against Trafficking provides a comprehensive and dedicated program. They have taken a two-pronged approach for the restoration of survivors and education for its community. \nYou can learn more at Hope Against Trafficking. \nPlease contact Gail Major at charities@gbtamichigan.org if you’re interested in donating an item for the charity auction and don’t forget your CASH (or plastic) the night of the event! \nThank you for your support of this year’s charity\, Hope Against Trafficking! \nLocation of event \nBirmingham\, MI \nVenue Information \nDaxton Hotel\, 298 S Old Woodward Ave\, Birmingham\, MI 48009
URL:https://gbta.org/event/michigan-chapter-december-holiday-event-charity-auction/
CATEGORIES:US Chapter Event
END:VEVENT
BEGIN:VEVENT
DTSTART;VALUE=DATE:20221201
DTEND;VALUE=DATE:20221203
DTSTAMP:20260420T024707
CREATED:20221024T162359Z
LAST-MODIFIED:20221024T162455Z
UID:7788-1669852800-1670025599@gbta.org
SUMMARY:North Carolina Chapter - NCBTA Annual Gala\, Silent Auction\, Charity & Education
DESCRIPTION:On Thursday\, Dec 1st\, 2022\, GBTA- North Carolina Chapter\, will host its Annual Gala & Silent Auction where there will be entertainment\, lots of items to be won at the live and silent auction and on Friday\, Dec 2nd\, 2022\, we will have breakfast followed by education and a charity drive. This signature event will bring together travel industry professionals and their guests (Could be family or friends not in the travel industry)\, to spend time together having a wonderful experience at DoubleTree by Hilton Asheville Downtown NC. This event will prove to be a fun opportunity for networking and reconnecting with industry colleagues and celebrate the spirit of the holiday season with those who make a difference in our lives personally & professionally. \nEvent Speaker \nEdyta Satchell\, Travel & Beauty Wellness Expert | Finelle \nLocation of Event \nAsheville\, NC \nVenue Information \nDoubleTree by Hilton Asheville Downtown\, 199 Haywood Street\, Asheville\, NC 28801 \nPricing & registration \nMembers – $100\nGuests (Non Travel Industry) – $75\nBuyers – $75\nNon-Members – $125
URL:https://gbta.org/event/north-carolina-chapter-ncbta-annual-gala-silent-auction-charity-education/
CATEGORIES:US Chapter Event
END:VEVENT
BEGIN:VEVENT
DTSTART;TZID=America/Mexico_City:20221201T090000
DTEND;TZID=America/Mexico_City:20221201T100000
DTSTAMP:20260420T024707
CREATED:20220803T183159Z
LAST-MODIFIED:20221130T124100Z
UID:3840-1669885200-1669888800@gbta.org
SUMMARY:EL ENTRENAMIENTO NECESARIO O treinamento necessário
DESCRIPTION:1 Diciembre\, 9:00 am MEX / 12:00 pm BUE \nDel saber al saber hacer: te invitamos a un viaje a través del turismo\, el deporte\, la vida\, la ciencia y las emociones para alcanzar nuestras mayores metas. \nDo conhecimento ao know-how: convidamos você a uma viagem pelo turismo\, esporte\, vida\, ciência e emoções para alcançar os nossos maiores objetivos. \nEvent Speaker \nPEPO MUÑOZ\n#sonreidor\nInternational Event & Travel Consultant \nEvento sin cargo\, para Compradores y Proveedores de Viajes Corporativos de América Latina. \n¡Último evento del año! Conéctate desde tu oficina u hogar durante apenas una hora con nosotros para poder conocer las últimas novedades que tenemos para ti desde GBTA\, seguido de una presentación original y única: ” El Entrenamiento Necesario” by Pepo Muñoz. Del saber al saber hacer: te invitamos a un viaje a través del turismo\, el deporte\, la vida\, la ciencia y las emociones para alcanzar nuestras mayores metas. Registro abierto\, el acceso es solo con registro. Dudas? Preguntas? Escribenos a latamevents@gbta.org \nÚltimo evento do ano! Conecte-se do seu escritório ou casa por apenas uma hora conosco para conhecer as últimas notícias que temos para você da GBTA\, seguido de uma apresentação original e única: “O treinamento necessário” de Pepo Muñoz. Do conhecimento ao know-how: convidamos você a participar de uma viagem pelo turismo\, esporte\, vida\, ciência e emoções para alcançar os nossos maiores objetivos. Dúvidas? Perguntas? Escreva para nos ao nosso email\, latamevents@gbta.org \nMade possible by:
URL:https://gbta.org/event/foro-de-encuentro-virtual-y-regional/
LOCATION:Virtual
CATEGORIES:LATAM,Summits & Workshops
END:VEVENT
BEGIN:VEVENT
DTSTART;TZID=America/New_York:20221201T100000
DTEND;TZID=America/New_York:20221201T110000
DTSTAMP:20260420T024707
CREATED:20221108T052631Z
LAST-MODIFIED:20221114T141729Z
UID:7975-1669888800-1669892400@gbta.org
SUMMARY:SAVE THE DATE: Webinar GBTA Italia - “Global Business Travel Forecast 2023”
DESCRIPTION:Data: 1 dicembre 2022 \nOrario: dalle 10.00 am alle 11.00 am \nLingua: italiano \nI prezzi di viaggio continueranno a crescere non solo in questa parte finale del 2022 ma anche per tutto il 2023. L’aumento dei prezzi del carburante\, la carenza di manodopera e le pressioni inflazionistiche sui costi delle materie prime sono i fattori principali che influenzeranno la crescita. \nQual è la strategia migliore per affrontare questo mercato?  \nDurante il Webinar del 1 dicembre analizzeremo i tratti salienti del “2023 Global Business Travel Forecast” realizzato da CWT e GBTA e con il supporto di Travel Manager e Travel Buyer condivideremo tattiche e idee per disinnescare i rischi e sfruttare al meglio le opportunità che ne conseguono. \nL’evento è possibile grazie agli Annual Partner di GBTA Italia:
URL:https://gbta.org/event/save-the-date-webinar-gbta-italia-global-business-travel-forecast-2023/
LOCATION:Virtual
CATEGORIES:Italy
END:VEVENT
BEGIN:VEVENT
DTSTART;TZID=America/New_York:20221201T100000
DTEND;TZID=America/New_York:20221201T110000
DTSTAMP:20260420T024707
CREATED:20221114T181059Z
LAST-MODIFIED:20221114T184718Z
UID:8073-1669888800-1669892400@gbta.org
SUMMARY:Global Business Travel Forecast 2023
DESCRIPTION:Data: 1 dicembre 2022\nOrario: dalle 10.00 am alle 11.00 am\nLingua: italiano \nI prezzi di viaggio continueranno a crescere non solo in questa parte finale del 2022 ma anche per tutto il 2023. L’aumento dei prezzi del carburante\, la carenza di manodopera e le pressioni inflazionistiche sui costi delle materie prime sono i fattori principali che influenzeranno la crescita. \nQual è la strategia migliore per affrontare questo mercato? \nDurante il Webinar del 1 dicembre analizzeremo i tratti salienti del “2023 Global Business Travel Forecast” realizzato da CWT e GBTA e con il supporto di Travel Manager e Travel Buyer condivideremo tattiche e idee per disinnescare i rischi e sfruttare al meglio le opportunità che ne conseguono. \nPartner \nL’evento è possibile grazie agli Annual Partner di GBTA Italia:
URL:https://gbta.org/event/global-business-travel-forecast-2023/
CATEGORIES:Italy
END:VEVENT
BEGIN:VEVENT
DTSTART;TZID=America/New_York:20221201T110000
DTEND;TZID=America/New_York:20221201T120000
DTSTAMP:20260420T024707
CREATED:20221117T053600Z
LAST-MODIFIED:20221121T164838Z
UID:8108-1669892400-1669896000@gbta.org
SUMMARY:GBTA Board of Directors Town Hall
DESCRIPTION:Join the GBTA Board of Directors in their final Town Hall of 2022. The Board will be providing updates on their activity\, reviewing education plans for next year\, exploring sustainability\, and more. There’s an opportunity to make your voice heard too\, with a Q & A with the Board. \nStart: December 1\, 2022 11:00 AM ET\nEnd: December 1\, 2022 12:00 PM ET \nTimezone:\n\n11:00 – 12:00 EST\n10:00 – 11:00 CST\n16:00 – 17:00 GMT\n17:00 – 18:00 CET \nLocation: Virtual \nPricing: Complementary
URL:https://gbta.org/event/gbta-board-of-directors-town-hall/
CATEGORIES:Summits & Workshops
END:VEVENT
BEGIN:VEVENT
DTSTART;TZID=America/New_York:20221207T110000
DTEND;TZID=America/New_York:20221207T120000
DTSTAMP:20260420T024707
CREATED:20221111T041114Z
LAST-MODIFIED:20221121T135805Z
UID:8048-1670410800-1670414400@gbta.org
SUMMARY:Global Business Travel Index (BTI)™: Outlook for Global Business Travel 2022 – 2026
DESCRIPTION:For the past 14 years\, the BTI has been a signature GBTA research study. It is a critical industry planning tool that provides an exhaustive study of business travel spending and growth covering 75 countries across 48 industries and provides a five-year forward looking forecast. It provides demand-side measurements of all types of business trips and all spending while on a trip. This includes everything spent on business travel including airfare\, hotel\, dining\, car rental\, train travel\, incidental purchases made during the trip\, taxi/ride sharing\, etc. In addition\, it is the industry benchmark for business travel spend and receives considerable media coverage. \nIn partnership with Mastercard\, this session will examine key topics including: business travel trends between 2019 – 2022\, insights into business travelers’ sentiment toward returning to travel\, how sustainability and technology are changing business travel\, and more. Join us for a look at the state of the industry and what’s likely in store for the next five years. \nEvent Speaker \n \n  \nLydie Charpin – Vice President of Corporate Travel and Spend Management\, Mastercard \n  \n  \n  \n \n  \nJon Grey – Principal\, Rockport Analytics \n  \n  \n  \nMade Possible by Mastercard
URL:https://gbta.org/event/global-business-travel-index-bti-outlook-for-global-business-travel-2022-2026/
LOCATION:Virtual
CATEGORIES:Online Courses & Webinars
END:VEVENT
BEGIN:VEVENT
DTSTART;VALUE=DATE:20221208
DTEND;VALUE=DATE:20221209
DTSTAMP:20260420T024707
CREATED:20221114T175322Z
LAST-MODIFIED:20221114T175434Z
UID:8066-1670457600-1670543999@gbta.org
SUMMARY:Philadelphia Chapter - 17th Annual Holiday Gala & Silent Auction
DESCRIPTION:Get ready to dance the night away at the 17th Annual GBTA Philadelphia Holiday Party! \nYou are formally invited to GBTA Philadelphia’s 17th Annual Holiday Gala and Silent Auction. There will be an open bar\, cocktail hour\, silent auction and entertainment. \nLocation of Event \nConshohocken\, Pa \nVenue Information \nHotel West & Main Conshohocken\, 46 Fayette Street\, Conshohocken\, PA 19428 \nFREE PARKING FROM 5PM – 2AM! \nPricing and Registration \n$125.00 Member Holiday Party Price\n$150.00 after 5:00 pm November 25 \n$150.00 Guest Price\n$175.00 after 5:00 pm November 25 \n$1\,200.00 Holiday Party Table of 10 \n$125.00 GBTA All-Access Member Who Is NOT A Philadelphia Chapter Member\n$150.00 after 05:00 pm November 25
URL:https://gbta.org/event/philadelphia-chapter-17th-annual-holiday-gala-silent-auction/
CATEGORIES:US Chapter Event
END:VEVENT
BEGIN:VEVENT
DTSTART;VALUE=DATE:20221208
DTEND;VALUE=DATE:20221209
DTSTAMP:20260420T024707
CREATED:20221114T175659Z
LAST-MODIFIED:20221205T152648Z
UID:8070-1670457600-1670543999@gbta.org
SUMMARY:Silicon Valley Chapter - The Future of the Convention Industry. What does 2023 and beyond look like for the Silicon Valley? - GTP Credit Approved
DESCRIPTION:Join us virtually to hear how the Convention Visitors Bureau’s are handling the future of conventions and large meetings as we listen in on a panel discussion with San Jose\, Santa Clara and Oakland CVB’s.  What are the pain points we should look out for and how can we guide our attendees as we navigate 2023 \nEvent Speaker  \nAlby Gebretsadik\nChristine Lawson\nPeter Gamez\nKevin Iwamoto
URL:https://gbta.org/event/silicon-valley-chapter-the-future-of-the-convention-industry-what-does-2023-and-beyond-look-like-for-the-silicon-valley/
LOCATION:Virtual
CATEGORIES:US Chapter Event
END:VEVENT
BEGIN:VEVENT
DTSTART;VALUE=DATE:20221208
DTEND;VALUE=DATE:20221209
DTSTAMP:20260420T024707
CREATED:20221123T150805Z
LAST-MODIFIED:20221123T151146Z
UID:8159-1670457600-1670543999@gbta.org
SUMMARY:North Central Chapter - Annual Holiday Gala & Scholarship Fundraiser Event
DESCRIPTION:Annual Holiday Gala & Scholarship Fundraiser Event with silent auction \nLocation of Event \nBloomington\, MN \nVenue Information \nRenaissance Minneapolis Bloomington Hotel\, 5500 American Boulevard West\, Bloomington\, MN 55437 \nFree Parking \nPricing and Registration \n$45 guest fee
URL:https://gbta.org/event/north-central-chapter-annual-holiday-gala-scholarship-fundraiser-event/
CATEGORIES:US Chapter Event
END:VEVENT
BEGIN:VEVENT
DTSTART;TZID=America/New_York:20221208T163000
DTEND;TZID=America/New_York:20221209T190000
DTSTAMP:20260420T024707
CREATED:20220803T183644Z
LAST-MODIFIED:20221115T140721Z
UID:3844-1670517000-1670612400@gbta.org
SUMMARY:APAC Travel Summit
DESCRIPTION:PATA and GBTA to host APAC Travel Summit in Bangkok\, Thailand\nThe two-day\, first-of-its-kind joint event in Asia will address sustainability and best practices in the tourism\, MICE\, and corporate travel spheres \nThe Pacific Asia Travel Association (PATA) in partnership with the Global Business Travel Association (GBTA) will host their inaugural PATA & GBTA APAC Travel Summit at the new\, state-of-the-art Queen Sirikit National Convention Center (QSNCC) in Bangkok\, Thailand from December 8-9\, 2022. \nView more information
URL:https://gbta.org/event/apac-travel-summit/
LOCATION:in-person
CATEGORIES:Summits & Workshops,Sustainability
ATTACH;FMTTYPE=image/png:https://gbta.org/wp-content/uploads/APAC-Travel-Summit-2022-1.png
END:VEVENT
BEGIN:VEVENT
DTSTART;VALUE=DATE:20221213
DTEND;VALUE=DATE:20221214
DTSTAMP:20260420T024707
CREATED:20221121T134129Z
LAST-MODIFIED:20221205T152327Z
UID:8134-1670889600-1670975999@gbta.org
SUMMARY:Ohio Valley Chapter - OVBTA Holiday Meeting - GTP Credit Approved
DESCRIPTION:Please join the Ohio Valley BTA for an exciting Holiday meeting! We will have speakers focusing on creating belonging for your teams\, a leadership focus for 2023\, and a review of Best Practices for Business Travel as we move into a new year. \nLocation of event \nColumbus\, OH \nVenue Information \nHyatt House Columbus OSU North\, 633 West 5th Avenue\, Columbus \, OH 43201
URL:https://gbta.org/event/ohio-valley-chapter-ovbta-holiday-meeting/
CATEGORIES:US Chapter Event
END:VEVENT
BEGIN:VEVENT
DTSTART;TZID=America/New_York:20221214T100000
DTEND;TZID=America/New_York:20221214T110000
DTSTAMP:20260420T024707
CREATED:20220803T183321Z
LAST-MODIFIED:20221212T143753Z
UID:3842-1671012000-1671015600@gbta.org
SUMMARY:GBTA Europe Town Hall
DESCRIPTION:Join GBTA’s volunteer leadership as the European and Global committees share what they see as the key themes for 2023 and what they are planning to deliver in the fields of: \n\nAccommodations\nAviation\nDE&I\nMeetings\nPayment Solution\nRisk\nSustainability\nTechnology
URL:https://gbta.org/event/gbta-europe-town-hall-2/
LOCATION:Virtual
CATEGORIES:Europe,France,Italy,Summits & Workshops
END:VEVENT
BEGIN:VEVENT
DTSTART;VALUE=DATE:20221215
DTEND;VALUE=DATE:20221216
DTSTAMP:20260420T024707
CREATED:20221104T091734Z
LAST-MODIFIED:20221104T091921Z
UID:7943-1671062400-1671148799@gbta.org
SUMMARY:Puget Sound Chapter - December Annual Holiday Celebration General Meeting
DESCRIPTION:Holiday Celebration and thank you to our sponsor: FIJI Airways – oneworld connect \nLocation of Event \nSeattle\, WA \nVenue Information \nFairmont Hotel\, 411 University Street\, Seattle\, WA 98101\nhttp://www.fairmont.com/seattle/
URL:https://gbta.org/event/puget-sound-chapter-december-annual-holiday-celebration-general-meeting/
CATEGORIES:US Chapter Event
END:VEVENT
BEGIN:VEVENT
DTSTART;VALUE=DATE:20221215
DTEND;VALUE=DATE:20221216
DTSTAMP:20260420T024707
CREATED:20221205T151948Z
LAST-MODIFIED:20221205T152039Z
UID:8290-1671062400-1671148799@gbta.org
SUMMARY:Puget Sound Chapter - PSBTA Annual Holiday Meeting
DESCRIPTION:As the year comes to a close we invite you to join us at the beautiful Fairmont Hotel.  This is an event not to be missed.  It’s a great time of connection\, reflection\, fun and lots of Bingo prizes – including tickets from our sponsor Fiji Airways.  It has been a great year for business travel and it is time to celebrate! \nGBTA Puget Sound Chapter’s charity partner\, Ronald McDonald House\, will be joining us and giving us an update on their programs and how we can continue to work together and the opportunities for the season of giving. \nTake a look at the links below for ways you can contribute to their cause. \nIn Kind Cash Donations – Donate\nSeattle House Supplies\nCraft Room\nToys\nAmazon List for Family Resource Center \nAnd Thank you to our Sponsors: FIJI Airways /OneWorld Connect Airline Group \nEvent Speaker \nRonald McDonald House Representative | Ronald McDonald House Charities \nLocation of Event \nSeattle\, WA \nVenue Information \nFairmont Hotel\, 411 University Street Seattle\, WA 98101\nhttp://www.fairmont.com/seattle/ \nPricing and Registration \n$50.00 Members\n$75.00 after 11:00 pm December 11 \n$75.00 Non-Members\n$100.00 after 11:00 pm December 11 \n$400.00 Table for 8\n$575.00 after 11:00 pm December 11 \n$50.00 All Access GBTA Member Ticket\n$75.00 after 11:00 pm December 11 \n$20.00 Bingo – 3 tickets for $20
URL:https://gbta.org/event/puget-sound-chapter-psbta-annual-holiday-meeting/
CATEGORIES:US Chapter Event
END:VEVENT
END:VCALENDAR