BEGIN:VCALENDAR
VERSION:2.0
PRODID:-//Global Business Travel Association - GBTA - ECPv6.9.0//NONSGML v1.0//EN
CALSCALE:GREGORIAN
METHOD:PUBLISH
X-WR-CALNAME:Global Business Travel Association - GBTA
X-ORIGINAL-URL:https://gbta.org
X-WR-CALDESC:Events for Global Business Travel Association - GBTA
REFRESH-INTERVAL;VALUE=DURATION:PT1H
X-Robots-Tag:noindex
X-PUBLISHED-TTL:PT1H
BEGIN:VTIMEZONE
TZID:America/New_York
BEGIN:DAYLIGHT
TZOFFSETFROM:-0500
TZOFFSETTO:-0400
TZNAME:EDT
DTSTART:20230312T070000
END:DAYLIGHT
BEGIN:STANDARD
TZOFFSETFROM:-0400
TZOFFSETTO:-0500
TZNAME:EST
DTSTART:20231105T060000
END:STANDARD
TZID:UTC
BEGIN:STANDARD
TZOFFSETFROM:+0000
TZOFFSETTO:+0000
TZNAME:UTC
DTSTART:20230101T000000
END:STANDARD
END:VTIMEZONE
BEGIN:VEVENT
DTSTART;VALUE=DATE:20230110
DTEND;VALUE=DATE:20230111
DTSTAMP:20260419T235710
CREATED:20230107T162204Z
LAST-MODIFIED:20230107T163310Z
UID:8599-1673308800-1673395199@gbta.org
SUMMARY:South Florida Chapter - GBTA South Florida January Educational Forum: The Problems and Solutions to Corporate Travel Leakage
DESCRIPTION:Ever since technology was introduced into the corporate travel landscape\, the ability for travelers to have a plethora of options in their bookings has led to multiple challenges for both corporate travel suppliers and managers. The primary challenge that arises from these options is that travelers choose them\, which means they are not staying within the confines of the corporate travel program.This booking “leakage” presents multiple gaps in an organization’s travel program\, including gaps in duty of care\, compliance oversight\, savings management\, and more. How did we get here\, what have we done to solve this challenge\, and what technologies have emerged to help bridge these gaps? Join us as Justin Morris from Traxo discusses the history\, challenges\, and potential solutions. \nEvent Speaker \nJustin Morris\, Director of Sales | Traxo \nLocation of Event \nWest Palm Beach\, FL \nVenue Information \nHilton West Palm Beach\n600 Okeechobee Blvd\nWest Palm Beach\, FL 33401\nDiscounted Parking: $15 \nPricing and Registration \nGBTA South Florida and All Access Members= $50.00\nNon-Members= $9000
URL:https://gbta.org/event/south-florida-chapter-gbta-south-florida-january-educational-forum-the-problems-and-solutions-to-corporate-travel-leakage/
CATEGORIES:North America,US Chapter Event
END:VEVENT
BEGIN:VEVENT
DTSTART;VALUE=DATE:20230111
DTEND;VALUE=DATE:20230112
DTSTAMP:20260419T235710
CREATED:20221223T155643Z
LAST-MODIFIED:20221223T155825Z
UID:8533-1673395200-1673481599@gbta.org
SUMMARY:Los Angeles Chapter - Building A Better LAX!
DESCRIPTION:Learn what LAX has already accomplished and the incredible things still to come at this informative and engaging update! \nEvent Speaker \nHeath Montgomery\, Managing Director for Public & Community Affairs | Los Angles World Airports \nLocation of Event \nLos Angeles\, CA \nVenue Information \nRenaissance Los Angeles Airport Hotel\, 9620 Airport Blvd. Los Angeles\, CA 90045 \nPricing and Registration \nRegister at www.labta.org\nMembers: $75.00\nGuests: $105.00
URL:https://gbta.org/event/los-angeles-chapter-building-a-better-lax/
CATEGORIES:North America,US Chapter Event
END:VEVENT
BEGIN:VEVENT
DTSTART;VALUE=DATE:20230112
DTEND;VALUE=DATE:20230113
DTSTAMP:20260419T235710
CREATED:20221222T140011Z
LAST-MODIFIED:20221222T141749Z
UID:8517-1673481600-1673567999@gbta.org
SUMMARY:North Central Chapter - An Industry Reset: Managed Travel for 2023 and Beyond
DESCRIPTION:Join us as we explore our learnings from the past 2 years and their impact on our 2023 strategies. Buyers and sellers will be showcased as “partnership” became not only our most important word\, but a lifeline to our success. We’ll discuss policy\, contracting\, pricing\, implementations\, labor challenges\, and communication requirements\, all wrapped up in best practices for 2023 managed travel programs. \nEvent Speaker \nWill Tate\, Partner | GoldSpring Consulting \nLocation of Event \nMinneapolis\, MN \nVenue Information \nRoyal Sonesta Minneapolis Downtown\, 35 S 7th Street\, Minneapolis\, MN 55402
URL:https://gbta.org/event/north-central-chapter-an-industry-reset-managed-travel-for-2023-and-beyond/
CATEGORIES:US Chapter Event
END:VEVENT
BEGIN:VEVENT
DTSTART;VALUE=DATE:20230112
DTEND;VALUE=DATE:20230113
DTSTAMP:20260419T235710
CREATED:20230105T024121Z
LAST-MODIFIED:20230105T024809Z
UID:8546-1673481600-1673567999@gbta.org
SUMMARY:Silicon Valley Chapter - Start the Year Off Right: Goal Setting for Your Career
DESCRIPTION:Maria Chevalier is a dynamic and focused industry executive who has founded a career search group to help people where she mentors and coaches the travel industry professionals to find their dream jobs.Learning objectives:How to define and find your dream job.What are the goals can you set to be successful?  A big picture goal and weekly tactical goals.Career search process – goal setting for every step.Networking tips – goal setting for each networking event; network with a purpose.How to be an effective leader so that you can advance your career. \nEvent Speaker \nMaria Chevalier\, Sr. Director\, Connectivity Partnerships\, TripActions & Board Member\, GBTA \n 
URL:https://gbta.org/event/silicon-valley-chapter-start-the-year-off-right-goal-setting-for-your-career/
LOCATION:Virtual
CATEGORIES:North America,US Chapter Event
END:VEVENT
BEGIN:VEVENT
DTSTART;VALUE=DATE:20230112
DTEND;VALUE=DATE:20230113
DTSTAMP:20260419T235710
CREATED:20230105T145305Z
LAST-MODIFIED:20230107T164716Z
UID:8573-1673481600-1673567999@gbta.org
SUMMARY:Utah Chapter - Utah Chapter January Monthly Meeting-Gen Y and Gen Z influencers on Managed Travel - GTP Credit Approved
DESCRIPTION:Gen Y & Gen Z Influencers on Managed Travel. The new generations are here and are dominating the travel industry. Get a deep dive into the habits of these generations and the impact they are having on managed travel – from new trends to increasing demands – and actionable steps to make your programs and products more Y & Z friendly. \nNavigating the New World of Social Travel. Learn how business travelers are using social media and how its changing the travel landscape for good. Learn best practices on how to integrate social media into a travel program including real-world examples of innovative social media practices. \nEvent Speaker  \nTim Hines\, Marketing Starter\, Evangelist\, keynote speaker | AmTrav \nLocation of  Event \nMurray\, Utah \nVenue Information \nTownePlace Suites Murray Utah\, 148 E. 5300 S.\, Murray\, UT\, 84123.  Free Parking \nPricing and Registration \n35.00 registration fee for non members and guests
URL:https://gbta.org/event/utah-chapter-utah-chapter-january-monthly-meeting-gen-y-and-gen-z-influencers-on-managed-travel/
CATEGORIES:North America,US Chapter Event
END:VEVENT
BEGIN:VEVENT
DTSTART;VALUE=DATE:20230117
DTEND;VALUE=DATE:20230118
DTSTAMP:20260419T235710
CREATED:20221220T145850Z
LAST-MODIFIED:20230105T031232Z
UID:8477-1673913600-1673999999@gbta.org
SUMMARY:Tennessee Chapter - New Year\, New You: GBTA-TN Annual Business Meeting and Updates from Visit Music City  -  GTP Credit Approved
DESCRIPTION:Join GBTA-TN for our Annual Business Meeting and a city outlook from Nashville CVC. \nGBTA-TN President\, Sabrina Kronk\, will provide updates and forecast for the Chapter. In addition to our featured speakers\, Butch Spyridon\, CEO\, and Deana Ivy\, President\, of the Nashville Convention & Visitors Corporation (NCVC). \nThe Dynamic Duo will share what is in store for Nashville and the Midstate as we continue to grow even stronger in our ever-changing times. During this meeting you will gain the forecast for tourism\, marketing strategies and encouraging news in the hospitality industry with hotels opening and growth at the airport. \nEvent Speaker \nButch Spyridon\, CEO | Nashville CVC \nLocation of Event \nNashville\, TN \nVenue Information  \nThompson Nashville – 401 11th Ave S\, Nashville\, TN 37203 \nPricing and Registration \nRSVP via meeting registration at tennesseebta.org.
URL:https://gbta.org/event/tennessee-chapter-new-year-new-you-gbta-tn-annual-business-meeting-and-updates-from-visit-music-city/
CATEGORIES:US Chapter Event
END:VEVENT
BEGIN:VEVENT
DTSTART;VALUE=DATE:20230117
DTEND;VALUE=DATE:20230119
DTSTAMP:20260419T235710
CREATED:20221102T173110Z
LAST-MODIFIED:20230111T130550Z
UID:7919-1673913600-1674086399@gbta.org
SUMMARY:Travel Risk Management Bootcamp: Understanding and Implementing ISO31030
DESCRIPTION:Timezone\n14:00 to 17:00 UTC(00+00)\n \nCourse Outline \nExplore Travel Risk Management in the context of the new ISO 31030 standard and gain the tools and confidence to update and/or create a robust system within your organization to ensure the safety and well-being of travellers. This course\, led by travel risk management experts Global Secure Accreditation in conjunction with GBTA\, is designed to give practical guidance to anyone involved in building\, supporting and managing corporate travel programs. \nCourse Benefits \n\nLearn from travel risk management experts and get your questions answered.\nStudy with industry peers and learn from each other’s experiences and perspectives.\nReceive a ready-to-use workbook of templates to help create the systems and processes discussed in the course within your organisation.\nKeep a copy of the presentation materials as a reference guide.\nEarn a GBTA Travel Risk Management certificate and 6 credits towards your GTP status.\n\nWhat Content Is Covered in the Course? \n\nThe organisation’s scope and context.\nRisk identification\, characterization and control processes.\nEducation\, awareness and support of travellers.\nDocumentation\, reporting and auditing.\n\nWho should take this Course? \n\nTravel Managers and Directors\nCorporate Security and Risk Managers\nProcurement or other Managers with a responsibility for travel\n\nHow will this Course be delivered? \nThis course will be delivered as a one-day\, virtual event with expert speaker presentations\, group sessions and individual exercises to complete. \nEvent Speakers \nBrian Moore\, Operations Director – Brian served in the police service as an investigator for 34 years rising to the rank of Chief Constable of Wiltshire Police and subsequently as Director General of the UK Border Force. He is a former national lead for prevention of violent crime who was awarded the Queen’s Police Medal for distinguished service. Following his Police career Brian has been a board director of a leading private investigation company before joining Global Secure Accreditation (GSA) as operation director. \nSandy Moring\, Corporate Travel Advisor – Sandy has held a wide range of travel roles with global travel management companies and other large corporates. With a strong operational background\, she has led projects to improve productivity and engagement and devised innovative technology solutions\, many of which have been recognised by industry awards. Her interest in risk management goes back to her first role when working for an overland expedition company when she travelled by truck from London to Kathmandu and from Quito to Rio de Janeiro via Peru and Bolivia. Enhanced by this hands-on experience\, she has developed an ability to evaluate the rapidly changing face of corporate travel management relating to key topics such as risk management and sustainability. As former Director of Education for the Institute of Travel Management\, Sandy established the inaugural ITM Travel Risk Management Summit in 2016 helping launch the Run\, Hide\, Tell campaign for the UK Government and continues to deliver GBTA corporate travel management training across Europe\, specialising in travel risk management. \nBob Quick\, Executive Director and founder – Bob spent 32 years with the British Police Service\, culminating in the role of Chief Constable of Surrey. As UK Policing lead for Counter Terrorism\, Bob oversaw investigations into some of the most complex terrorism cases. He was further responsible for the protection of the British Royal Family\, Prime Minister and Cabinet as well as leading security for the UK diplomatic community and visiting Heads of State. Bob was one of the founders of Global Secure Accreditation (GSA) and is responsible for GSA’s global strategy. \nLee Whiteing\, Commercial Director – Lee joined Global Secure Accreditation (GSA) following a 27 year career with HSBC. He is responsible for GSA’s commercial activities including hotel security assessments\, training and consultancy activities as well as partnerships with industry third parties. Before joining GSA\, Lee was Head of Global Travel Operations\, where he was responsible for the bank’s travel programme. At HSBC\, Lee created a ‘customer-first’ ethos for the bank’s travel programme\, focusing on enhancing the traveller experience for staff.
URL:https://gbta.org/event/travel-risk-management-bootcamp-understanding-and-implementing-iso31030-3/
CATEGORIES:Europe,France
END:VEVENT
BEGIN:VEVENT
DTSTART;VALUE=DATE:20230118
DTEND;VALUE=DATE:20230119
DTSTAMP:20260419T235710
CREATED:20230105T030520Z
LAST-MODIFIED:20230105T031117Z
UID:8552-1674000000-1674086399@gbta.org
SUMMARY:Puget Sound Chapter - Community Engagement & DEI Strategies Jan 2023
DESCRIPTION:Join us for great information and networking. \nEvent Speaker \nMollie Ohlhaut\, General Manager of PNW Sales Team | Delta Airlines \nLocation of Event \nArcher Hotel\, Redmond WA \nVenue Information  \nArcher Hotel\, 7200 164th Ave NE\, Redmond\, WA 98052 \nPricing and Registration \nMember – $60\nGuests – $75
URL:https://gbta.org/event/puget-sound-chapter-community-engagement-dei-strategies-jan-2023/
CATEGORIES:North America,US Chapter Event
END:VEVENT
BEGIN:VEVENT
DTSTART;VALUE=DATE:20230119
DTEND;VALUE=DATE:20230120
DTSTAMP:20260419T235710
CREATED:20230107T163719Z
LAST-MODIFIED:20230120T101501Z
UID:8602-1674086400-1674172799@gbta.org
SUMMARY:New Jersey Chapter - Creating an Authentic Place of Work! - GTP Credit Approved
DESCRIPTION:Happy New Year!! \nPlease join GBTA-NJ for an important discussion on how we create a workplace culture of empathy\, cohesiveness\, and belonging. With more companies bringing diversity\, equity\, and inclusion practices into their travel buying decision-making\, this highly interactive session will provide skills\, tools and knowledge that will allow for effective communication and understanding amongst participants that will aid in creating a culture that promotes employee and customer engagement\, satisfaction\, and retention. By sharing real-life experiences\, this session will allow attendees to both teach and learn about one another to further our understanding\, acceptance\, and inclusion of both internal and external colleagues in a more authentic way. \nEvent Speaker \nJackie Lue Raia\, President | Alexena Consulting \nLocation of Event \nFlorham Park\, New Jersey \nVenue Information \nArcher Hotel Florham Park\, 130 Park Ave\, Florham Park\, NJ 07932 \nPricing and Registration \n$65.00 Member Registration\n$99.00 Non-Member Registration
URL:https://gbta.org/event/new-jersey-chapter-creating-an-authentic-place-of-work/
CATEGORIES:North America,US Chapter Event
END:VEVENT
BEGIN:VEVENT
DTSTART;TZID=America/New_York:20230120T130000
DTEND;TZID=America/New_York:20230120T140000
DTSTAMP:20260419T235710
CREATED:20221221T134401Z
LAST-MODIFIED:20230116T142625Z
UID:8486-1674219600-1674223200@gbta.org
SUMMARY:The Fundamentals of Business Travel Management™
DESCRIPTION:Designed as a comprehensive guide to the key areas of managed travel\, GBTA’s Fundamentals curriculum includes a full range of topics including safety\, policy\, trends\, performance\, and more. Participants in this course gain a better understanding of business travel management and make themselves indispensable to the business travel needs of their organization. Please note this is a virtual event. GTP holders will earn 14 GTP® Recertification credits. \nPricing and Registration \nComplimentary to GBTA members\, $550 non-members \nLearn More
URL:https://gbta.org/event/the-fundamentals-of-business-travel-management/
LOCATION:Virtual
CATEGORIES:Learning,Online Courses & Webinars
END:VEVENT
BEGIN:VEVENT
DTSTART;VALUE=DATE:20230123
DTEND;VALUE=DATE:20230125
DTSTAMP:20260419T235710
CREATED:20221116T163129Z
LAST-MODIFIED:20230118T085204Z
UID:8101-1674432000-1674604799@gbta.org
SUMMARY:GBTA Leadership Summit 2023
DESCRIPTION:Event Dates\nMonday\, January 23 – Tuesday\, January 24\, 2023 \nAgenda\nMonday\, January 23\, 2022\n1:00 PM – 5:00 PM – General SessionGBTA Updates and State of the IndustryGBTA Membership/Hub/VolunteerismWellness FeaturePersonal/Professional Development Speaker5:00 PM – 7:00 PM – Welcome ReceptionDinner on Own \nTuesday\, January 24\, 2023\n7:15 AM – 8:15 AM – Networking Breakfast8:00 AM – 8:15 AM – General Session8:30 AM – 12:15 PM – Breakouts12:15 PM – 1:30 PM – Networking Lunch1:30 PM – 5:00 PM – General SessionTSA/Real ID and Fireside ChatLegislative/Chapter Challenge UpdatesDEI for Chapter MeetingsImmediate Past President Panel \nPossible Breakout Topics:Ladders\, Treasury\, Scholarships\, GBTA HUB\, StarChapter\,Sustainable/DEI Meetings\, Chapter Exchange\, Chapter Venue Sourcing\,Chapter Meeting Content\, Succession Planning\,Increasing Membership\, Sponsorships\, Roberts Rules of Order and increasing meeting attendance. \nAgenda and breakout topics are subject to change \nVenue and Hotel\nHilton Los Angeles Airport\n5711 West Century Blvd\nLos Angeles\, CA 90045\n(310) 410-4000\nhttps://www.hilton.com/en/hotels/laxahhh-hilton-los-angeles-airport/ \nParking\nSelf-parking is $20 and Valet is $30 (discounted rate for GBTA attendees)\n \nInterested in sponsorship? View the Sponsorship Prospectus> \nLearn More About this Event Here \nMade Possible by
URL:https://gbta.org/event/gbta-leadership-summit-2023/
LOCATION:in-person
CATEGORIES:Summits & Workshops
END:VEVENT
BEGIN:VEVENT
DTSTART;TZID=America/New_York:20230125T110000
DTEND;TZID=America/New_York:20230125T120000
DTSTAMP:20260419T235710
CREATED:20221221T151529Z
LAST-MODIFIED:20221221T151820Z
UID:8507-1674644400-1674648000@gbta.org
SUMMARY:How AI can turn travel managers into rockstars
DESCRIPTION:With so many eyes on every dollar spent\, T&E is once again on the front lines of organizational spend reductions. But if you’re not auditing and analyzing 100% of your expenses\, how will you know where to make adjustments without affecting your carefully crafted travel program? AI-driven expense auditing can be a valuable partner to travel managers\, helping you to save time\, reduce workloads\, identify potential errors and fraud\, and ensure compliance with company policies. It gives you the perfect opportunity to look like a rockstar\, making policy changes based on accurate\, near-real-time data. \nJoin this session with AppZen to learn what AI is (and what it isn’t) and how AI-driven expense auditing saves you time and money\, and reduces errors. Saman Khatami\, AppZen’s Director of Product Marketing\, will show you how AI can: \n• Reduce costs and compliance risk\, and even change employee spend behavior\n• Retain institutional knowledge\, regardless of FTE reductions\n• Read invoice content and context like a person to improve the accuracy and speed of approvals \nHe’ll also share some of the strangest expense behaviors AI has caught for his clients. And he’ll share best practice tips for customizing policies and audit rules\, helpful for both new and seasoned Travel Managers alike. Check out this webinar and enshrine your rockstar status. \nSpeakers:  \n\nSaman Khatami\nDirector of Product Marketing\nAppZen \nStart Date and Time: 1/25/2023 11:00am ET\nEnd Date and Time: 1/25/2023 12:00pm ET \nLocation:  \nVirtual\nVenue Information: N/A \nSponsor Information:  \nMade Possible by\n \nGTP Re-Certification Credits: N/A\nPricing & RSVP: Complimentary
URL:https://gbta.org/event/how-ai-can-turn-travel-managers-into-rockstars/
CATEGORIES:North America,Online Courses & Webinars
END:VEVENT
BEGIN:VEVENT
DTSTART;VALUE=DATE:20230126
DTEND;VALUE=DATE:20230127
DTSTAMP:20260419T235710
CREATED:20230105T024631Z
LAST-MODIFIED:20230107T164921Z
UID:8549-1674691200-1674777599@gbta.org
SUMMARY:San Diego Chapter - What's New With New Distribution Capability - GTP Credit Approved
DESCRIPTION:Topic:  We will take a look at a quick recap of the history of the airline reservation systems and will then fast forward to what’s happening today/planned for tomorrow with the New Distribution Capability (NDC). What does this mean to drive better airline retailing in the travel industry? We will find out more! \nEvent Speaker \nSherri\, Schwebach | Amadeus \nLocation of Event \nSan Diego\, CA \nVenue Information \nLegacy Resort Hotel & Spa\n875 Hotel Circle South\nSan Diego CA 92108\nhttps://legacyresortandspa.com/ \nPricing and Registration \n$50.00 members\n$60.00 non-members
URL:https://gbta.org/event/san-diego-chapter-whats-new-with-new-distribution-capability/
CATEGORIES:North America,US Chapter Event
END:VEVENT
END:VCALENDAR