BEGIN:VCALENDAR
VERSION:2.0
PRODID:-//Global Business Travel Association - GBTA - ECPv6.9.0//NONSGML v1.0//EN
CALSCALE:GREGORIAN
METHOD:PUBLISH
X-ORIGINAL-URL:https://gbta.org
X-WR-CALDESC:Events for Global Business Travel Association - GBTA
REFRESH-INTERVAL;VALUE=DURATION:PT1H
X-Robots-Tag:noindex
X-PUBLISHED-TTL:PT1H
BEGIN:VTIMEZONE
TZID:America/New_York
BEGIN:DAYLIGHT
TZOFFSETFROM:-0500
TZOFFSETTO:-0400
TZNAME:EDT
DTSTART:20230312T070000
END:DAYLIGHT
BEGIN:STANDARD
TZOFFSETFROM:-0400
TZOFFSETTO:-0500
TZNAME:EST
DTSTART:20231105T060000
END:STANDARD
END:VTIMEZONE
BEGIN:VEVENT
DTSTART;VALUE=DATE:20230202
DTEND;VALUE=DATE:20230203
DTSTAMP:20260419T202311
CREATED:20230126T133836Z
LAST-MODIFIED:20230126T134108Z
UID:8907-1675296000-1675382399@gbta.org
SUMMARY:North Central Chapter - It’s Time to Share the Love of Travel & Events
DESCRIPTION:The past three years have had a major impact on the travel & tourism industry as we’ve battled unsurmountable challenges.  But our industry is resilient and is on the path to recovery – coming back stronger and more motivated than ever. \nPlease join your friends and colleagues as the members of GBTA North Central\, HSMAI – Minnesota Chapter\, MPI Minnesota Chapter\, and NACE Twin Cities gather for an afternoon of networking\, light bites\, and beverages.  Melvin Tennant\, the President and Chief Executive Officer of Meet Minneapolis\, will present on the travel & tourism industry\, where we have been\, where we are going\, and the importance that travel plays in our economy.  You will also have the opportunity to hear from each participating organization. \nEvent Speaker \nMelvin Tennant\, President and CEO | Meet Minneapolis \nLocation of Event \nMinneapolis\, MN \nVenue Information \nWestin Edina Galleria\, 3201 Galleria\, Edina\, MN 55435 \nPricing and Registration \n$25.00
URL:https://gbta.org/event/north-central-chapter-its-time-to-share-the-love-of-travel-events/
CATEGORIES:North America,US Chapter Event
END:VEVENT
BEGIN:VEVENT
DTSTART;VALUE=DATE:20230208
DTEND;VALUE=DATE:20230209
DTSTAMP:20260419T202311
CREATED:20230124T135448Z
LAST-MODIFIED:20230202T155158Z
UID:8869-1675814400-1675900799@gbta.org
SUMMARY:Los Angeles Chapter - The Problems and Solutions to Corporate Travel “Leakage” - GTP Credit Approved
DESCRIPTION:Ever since technology was introduced into the corporate travel landscape\, the ability for travelers to have a plethora of options in their bookings has led to multiple challenges for both corporate travel suppliers and managers. The primary challenge that arises from these options is that travelers choose them\, which means they are not staying within the confines of the corporate travel program. This booking “leakage” presents multiple gaps in an organization’s travel program\, including gaps in duty of care\, compliance oversight\, savings management\, and more. \nHow did we get here\, what have we done to solve this challenge\, and what technologies have emerged to help bridge these gaps? Our guest speaker\, Justin Morris from Traxo\, will answer these questions and more! \nEvent Speaker \nJustin Morris\, Director of Sales | Traxo \nLocation of Event \nRedondo Beach\, CA \nVenue Information  \nThe Portofino Hotel & Marina\n260 Portofino Way\, Redondo Beach\, CA 90277\nFree Parking \nPricing and Registration \n$85.00 Member Ticket\n$115.00 Guest Ticket\n$20 late fee after 10:00 am February 6
URL:https://gbta.org/event/los-angeles-chapter-the-problems-and-solutions-to-corporate-travel-leakage/
CATEGORIES:North America,US Chapter Event
END:VEVENT
BEGIN:VEVENT
DTSTART;VALUE=DATE:20230209
DTEND;VALUE=DATE:20230210
DTSTAMP:20260419T202311
CREATED:20230126T133017Z
LAST-MODIFIED:20230202T155134Z
UID:8903-1675900800-1675987199@gbta.org
SUMMARY:Utah Chapter - Utah Business Travel Association Airline reservation system\, then and now. Salt Lake City\, Utah - GTP Credit Approved
DESCRIPTION:We look forward to seeing you at the February 2023 UBTA Luncheon.Our Topic will be the following:  Airline Reservation System Now\, Then and Next!We will take a  look at a quick recap of the history of airline reservation systems and will then fast forward to what’s happening today with Amadeus and the New Distribution Capability\, aka NDC\, and what this means to drive better airline retailing in the travel industry.Event Speaker \nSherri Schwebach\, Senior Sales Director | Amadeus \nLocation of Event \nSalt Lake City\, Utah \nVenue Information \nThe Kiln\, 26 S Rio Grande St #2072\, Salt Lake City\, UT 84101 \nPricing and Registration \n$35.00
URL:https://gbta.org/event/utah-chapter-utah-business-travel-association-airline-reservation-system-then-and-now-salt-lake-city-utah/
CATEGORIES:North America,US Chapter Event
END:VEVENT
BEGIN:VEVENT
DTSTART;VALUE=DATE:20230209
DTEND;VALUE=DATE:20230210
DTSTAMP:20260419T202311
CREATED:20230208T073334Z
LAST-MODIFIED:20230208T074848Z
UID:9102-1675900800-1675987199@gbta.org
SUMMARY:Central and North Florida Chapter - Brightline Tour
DESCRIPTION:GBTA | Central & North Florida is excited to invite you on this opportunity to tour Brightline’s Vehicle Maintenance Facility “Basecamp.” The brand new $100M facility\, the most advanced train maintenance facility in the region. You will get a behind the scenes tour of where Brightline will maintain their trains and tour the new trains that will eventually connect Orlando/Central Florida to South Florida. Many in our region having been excitedly waiting for opportunity to connect to South Florida without the need to deal with I-95/Florida’s Turnpike! \nLocation of Event \nOrlando\, FL \nVenue Information \nBrightline – Vehicle Maintenance Facility “Basecamp”\, 11885 Boggy Creek Road\,Orlando\, FL 32824
URL:https://gbta.org/event/central-and-north-florida-chapter-brightline-tour/
CATEGORIES:North America,US Chapter Event
END:VEVENT
BEGIN:VEVENT
DTSTART;VALUE=DATE:20230214
DTEND;VALUE=DATE:20230215
DTSTAMP:20260419T202311
CREATED:20230130T114721Z
LAST-MODIFIED:20230202T155012Z
UID:8933-1676332800-1676419199@gbta.org
SUMMARY:Tennessee Chapter - Business Travel is Taking off: BNA Vision & Operational Updates - GTP Credit Approved
DESCRIPTION:Doug Kreulen\, MNAA’s President and CEO\, shares operational updates and how much business travel is taking off in 2023. BNA® is transforming. BNA® Vision is a growth and expansion plan in Metropolitan Nashville Airport Authority’s continued effort to maintain Nashville International Airport® as a world-class facility for the future of Nashville. \nEvent Speaker \nDoug Kreulen\, President & CEO | Metropolitan Nashville Airport Authority \nLocation of Event \nNashville\, TN \nVenue Information  \nHotel Fraye Nashville Midtown\, 1810 Broadway\, Nashville\, TN 37203 \nPricing and Registration \n$30.00 GBTA-TN Member Registration\n$40.00 after 12:00 pm February 10 \n$30.00 GBTA All-Access Registration\n$40.00 after 12:00 pm February 10 \n$40.00 Guest Registration\n$50.00 after 12:00 pm February 10
URL:https://gbta.org/event/tennessee-chapter-business-travel-is-taking-off-bna-vision-operational-updates/
CATEGORIES:North America,US Chapter Event
END:VEVENT
BEGIN:VEVENT
DTSTART;VALUE=DATE:20230214
DTEND;VALUE=DATE:20230215
DTSTAMP:20260419T202311
CREATED:20230210T085849Z
LAST-MODIFIED:20230210T090746Z
UID:9144-1676332800-1676419199@gbta.org
SUMMARY:Global Leadership Professionals (GLP) Program
DESCRIPTION:Global Leadership Program (GLP) is the only educational initiative designed to provide cutting-edge business insights and immersive learning experiences. Business travel leaders will use the acquired knowledge to address industry challenges and identify new opportunities. Perfect for senior-level industry professionals\, the GLP program allows participants to engage with a network of global peers and experts\, interact with world-renowned Cornell business professors\, develop team-focused strategies for problem-solving\, and earn recognition for your commitment and achievement to professional development. \nThe GLP program spans a 5-month period during which participants will join both synchronous and asynchronous online classes\, peer discussions\, and an in-person workshop at GBTA Convention in Dallas. \nScholarships  are available for GBTA Members and GBTA Chapter Members that have met the course requirements. \nIn Partnership with \n \n Learn More
URL:https://gbta.org/event/global-leadership-professionals-glp-program/
CATEGORIES:Learning
END:VEVENT
BEGIN:VEVENT
DTSTART;TZID=America/New_York:20230214T140000
DTEND;TZID=America/New_York:20230214T193000
DTSTAMP:20260419T202311
CREATED:20221215T170423Z
LAST-MODIFIED:20221222T143215Z
UID:8403-1676383200-1676403000@gbta.org
SUMMARY:Carrefour des Experts Travel & MICE par GBTA
DESCRIPTION:Educational and networking event for Business Travel and MICE professionals \nLocation of Event \nMetafore Liège – Blanche\, Paris\, France
URL:https://gbta.org/event/carrefour-des-experts-travel-mice-par-gbta-2/
LOCATION:in-person
CATEGORIES:Europe,France
END:VEVENT
BEGIN:VEVENT
DTSTART;TZID=America/New_York:20230215T110000
DTEND;TZID=America/New_York:20230215T120000
DTSTAMP:20260419T202311
CREATED:20230123T154339Z
LAST-MODIFIED:20230208T153247Z
UID:8831-1676458800-1676462400@gbta.org
SUMMARY:Ensuring Duty of Care: A Look at Travel Risk Management Best Practices
DESCRIPTION:Employees are the most important asset of an organization. To ensure the safety and well-being of their employees\, companies have a legal and ethical obligation known as “duty of care” to identify\, assess\, and mitigate these risks. \nEffective travel risk management is a key component of fulfilling this duty of care. Join us on February 15th at 11 AM EST\, as we examine: \n\nHow to identify and assess business travel risks?\nThe use of technology to support employees in the event of a crisis.\nImportance of regularly reviewing and updating travel risk management policies\n\nJoin our industry experts\, Alex Rodriguez\, Director\, Global Security Communications Center at The Walt Disney Company\, and Kevin Reagan\, Director\, Travel Risk Management Solutions at Everbridge\, and learn more about enabling duty of care through an effective travel risk management program. \nEvent Speaker \nAlex Rodriguez\, Director\, Global Security Communications Center at The Walt Disney Company \n  \n  \n  \nKevin Reagan\, Director\, Travel Risk Management Solutions at Everbridge \n  \n  \n  \nSponsor \n \n  \n  \n 
URL:https://gbta.org/event/ensuring-duty-of-care-a-look-at-travel-risk-management-best-practices/
CATEGORIES:North America,Online Courses & Webinars
END:VEVENT
BEGIN:VEVENT
DTSTART;VALUE=DATE:20230216
DTEND;VALUE=DATE:20230217
DTSTAMP:20260419T202311
CREATED:20230120T100924Z
LAST-MODIFIED:20230120T101211Z
UID:8817-1676505600-1676591999@gbta.org
SUMMARY:Philadelphia Chapter - OK\, Boomer! An Intergenerational Discussion
DESCRIPTION:Hear from our amazing panel as we explore the Generational Divide! \nJust how much does the generation you were born into shape you as a person\, more specifically an employee and leader? \nHow does this generational conditioning create personal and professional roadblocks in the workplace? \nWe’ll speak with representatives of each generation from Baby Boomer to Gen Z in an effort to break down stereotypes and increase understanding among the generational divides. \nEvent Speaker \nChristina Reichelt\, Senior Director\, Global Client Team | BCD Travel \nLocation of Event \nPhiladelphia\, Pa \nVenue Information \nHilton Garden Inn Philadelphia Center City\n1100 Arch St\nPhiladelphia\, PA 19107 \nParking Garage Available At Hotel\n2023 parking rates: \n1 hour              $15.00\n1-2 hours         $26.00\n2-12 hours       $32.00 \nPricing and Registration \n$0.00 Member Chapter Meeting Price \n$75.00 Guest Price \n$0.00 GBTA All-Access Member Who Is NOT A Philadelphia Chapter Member
URL:https://gbta.org/event/philadelphia-chapter-ok-boomer-an-intergenerational-discussion/
CATEGORIES:North America,US Chapter Event
END:VEVENT
BEGIN:VEVENT
DTSTART;VALUE=DATE:20230216
DTEND;VALUE=DATE:20230217
DTSTAMP:20260419T202311
CREATED:20230202T154615Z
LAST-MODIFIED:20230202T154645Z
UID:9033-1676505600-1676591999@gbta.org
SUMMARY:Bay Area Chapter - TMC Sourcing 2.0 and Critical Thinking
DESCRIPTION:Selecting the right Travel Management Company (TMC) is the most important decision travel buyers make for their travel program. However\, today’s process for sourcing TMC’s is out-of-date\, inefficient\, and frequently falls short of expectations. \nJoin Bryan Holmes\, Founder of Bid Logic Solutions\, as he presents TMC Sourcing 2.0. In this presentation Bryan brings in critical thinking to the sourcing process\, while taking you on an insightful journey from TMC Sourcing 1.0\, where the TMC’s people are center stage\, to TMC Sourcing 2.0\, where the TMC’s technology is center stage—yet people still infinitely matter. \nThis presentation is critical to both buyers and sellers alike. Come prepared to improve your decision making skills and learn concrete things you can do to add more value to the sourcing process\, whether you’re the buyer or the seller. \nEvent Speaker \nBryan Holmes\, Founder and CEO | Bid Logic Solutions Inc. \nLocation of Event \nSan Francisco\, CA \nVenue Information \nGrand Hyatt San Francisco\n345 Stockton St\, San Francisco\, CA 94108\nhttps://www.hyatt.com/en-US/hotel/california/grand-hyatt-san-francisco/sfous?src=corp_lclb_gmb_seo_sfous
URL:https://gbta.org/event/bay-area-chapter-tmc-sourcing-2-0-and-critical-thinking/
CATEGORIES:North America,US Chapter Event
END:VEVENT
BEGIN:VEVENT
DTSTART;VALUE=DATE:20230221
DTEND;VALUE=DATE:20230222
DTSTAMP:20260419T202311
CREATED:20230214T124956Z
LAST-MODIFIED:20230216T124903Z
UID:9189-1676937600-1677023999@gbta.org
SUMMARY:South Florida Chapter - GBTA South Florida February 2023 Educational Forum\, featuring Colleen Kearney - GTP Credit Approved
DESCRIPTION:Join one of the industry’s most talented Travel Managers\, Colleen Kearney\, for a interactive discussion on the challenges facing travel managers today in light of the current economic and geo-political environments\, as well as staff shortages and concerns about traveler safety.  Hear from Colleen on how to best work with internal and external constituents and learn from her best practices.  After our discussion\, join the group on the rooftop bar for sunset hors d’oeuvres & drinks. \nEvent Speaker \nColleen Kearney\, Travel Manger | Raytheon Technologies Corporation \nLocation of Event \nMiami\, FL \nVenue Information \nAC Hotel Miami Dadeland\, 7695 N Kendall Drive\, Miami\, FL 33156\nComplimentary Parking at Dadeland Mall \nPricing and Registration \n$50.00 for Members & All Access Members;$75 for Non-Members.  Prices increase by $10.00 for registration after February 14\, 2023. Event includes hors d’oeuvres and two drink tickets for networking on the rooftop bar.
URL:https://gbta.org/event/south-florida-chapter-gbta-south-florida-february-2023-educational-forum-featuring-colleen-kearney/
CATEGORIES:North America,US Chapter Event
END:VEVENT
BEGIN:VEVENT
DTSTART;TZID=America/New_York:20230221T120000
DTEND;TZID=America/New_York:20230221T183000
DTSTAMP:20260419T202311
CREATED:20221116T164950Z
LAST-MODIFIED:20221220T161621Z
UID:8105-1676980800-1677004200@gbta.org
SUMMARY:GBTA Supplier Summit 2023
DESCRIPTION:GBTA’s Supplier Summit in Dallas is the go-to event to kick-start 2023. By attending\, you will unite with industry colleagues and learn about what GBTA has in store for 2023\, how you can maximize your GBTA experience\, plan and prepare for GBTA Convention 2023. This is an excellent opportunity to explore and create your customized opportunities to enhance visibility of your company while learning best practices and tips to position you for Convention success. Email Sponsor@gbta.org with any questions. \nDate- Tuesday\, February 21\, 2023\nLocation- Dallas\, TX \nAgenda \nTuesday\, February 21\n12:00 PM – 1:00 PM    Networking Lunch\n1:00 PM – 3:00 PM      Sessions\n3:00 PM – 5:00 PM      Tour the Convention Center\n5:00 PM – 6:30 PM      Reception \nLocation\n \nMeeting Space:\nKay Bailey Hutchison Convention Center Dallas\n650 S. Griffin St\nDallas\, TX\, 75202\nRoom Number to be sent via email. \nHousing Block:\nOmni Dallas Hotel\n555 S Lamar St\nDallas\, TX 75202 \n*The reservation cut-off date is February 21\, 2023. \nLearn More about this Event Here \n  \n  \n  \n  \n  \n  \n  \n  \n  \n  \n  \n  \n  \n 
URL:https://gbta.org/event/gbta-supplier-summit-2023/
LOCATION:in-person
CATEGORIES:Summits & Workshops
END:VEVENT
BEGIN:VEVENT
DTSTART;TZID=America/New_York:20230222T150000
DTEND;TZID=America/New_York:20230222T153000
DTSTAMP:20260419T202311
CREATED:20230201T141845Z
LAST-MODIFIED:20230203T143351Z
UID:9008-1677078000-1677079800@gbta.org
SUMMARY:GBTA's BTI Outlook: A Look at Europe
DESCRIPTION:Timezone\n3PM CET \nFor the past 14 years\, the BTI has been a signature GBTA research study. It is a critical industry planning tool that provides an exhaustive study of business travel spending and growth covering 75 countries across 48 industries and provides a five-year forward looking forecast. It provides demand-side measurements of all types of business trips and all spending while on a trip. This includes everything spent on business travel including airfare\, hotel\, dining\, car rental\, train travel\, incidental purchases made during the trip\, taxi/ride sharing\, etc. In addition\, it is the industry benchmark for business travel spend and receives considerable media coverage. \nIn partnership with Mastercard\, this 30-minute webinar will focus on Europe with a deep-dive into the region focusing on key topics including business travel trends 2022 and beyond\, insights into business travelers’ sentiment toward returning to travel\, how sustainability and technology are changing business travel\, and more. \nJoin us for a look at the state of the business travel industry in Europe and what’s likely in store for the next five years. \nEvent Speakers \n\nCatherine Logan\nRegional Vice President – EMEA\nGBTA \n\nMark Sharoff\nResearch Manager\nGBTA \nMade Possible by \n \nPricing \nComplimentary
URL:https://gbta.org/event/gbtas-bti-outlook-a-look-at-europe/
LOCATION:Virtual
CATEGORIES:Online Courses & Webinars
END:VEVENT
BEGIN:VEVENT
DTSTART;VALUE=DATE:20230223
DTEND;VALUE=DATE:20230224
DTSTAMP:20260419T202311
CREATED:20230208T074536Z
LAST-MODIFIED:20230216T124554Z
UID:9107-1677110400-1677196799@gbta.org
SUMMARY:Silicon Valley Chapter - Q1 In-Person Educational Meeting - GTP Credit Approved
DESCRIPTION:A mini education day! \nDiving into the deep end of social impact and responsibility with Edward Perotti and followed by the Shark Tank presentations by innovative travel booking tool companies. \nEvent Speaker \nEdward Perotti\, EP Events & Experiences \nLocation and Venue of Event \nSignia by Hilton San Jose Downtown
URL:https://gbta.org/event/silicon-valley-chapter-q1-in-person-educational-meeting/
CATEGORIES:North America,US Chapter Event
END:VEVENT
BEGIN:VEVENT
DTSTART;VALUE=DATE:20230223
DTEND;VALUE=DATE:20230224
DTSTAMP:20260419T202311
CREATED:20230215T234641Z
LAST-MODIFIED:20230224T115447Z
UID:9215-1677110400-1677196799@gbta.org
SUMMARY:Michigan Chapter - GBTA 2023 Professional Development & Sponsors Appreciation Day - GTP Credit Approved
DESCRIPTION:The day’s highlights will include: \n\nPersonal Branding Insight with Kevin Iwamoto: A strong brand can help you stand out and can lead to more opportunities. Come listen to Kevin and find out how to strengthen your brand.\nLadders (GBTA mentorship program): Members will share about this program and how they have learned from others’ experiences/perspectives and grown their network through Ladders.\nA Mini Tradeshow: This is a great place to connect with a new travel vendor or current one and say thank you for all they do for us.\n2023 Charity Partner: Every year we choose a charity to give back to the community.\n\nEvent Speaker \nKevin Iwamoto\, Chief Customer Officer | Bizly\, Inc. \nLocation of Event \nAnn Arbor\, MI \nVenue Information \nSheraton Ann Arbor Hotel\, 3200 Boardwalk St\, Ann Arbor\, MI 48108-1774 \nPricing and Registration \n$0.00 Full Member Ticket \n$90.00 Other Chapter/GBTA All Access Member Ticket\n$100.00 after 05:00 pm February 22 \n$100.00 Guest Ticket (one-time meeting)\n$110.00 after 05:00 pm February 22 \n$85.00 Basic Member (without meeting package)\n$95.00 after 05:00 pm February 22 \n$0.00 Honorary Member Ticket
URL:https://gbta.org/event/michigan-chapter-gbta-2023-professional-development-sponsors-appreciation-day/
CATEGORIES:North America,US Chapter Event
END:VEVENT
BEGIN:VEVENT
DTSTART;VALUE=DATE:20230227
DTEND;VALUE=DATE:20230228
DTSTAMP:20260419T202311
CREATED:20230216T124851Z
LAST-MODIFIED:20230216T124915Z
UID:9223-1677456000-1677542399@gbta.org
SUMMARY:New York City Chapter - State of the Industry Update with Mr. Sean Hennessey
DESCRIPTION:Join us for a State of the Industry update\, presentation and Q&A Session with Mr. Sean Hennessey\, Clinical Associate Professor at the NYU School of Professional Studies Jonathan M. Tisch Center of Hospitality. \nHe is also the founder and chief executive officer of Lodging Advisors LLC\, a firm dedicated to providing high-quality counseling services to institutional investors\, lenders\, and other key players in the hotel industry. Prior to forming his own companies\, he was a leading consultant and broker for more than 20 years. Sean began his career in daily operations over 30 years ago with companies such as Marriott\, Disney World\, and numerous restaurants. Sean is co-chair of the Lodging Industry Investment Council and is a member of the International Society of Hospitality Consultants and the New York Chapter of the Hospitality Sales Managers Association International. He has provided expert commentary on industry trends thousands of times to ABC\, CNBC\, The New York Times\, The Wall Street Journal\, and other media outlets. \nEvent Speaker \nSean Hennessey\, Clinical Associate Professor at the NYU School of Professional Studies Jonathan M. Tisch Center of Hospitality | New York University \nLocation of Event \nInterContinental New York Times Square \nVenue Information \nInterContinental New York Times Square\, 300 W 44th Street\, New York\, NY 10036 \nPricing and Registration \nMember Registration $75\nNon-Member Registration $85
URL:https://gbta.org/event/new-york-city-chapter-state-of-the-industry-update-with-mr-sean-hennessey/
CATEGORIES:North America,US Chapter Event
END:VEVENT
END:VCALENDAR