BEGIN:VCALENDAR
VERSION:2.0
PRODID:-//Global Business Travel Association - GBTA - ECPv6.9.0//NONSGML v1.0//EN
CALSCALE:GREGORIAN
METHOD:PUBLISH
X-WR-CALNAME:Global Business Travel Association - GBTA
X-ORIGINAL-URL:https://gbta.org
X-WR-CALDESC:Events for Global Business Travel Association - GBTA
REFRESH-INTERVAL;VALUE=DURATION:PT1H
X-Robots-Tag:noindex
X-PUBLISHED-TTL:PT1H
BEGIN:VTIMEZONE
TZID:America/New_York
BEGIN:DAYLIGHT
TZOFFSETFROM:-0500
TZOFFSETTO:-0400
TZNAME:EDT
DTSTART:20230312T070000
END:DAYLIGHT
BEGIN:STANDARD
TZOFFSETFROM:-0400
TZOFFSETTO:-0500
TZNAME:EST
DTSTART:20231105T060000
END:STANDARD
END:VTIMEZONE
BEGIN:VEVENT
DTSTART;TZID=America/New_York:20230811T080000
DTEND;TZID=America/New_York:20230812T170000
DTSTAMP:20260420T004736
CREATED:20230107T165214Z
LAST-MODIFIED:20230107T170813Z
UID:8605-1691740800-1691859600@gbta.org
SUMMARY:Advanced Principles of Business Travel Management™
DESCRIPTION:The Advanced Principles of Business Travel Management™ course builds off of the Fundamentals curriculum to aid business travel professionals in increasing their knowledge of the industry while also expanding on their professional skills. This course is designed for travel buyers overseeing a managed business travel program and suppliers offering travel-related products and services. GTP holders will earn 14 GTP® Recertification credits. \nIn-Person at GBTA Convention 2023\nAugust 11-12\n8:00 AM – 5:00 PM CT \nNot included in Convention registration fee. Additional registration required.\nConvention attendance not required. \nLocation of Event \nDallas\, TX \nPricing and Registration \n$450 member/$550 non-member \nLearn More
URL:https://gbta.org/event/advanced-principles-of-business-travel-management-4/
LOCATION:in-person
CATEGORIES:Learning,North America
END:VEVENT
BEGIN:VEVENT
DTSTART;TZID=America/New_York:20230813T090000
DTEND;TZID=America/New_York:20230815T180000
DTSTAMP:20260420T004736
CREATED:20221209T114924Z
LAST-MODIFIED:20221215T170920Z
UID:8371-1691917200-1692122400@gbta.org
SUMMARY:GBTA Convention 2023
DESCRIPTION:From serving the ongoing needs of business travel professionals to looking ahead to what’s needed most now by travel buyers\, suppliers\, business travelers and others\, GBTA Convention returns for its 54th year as the global business travel event of the year. \n– In-person networking\, business\, and connection opportunities alongside thousands of peers and partners from across the global business travel community\n– Curated topics\, insightful speakers\, and leading experts on what matters most for the times we’re in but also for our future\n– An unparalleled offering of sessions for education\, learning\, training and professional development for professionals of all levels and interests\n– Tools\, research and resources you need\, from the latest forecasts and data\, to best practices and technologies to help you navigate the road ahead for your business travelers\, organizations\, and teams \nInterested in exhibiting? Learn more about expo opportunities. \nLocation of Event \nDallas\, TX \nVenue Information \nKay Bailey Hutchison Convention Center Dallas\, 650 S Griffin St\, Dallas\, TX 75202
URL:https://gbta.org/event/gbta-convention-2023/
CATEGORIES:Conference/Convention,North America
ATTACH;FMTTYPE=image/jpeg:https://gbta.org/wp-content/uploads/dallas-1.jpg
END:VEVENT
END:VCALENDAR