BEGIN:VCALENDAR
VERSION:2.0
PRODID:-//Global Business Travel Association - GBTA - ECPv6.9.0//NONSGML v1.0//EN
CALSCALE:GREGORIAN
METHOD:PUBLISH
X-ORIGINAL-URL:https://gbta.org
X-WR-CALDESC:Events for Global Business Travel Association - GBTA
REFRESH-INTERVAL;VALUE=DURATION:PT1H
X-Robots-Tag:noindex
X-PUBLISHED-TTL:PT1H
BEGIN:VTIMEZONE
TZID:America/Los_Angeles
BEGIN:DAYLIGHT
TZOFFSETFROM:-0800
TZOFFSETTO:-0700
TZNAME:PDT
DTSTART:20230312T100000
END:DAYLIGHT
BEGIN:STANDARD
TZOFFSETFROM:-0700
TZOFFSETTO:-0800
TZNAME:PST
DTSTART:20231105T090000
END:STANDARD
TZID:America/New_York
BEGIN:DAYLIGHT
TZOFFSETFROM:-0500
TZOFFSETTO:-0400
TZNAME:EDT
DTSTART:20230312T070000
END:DAYLIGHT
BEGIN:STANDARD
TZOFFSETFROM:-0400
TZOFFSETTO:-0500
TZNAME:EST
DTSTART:20231105T060000
END:STANDARD
TZID:Europe/Paris
BEGIN:DAYLIGHT
TZOFFSETFROM:+0100
TZOFFSETTO:+0200
TZNAME:CEST
DTSTART:20230326T010000
END:DAYLIGHT
BEGIN:STANDARD
TZOFFSETFROM:+0200
TZOFFSETTO:+0100
TZNAME:CET
DTSTART:20231029T010000
END:STANDARD
END:VTIMEZONE
BEGIN:VEVENT
DTSTART;VALUE=DATE:20231130
DTEND;VALUE=DATE:20231202
DTSTAMP:20260421T122355
CREATED:20231114T165758Z
LAST-MODIFIED:20231114T201616Z
UID:13504-1701302400-1701475199@gbta.org
SUMMARY:GBTA | North Carolina - Annual Gala\, Auction\, Charity & Education 2023
DESCRIPTION:Description:\nDress up James Bond style\, bring your guests and let’s get together for GBTA North Carolina’s signature event of the year! Try your luck at the casino tables and place your bids at the silent auction table. Raise the paddles to bid on amazing live auction items and let’s network\, build connections and have a marvelous time at the beautiful and brand new Westin Raleigh-Durham Airport hotel the evening of November 30th\, 2023. Morning of Dec 1st\, 2023\, we will have a hands on charity activity and get some travel education. \nEvent Speaker:\nLarry Long Jr.\nChief Energy Officer\nLLJR Enterprises\nProgram Title & Overview:\nLeverage LinkedIn to Strengthen Relationships & Drive New Business: Giving Your Brand a JOLT!⚡️ For Continued Success\nBe prepared to explore:\n-GAP in your current LinkedIn strategy (…if there is one)\n-Power of engaging via LinkedIn\n-5-Step Playbook for positive business results \nLocation of Event: The Westin Raleigh Durham Airport Hotel\nPrice: Member & All Access Members – $150\, Non-Members – $175 \nContact: admin@ncbta.org
URL:https://gbta.org/event/annual-gala-auction-charity-education-2023/
CATEGORIES:US Chapter Event
END:VEVENT
BEGIN:VEVENT
DTSTART;TZID=America/New_York:20231205T173000
DTEND;TZID=America/New_York:20231205T203000
DTSTAMP:20260421T122355
CREATED:20230531T144250Z
LAST-MODIFIED:20230606T044300Z
UID:11036-1701797400-1701808200@gbta.org
SUMMARY:2023 GBTA Georgia Chapter Annual Auction and Fundraiser
DESCRIPTION:Auction Chair and VP\, Isabella Rusike says\,\n“Mark Your Calendars for Tuesday\, December 5 for our annual fundraising Auction.” \nJoin us 5:30pm-8:30pm at Atlanta’s unique Illuminarium where you will be immersed in a virtual\, sensory wonderland. \nThank you to our to Premiere Auction Sponsor\, United Airlines for tickets as well as tickets from Cornerstone Sponsor Delta Air Lines. The incredible African experience at the Hippo Lodge is once again a tantalizing auction item. More items added daily. \nItem Donations\, Support Sponsorships\, Questions\, contact Isabella at\nisabella.rusike1@accesscfa.com
URL:https://gbta.org/event/2023-gbta-georgia-chapter-annual-auction-and-fundraiser/
CATEGORIES:US Chapter Event
END:VEVENT
BEGIN:VEVENT
DTSTART;VALUE=DATE:20231206
DTEND;VALUE=DATE:20231207
DTSTAMP:20260421T122355
CREATED:20231013T144328Z
LAST-MODIFIED:20231115T180910Z
UID:13073-1701820800-1701907199@gbta.org
SUMMARY:GBTA San Diego Holiday Gala
DESCRIPTION:It’s time to celebrate the holidays with GBTA San Diego! \nPlease join the San Diego Chapter for a fun evening supporting a great cause\, connecting with your travel industry peers and bidding on incredible items\, all while you view some of the most luxurious cars in the city. This EXCLUSIVE event is not to be missed! \nLocation of Event \nVeloce Motors The Vault\n9340 Dowdy Drive\, Suite 102\nSan Diego\, CA 92126 \nPricing and Registration \n$100 per person prior to November 1\, 2023\n$125 per person after November 1\, 2023 \ncut-off date for the lower rate is November 18.
URL:https://gbta.org/event/gbta-san-diego-holiday-gathering/
CATEGORIES:US Chapter Event
END:VEVENT
BEGIN:VEVENT
DTSTART;TZID=America/New_York:20231206T110000
DTEND;TZID=America/New_York:20231206T120000
DTSTAMP:20260421T122355
CREATED:20231116T171803Z
LAST-MODIFIED:20231205T072926Z
UID:13572-1701860400-1701864000@gbta.org
SUMMARY:2023 Global Business Travel Index™️ (BTI): What’s In Store for Global Business Travel
DESCRIPTION:For the past 15 years\, the BTI has been a signature GBTA research study. It is a critical industry planning tool and benchmark that provides an exhaustive study of business travel spending and growth covering 72 countries across 42 industries and provides a five-year forward-looking forecast. It provides demand-side measurements of all types of business trips and all spending\, including airfare\, hotel\, dining\, car rental\, train travel\, incidental purchases\, taxi/ride sharing\, etc.  This session examines key topics including how business travel is recovering from the pandemic\, when we expect to see full recovery and what it will look like considering inflation\, labor shortages\, supply chain bottlenecks\, global political conflict and rising interest rates.  New this year\, GBTA surveyed over 4\,000 business travelers around the world about their spending on business travel\, average length of trip\, booking behavior\, frequency of business travel and payments\, among other areas. \nJoin us for a look at the state of the industry and perspectives from business travelers around the globe. \nMade possible by \n \nSpeakers:\n \n\nJon Gray\nPrincipal\, Rockport Analytics \n\nEdward Galvin\nVice President and Head of North America B2B Payments Sales\, Visa
URL:https://gbta.org/event/2023-global-business-travel-index-bti-whats-in-store-for-global-business-travel/
CATEGORIES:North America,Online Courses & Webinars
END:VEVENT
BEGIN:VEVENT
DTSTART;TZID=Europe/Paris:20231207T140000
DTEND;TZID=Europe/Paris:20231207T170000
DTSTAMP:20260421T122355
CREATED:20231018T142320Z
LAST-MODIFIED:20231201T164446Z
UID:13127-1701957600-1701968400@gbta.org
SUMMARY:Carrefour des Echanges Travel & MICE par GBTA
DESCRIPTION:Le Carrefour des Échanges Travel & MICE par GBTA France du 7 décembre réunira des acheteurs\, Travel Managers et fournisseurs\, représentant la chaîne de valeur Travel et MICE. Une opportunité d’échanger avec vos pairs et de bénéficier du retour d’expérience de nos experts sur des thématiques stratégiques. \nJeudi 7 décembre de 14h00 à 19h00 \nMarriott Paris Champs Elysées\, 70 avenue des Champs Elysées\, 75008 Paris
URL:https://gbta.org/event/carrefour-des-echanges-travel-mice-par-gbta-2/
CATEGORIES:France
END:VEVENT
BEGIN:VEVENT
DTSTART;TZID=America/New_York:20231207T140000
DTEND;TZID=America/New_York:20231207T200000
DTSTAMP:20260421T122355
CREATED:20231207T043436Z
LAST-MODIFIED:20231207T043436Z
UID:13717-1701957600-1701979200@gbta.org
SUMMARY:GBTA Michigan Holiday Event & Charity Auction
DESCRIPTION:Holiday event and auction. Topic – Planning for 2024. The premise of the content for this meeting is in hearing from the members on what their key takeaways from 2023 as well as what is important for them to learn about in 2024. The members themselves will be setting the stage for the content in 2024. We will be doing live polls and have breakout tables for each table to network with each other on both what they learned and what they would like to learn about.\nFacilitator – Justin Morris\, Director of Sales\, Traxo\nLocation – Westin Book Cadillac Detroit 1114 Washington Blvd Detroit\, MI 48226\nPrice – Full Member $85\, All Access $85\, Guest – $125
URL:https://gbta.org/event/gbta-michigan-holiday-event-charity-auction/
CATEGORIES:US Chapter Event
END:VEVENT
BEGIN:VEVENT
DTSTART;VALUE=DATE:20231208
DTEND;VALUE=DATE:20231209
DTSTAMP:20260421T122355
CREATED:20231120T165717Z
LAST-MODIFIED:20231120T165717Z
UID:13610-1701993600-1702079999@gbta.org
SUMMARY:Holiday Gala and Scholarship Fundraiser
DESCRIPTION:Description:\nTransport yourself into the Holiday Season! Once again\, we will be hosting our wonderful Silent Auction. The goal of the Auction is to raise funds for Chapter Scholarships. Your contributions will support the professional advancement and development of fellow GBTA North Central members. \nEvent Speaker:\n N/A \nLocation of Event:\nHilton Minneapolis/Bloomington Hotel\, 3900 American Boulevard West\, Bloomington\, MN 55437 \nPrice:\nGuest fee $45
URL:https://gbta.org/event/holiday-gala-and-scholarship-fundraiser/
CATEGORIES:US Chapter Event
END:VEVENT
BEGIN:VEVENT
DTSTART;TZID=America/New_York:20231212T183000
DTEND;TZID=America/New_York:20231212T203000
DTSTAMP:20260421T122355
CREATED:20231207T043000Z
LAST-MODIFIED:20231207T043000Z
UID:13712-1702405800-1702413000@gbta.org
SUMMARY:Annual Holiday Party and Silent Auction
DESCRIPTION:Chapter Name: Greater DC Metro Chapter\nDescription: Annual Holiday Party and Silent Auction\nLocation of Event:\nDecember 12\, 2023 \n6:30pm – 8:30pm \nThe Darcy Hotel \n1515 Rhode Island Ave NW\, Washington\, DC 20005 \nPrice: $55 for members\, $75 for guests/non members
URL:https://gbta.org/event/annual-holiday-party-and-silent-auction/
CATEGORIES:US Chapter Event
END:VEVENT
BEGIN:VEVENT
DTSTART;VALUE=DATE:20231213
DTEND;VALUE=DATE:20231214
DTSTAMP:20260421T122355
CREATED:20231207T043620Z
LAST-MODIFIED:20231207T043620Z
UID:13721-1702425600-1702511999@gbta.org
SUMMARY:PSBTA's Annual Holiday Meeting
DESCRIPTION:Bring your most festive self for an afternoon of fun and laughs! Hanna Dickinson will being joining us to celebrate the holiday season! \nHanna is a New-York based comic\, writer\, actress\, lover\, fighter and friend. She has a show called ‘GET MONEY’ that is streaming on Snapchat. Currently\, she is a writer and performer on Comedy Central’s social media team. She was awarded a Webby for COMEDY CENTRAL: STAND-UP FOR YOUR MENTAL HEALTH\, a stand-up showcase she wrote and hosted. You can catch Hanna’s COMEDY CENTRAL STAND-UP FEATURING set on YouTube\, and her half hour special on Epix. Hanna splits her time between New York and LA in pursuit of a SAG card\, respect from her parents and a casual boyfriend that could turn into something real. \nBe sure to catch her in Ronny Chieng’s upcoming Hulu pilot. \nLocation: Fairmont Hotel\n411 University Street\nSeattle\, WA 98101\nhttp://www.fairmont.com/seattle/\nFairmont Discounted parking available $15 Self Parking only (Valet at full price) \nTickets:\n$60.00 Members\n$85.00 after 11:00 pm December 6 \n$75.00 Non-Members\n$100.00 after 11:00 pm December 6 \n$60.00 All Access GBTA Member Ticket\n$85.00 after 11:00 pm December 6 \n$10.00 Bingo – 3 tickets for $10
URL:https://gbta.org/event/psbtas-annual-holiday-meeting/
CATEGORIES:US Chapter Event
END:VEVENT
BEGIN:VEVENT
DTSTART;TZID=America/New_York:20231213T180000
DTEND;TZID=America/New_York:20231213T220000
DTSTAMP:20260421T122355
CREATED:20231120T165517Z
LAST-MODIFIED:20231211T163841Z
UID:13605-1702490400-1702504800@gbta.org
SUMMARY:18th Annual Holiday Gala & Silent Auction
DESCRIPTION:It is time to celebrate the holidays with GBTA Philadelphia for our 18th Annual Holiday Gala and Silent Auction! \nPlease join us for a fun evening supporting a great cause\, connecting with your travel industry peers and bidding on some incredible items. \nRegistration: \nEarly Bird Tickets at $125 for members and $150 for guests by November 29th \nGBTA Philadelphia will be donating a portion of the silent auction proceeds to\nwhich will help provide lodging and support services for family members of patients awaiting organ transplants in Philadelphia area hospitals \nAccommodations: \nBook a room at the DoubleTree by Hilton Center City for $109/night + tax: Click Here \nThe room rate will be available until November 29th \nBook a room at the Sofitel Rittenhouse for $169/ night + tax: Click here \nThe room rate will be available until December 1st \nPLEASE NOTE THAT EARLY REGISTRATION CLOSES ON WEDNESDAY\, NOV. 29 AT 5:00PM. \nLATE REGISTRATION CLOSES ON WEDNESDAY\, DEC. 6 AT NOON AND THERE WILL BE NO ONLINE REGISTRATION AFTER THAT. \nPLEASE PLAN ACCORDINGLY. THANK YOU! \nThe Arts Ballroom\n1324 Locust St\nPhiladelphia\, PA 19107\nhttps://artsballroom.com/\n6:00-10:00pm
URL:https://gbta.org/event/18th-annual-holiday-gala-silent-auction/
CATEGORIES:US Chapter Event
END:VEVENT
BEGIN:VEVENT
DTSTART;TZID=America/New_York:20231214T083000
DTEND;TZID=America/New_York:20231214T123000
DTSTAMP:20260421T122355
CREATED:20230609T100533Z
LAST-MODIFIED:20230717T074033Z
UID:11242-1702542600-1702557000@gbta.org
SUMMARY:LATAM Business Travel Forums Santiago de Chile
DESCRIPTION:Fecha del Evento: 14 de diciembre de 2023 \nHora: 8.30am – 12.30pm \nSede: Hotel Pullman Santiago el Bosque \nPrecio: Gratuito \nRSVP: La participación en los GBTA Business Travel Forums es bajo invitación. Si trabajas en la gestión de viajes dentro de una empresa y tienes interés en participar\, puedes escribirnos a latamevents@gbta.org. Tu mensaje de interés no asegura tu lugar en el evento. Para participar deberás recibir una carta de confirmación desde GBTA. \nMore information
URL:https://gbta.org/event/gbta-latam-business-travel-forums-2023-bogota/
CATEGORIES:LATAM,Summits & Workshops
END:VEVENT
BEGIN:VEVENT
DTSTART;TZID=America/Los_Angeles:20231214T123000
DTEND;TZID=America/Los_Angeles:20231214T160000
DTSTAMP:20260421T122355
CREATED:20231101T082059Z
LAST-MODIFIED:20231114T161359Z
UID:13332-1702557000-1702569600@gbta.org
SUMMARY:Luggage\, Layovers\, and LLMs: Preparing Tickets for AI’s Impact on Travel - GTP Credit Approved
DESCRIPTION:GBTA Silicon Valley\nPresented by Tahnee Perry\, AI & Marketing Consultant\, Zero to Unicorn \nTahnee Perry is a seasoned consultant who specializes in the intersection of AI\, Marketing and Travel. With a weekly newsletter\, Zero to Unicorn\, Tahnee provides critical insights into how AI is revolutionizing the way people work today. \nJoin our luncheon where she will explore the rise of generative AI\, it’s impact on corporate travel and strategies for harnessing it for happier travelers\, better workflows and a shorter to-do list. \n \nLearning Objectives \nDecoding AI: What it is and why it matters.\nVision and Reality: How to align AI capabilities with your big-picture goals and day-to-day tactics.\nNavigating Change: How to prepare for AI’s impact on you and your travelers.\nEfficiency Unleashed: Learn actionable steps to implement AI for streamlining your work.\nIn Practice: Learn from case studies and real-world experiences.\nDon’t miss this opportunity to be a frontrunner in harnessing the potential of AI in your work. \nSpeaker: Tahnee Perry\, AI & Marketing Consultant\, Zero to Unicorn \nLocation: El Prado Hotel\, Palo Alto CA
URL:https://gbta.org/event/luggage-layovers-and-llms-preparing-tickets-for-ais-impact-on-travel/
CATEGORIES:US Chapter Event
END:VEVENT
END:VCALENDAR