BEGIN:VCALENDAR
VERSION:2.0
PRODID:-//Global Business Travel Association - GBTA - ECPv6.9.0//NONSGML v1.0//EN
CALSCALE:GREGORIAN
METHOD:PUBLISH
X-WR-CALNAME:Global Business Travel Association - GBTA
X-ORIGINAL-URL:https://gbta.org
X-WR-CALDESC:Events for Global Business Travel Association - GBTA
REFRESH-INTERVAL;VALUE=DURATION:PT1H
X-Robots-Tag:noindex
X-PUBLISHED-TTL:PT1H
BEGIN:VTIMEZONE
TZID:America/New_York
BEGIN:DAYLIGHT
TZOFFSETFROM:-0500
TZOFFSETTO:-0400
TZNAME:EDT
DTSTART:20240310T070000
END:DAYLIGHT
BEGIN:STANDARD
TZOFFSETFROM:-0400
TZOFFSETTO:-0500
TZNAME:EST
DTSTART:20241103T060000
END:STANDARD
TZID:Europe/Berlin
BEGIN:DAYLIGHT
TZOFFSETFROM:+0100
TZOFFSETTO:+0200
TZNAME:CEST
DTSTART:20240331T010000
END:DAYLIGHT
BEGIN:STANDARD
TZOFFSETFROM:+0200
TZOFFSETTO:+0100
TZNAME:CET
DTSTART:20241027T010000
END:STANDARD
END:VTIMEZONE
BEGIN:VEVENT
DTSTART;TZID=America/New_York:20240606T090000
DTEND;TZID=America/New_York:20240606T170000
DTSTAMP:20260422T075052
CREATED:20240430T160702Z
LAST-MODIFIED:20240503T142638Z
UID:15787-1717664400-1717693200@gbta.org
SUMMARY:Inaugural GBTA Michigan Capital Day - GTP Credit Approved
DESCRIPTION:Michigan Capital Day \n \nIn Collaboration With the Michigan Association of Airport Executives \nJoin us for the inaugural Capital Day\, June 6\, in Lansing. \nThe Global Business Travel Association (www.gbta.org) hosts a legislative summit in Washington\, DC\, yearly\, and in 2023\, one of the appointments Leslee Fritz and Cecile Mutch had was with Congresswoman Hillary Scholten’s office. The congresswoman had just testified on the hill the day before: https://twitter.com/RepScholten/status/1668741446222987270?s=20 \nWhile the congresswoman specifically noted Gerald R. Ford International Airport (GRR\,) we discovered other Michigan airports also had infrastructure and expansion needs. We further learned how our state government allocates federal/state funding and how it has the power to incentivize private investment. \nThese discoveries catalyzed our desire for GBTA Michigan to host its own legislative summit: to bring to Michigan members the issues that impact business travel and how to collectively raise our voice to influence positive change. \nObjective: for GBTA Michigan’s members to hear directly from our state’s airport executives to learn about the realities of airport operations\, funding for improvements\, and air service development. \nWe will take what we learn from the panel discussion and move to the capital to share our concerns with our elected officials.
URL:https://gbta.org/event/inaugural-gbta-michigan-capital-day/
CATEGORIES:North America,US Chapter Event
END:VEVENT
BEGIN:VEVENT
DTSTART;TZID=America/New_York:20240606T093000
DTEND;TZID=America/New_York:20240606T143000
DTSTAMP:20260422T075052
CREATED:20240522T151812Z
LAST-MODIFIED:20240522T151812Z
UID:16157-1717666200-1717684200@gbta.org
SUMMARY:Roadshow GBTA Italia - Nord Est
DESCRIPTION:Il 6 giugno a Padova dalle 9.30 alle 14.00 si terrà il Roadshow GBTA. Una vera e propria Masterclass con un numero limitato di partecipanti ed una marcata interazione tra relatori e audience. \nI temi che verranno toccati durante l’evento copriranno:\n– Analisi degli impatti geopolitici su Business Travel e Mice\n– Andamento e previsioni delle tariffe\n– Condivisione di Best Practice di Travel ed Expense Management.\n– Nuove Opportunità per migliorare la gestione dei Viaggi d’Affari \nLocation\nIl Roadshow si terrà presso il Centro Congressi del Best Western Plus Galileo Padova in Via Venezia 30. \nOrari\nL’evento inizierà alle 9.30 con il Networking di benvenuto. I lavori in sala saranno dalle 10.00 alle 12.30\, seguiti da un light lunch con termine alle 14.00.\nL’evento è indirizzato alla filiera del Business Travel e Mice ed è gratuito\, previa registrazione. \nIl numero di posti è limitato.
URL:https://gbta.org/event/roadshow-gbta-italia-nord-est/
CATEGORIES:Italy,Roadshow,Summits & Workshops
END:VEVENT
BEGIN:VEVENT
DTSTART;VALUE=DATE:20240610
DTEND;VALUE=DATE:20240613
DTSTAMP:20260422T075052
CREATED:20240111T144110Z
LAST-MODIFIED:20240111T144110Z
UID:14053-1717977600-1718236799@gbta.org
SUMMARY:GBTA U.S. Legislative Summit 2024
DESCRIPTION:The GBTA U.S. Legislative Summit is a one-of-a-kind event that empowers you to be the voice of the business travel industry. \nBy attending this event\, you will: \n\nMeet one-on-one with Senators and Representatives to share opinions and advocate for policies that support the business travel industry\nBroaden your understanding of government actions and how the outcomes impact the industry\nHear perspectives from Administration Officials and Members of Congress\nNetwork with colleagues from around the country\nHear from Administration Officials and Members of Congress on current and upcoming travel issues\nConnect with other passionate industry professionals who want to make a difference\n\nLearn more
URL:https://gbta.org/event/gbta-u-s-legislative-summit-2024/
CATEGORIES:Summits & Workshops
END:VEVENT
BEGIN:VEVENT
DTSTART;TZID=America/New_York:20240610T110000
DTEND;TZID=America/New_York:20240610T130000
DTSTAMP:20260422T075052
CREATED:20240508T165429Z
LAST-MODIFIED:20240517T155739Z
UID:15905-1718017200-1718024400@gbta.org
SUMMARY:The Evolution of Online Booking Tools - GTP Credit Approved
DESCRIPTION:Chapter: Rocky Mountain \nDescription: Join us MONDAY June 10th for a panel discussion featuring popular online booking tools to explore of how online bookings are evolving. Some changes are forced by suppliers\, others by a need for a better user experience. Hear from representatives of Concur\, Deem\, Lightning\, and Cytric as they talk about the evolution of content for online booking\, how supplier can maximize their visibility\, and how corporate customers can maximize the options for their travelers. \n \nEvent Speakers:\nModerator: Martha Neese\, Director of Business Development\, Travelport\nPanelists:\nCharles Sultan\, President\, Concur Travel\nMichael Farrell\, Global Commercial Lead\, Deem\nStephen Puente\, Global Sales Manager\, Cytric by Amadeus\nMark Schnabel\, VP Strategic Sales\, Lightning by CTM \nLocation: Renaissance Hotel Denver Downtown City Center \nPrice: $35 Members/All Access Members\, $60 Non Members\, additional $20 late fee after June 7
URL:https://gbta.org/event/the-evolution-of-online-booking-tools/
CATEGORIES:North America,US Chapter Event
END:VEVENT
BEGIN:VEVENT
DTSTART;TZID=America/New_York:20240611T113000
DTEND;TZID=America/New_York:20240611T133000
DTSTAMP:20260422T075052
CREATED:20240513T163854Z
LAST-MODIFIED:20240529T130537Z
UID:15978-1718105400-1718112600@gbta.org
SUMMARY:GBTA San Diego State of The Industry - GTP Credit Approved
DESCRIPTION:GBTA San Diego\nEstancia Hotel La Jolla\nJune 11\, 2024/11:30 am \nGBTA CFO\, Hema Shah\, will share insights about the current state of global business travel amidst a changing industry landscape based on the latest GBTA research analysis and industry polls. This includes global and U.S. spending forecasts\, pricing trends\, and business traveler preferences and behaviors\, along with recent sentiment from industry professionals about their roles and careers. She will also share the latest updates on GBTA initiatives\, events and Convention. \n \n$30 Direct Member\n$60 Supplier Member\n$75 Guest
URL:https://gbta.org/event/gbta-san-diego-state-of-the-industry/
CATEGORIES:North America,US Chapter Event
END:VEVENT
BEGIN:VEVENT
DTSTART;TZID=America/New_York:20240612T110000
DTEND;TZID=America/New_York:20240612T120000
DTSTAMP:20260422T075052
CREATED:20240509T165118Z
LAST-MODIFIED:20240514T172151Z
UID:15934-1718190000-1718193600@gbta.org
SUMMARY:Uncharted territories: strategies for managing today’s corporate travel value chain
DESCRIPTION:Corporate travel is continuing to transform\, presenting a real challenge to successfully managing a company’s travel program: how to maintain trust throughout the ecosystem while meeting the needs of business travelers and ultimately corporate goals. \nDelve into innovative strategies for the new era of corporate travel in this live webinar hosted by GBTA and moderated by travel industry expert Norm Rose. \nInnovation\, change\, and evolving technologies come with their own set of challenges. Join our panel of corporate travel specialists as they share their out-of-the-box approaches to successful corporate travel programs. \n\nCorporate governance: how to obtain corporate buy-in to execute your strategic initiatives\nChange management: how to educate employees on program expectations while ensuring a positive travel experience\nEmployee experience: how to strike a balance between traveler satisfaction and supplier loyalty\nPayments: how new payment technologies impact your program and the way employees manage expenses\nSupplier management: how to manage rising costs and determine how to measure savings in the new ways of working\n\nModerator: \n• Norm Rose\, President Travel Tech Consulting\, Inc. \nPanelists: \n\n• Kim Hamer\, Partner at Results Plus Consulting \n\n• Lisa K. Reilly\,  Sr. Consultant at GoldSpring Consulting \n\n• Anna King\, CFO at Mesh Payments \nMade Possible by
URL:https://gbta.org/event/uncharted-territories-strategies-for-managing-todays-corporate-travel-value-chain/
CATEGORIES:North America,US Chapter Event
END:VEVENT
BEGIN:VEVENT
DTSTART;TZID=America/New_York:20240612T173000
DTEND;TZID=America/New_York:20240612T203000
DTSTAMP:20260422T075052
CREATED:20240603T144411Z
LAST-MODIFIED:20240603T144411Z
UID:16282-1718213400-1718224200@gbta.org
SUMMARY:Navigating the World of Business Travel: Global Safety and Security
DESCRIPTION:June 12\, 2024\n5:30 PM – 8:00 PM\nThe Shay – Destination by Hyatt\n8801 Washington Blvd\, Culver City\, CA 90232\nCulver City\, CA 90232 \n4:30PM-5:30PM TM60 (Direct Members only)\n5:30PM Registration\n6:00PM-8:00PM Program and Dinner\nParking: $23 for valet\nThe Shay\, Culver City \n$85.00 Member Ticket\n$105.00 after 05:00 pm June 10 \n$115.00 Non-Member Ticket\n$135.00 after 05:00 pm June 10 \nThe evening’s program will feature two speakers sharing three synergistic travel risk management topics that are very timely with the current issues impacting travelers today. The presentations will also discuss the recently issued Department of State “Worldwide Caution” travel alert that affects every organization and anyone who travels.\nChapter members are encouraged to invite personnel from their organizations to attend with them\, including corporate security\, HR\, risk management\, or related personnel.\n1st segment of his presentation will provide a brief overview of the new International Organization for Standardization (ISO) travel risk management standard\, which provides guidelines for managing travel security risks related to business travel\, covering employer responsibilities and traveler awareness.\n2nd segment\, he will share a sample of street-smart travel strategies that he frequently shares on national TV programs such as CBS\, CNN\, FOX News\, and Inside Edition. Kevin will share practical travel tips you\, your travelers\, and your customers can use\, whether exploring bustling international cities or navigating domestic routes. Kevin will also provide timely advice regarding the new Department of State “Worldwide Caution” travel alert that specifically references caution for LGBTQ travelers and related events.
URL:https://gbta.org/event/navigating-the-world-of-business-travel-global-safety-and-security/
CATEGORIES:North America,US Chapter Event
END:VEVENT
BEGIN:VEVENT
DTSTART;TZID=America/New_York:20240613T160000
DTEND;TZID=America/New_York:20240613T183000
DTSTAMP:20260422T075052
CREATED:20240522T152642Z
LAST-MODIFIED:20240522T152642Z
UID:16166-1718294400-1718303400@gbta.org
SUMMARY:All About Networking
DESCRIPTION:All About Networking\nJoin us for an evening of warm welcomes\, introductions\, and networking opportunities. This event is an opportunity for industry leaders and travel professionals to come together \, exchange ideas\, and build meaningful and valuable connections.\nEnjoy refreshments and hors d’oevres provided by Sonesta Silicon Valley while mingling with fellow attendees\nALLIED ONLY:\n3:15-4pm: Buyer Panel\nElena Warburton\, RingCentral\n4pm-6:30pm Networking for all
URL:https://gbta.org/event/all-about-networking-4/
CATEGORIES:North America,US Chapter Event
END:VEVENT
BEGIN:VEVENT
DTSTART;TZID=Europe/Berlin:20240613T200000
DTEND;TZID=Europe/Berlin:20240613T210000
DTSTAMP:20260422T075052
CREATED:20240403T121859Z
LAST-MODIFIED:20240506T163052Z
UID:15296-1718308800-1718312400@gbta.org
SUMMARY:Webinar - An insider view on the European Elections. What does it mean for Business Travel ?
DESCRIPTION:13 June 2024\n2pm – 3pm (CET) \nTitle : An insider view on the European Elections. What does it mean for Business Travel ? \nThe EU elections are coming\, June 6-9. Join GBTA and its European Public Affairs team\, Grayling Public Affairs on June 13\, to learn about the results and the impact the new Parliament will have on the European Commission’s and Council’s ability to make foreign policy choices\, most notably in implementing the next phase of the European Green Deal. \nSpeakers\nCharles Feld\, Director of the EU Energy\, Environment and Transport Practice\, Grayling\nJose Arroyo\, Senior Consultant\, EU Public Affairs\, Grayling\nCharles Patterson\, Senior Manager European Public Affairs\, Grayling\nCatherine Logan\, Regional SVP EMEA and APAC\, GBTA \nReg link https://events.gbta.org/yPwQbr
URL:https://gbta.org/event/webinar-an-insider-view-on-the-european-elections-what-does-it-mean-for-business-travel/
CATEGORIES:Europe,Online Courses & Webinars
END:VEVENT
BEGIN:VEVENT
DTSTART;TZID=America/New_York:20240618T110000
DTEND;TZID=America/New_York:20240618T130000
DTSTAMP:20260422T075052
CREATED:20240520T150015Z
LAST-MODIFIED:20240529T125938Z
UID:16116-1718708400-1718715600@gbta.org
SUMMARY:BNA Vision 2024 is Taking Off - GTP Credit Approved
DESCRIPTION:Join us as Stacey Nickens\, Metropolitan Nashville Airport Authority’s Vice President\, Corporate Communications & Marketing\, shares an update on the transforming effect of the BNA Vision project. BNA Vision is a growth and expansion plan in Metropolitan Nashville Airport Authority’s continued effort to maintain Nashville International Airport® as a world-class facility for the future of Nashville. \n \nStacey Nickens\, Vice President\, Corporate Communications & Marketing\, MNAA \nHilton BNA Nashville Airport Terminal \nTickets\n$35.00 GBTA-TN Member Registration\n$45.00 after 08:00 am June 17 \n$35.00 GBTA All-Access Registration\n$45.00 after 08:00 am June 17 \n$45.00 Guest Registration\n$55.00 after 08:00 am June 17
URL:https://gbta.org/event/bna-vision-2024-is-taking-off/
CATEGORIES:North America,US Chapter Event
END:VEVENT
BEGIN:VEVENT
DTSTART;TZID=America/New_York:20240618T163000
DTEND;TZID=America/New_York:20240618T183000
DTSTAMP:20260422T075052
CREATED:20240513T170147Z
LAST-MODIFIED:20240513T171727Z
UID:15988-1718728200-1718735400@gbta.org
SUMMARY:PNW Industry Social
DESCRIPTION:Come join fellow PNW Travel Industry folks at the June Seattle social and learn know before you go to GBTA Convention in July. See you all at the Astra! \nLocation:\nAstra Hotel\, Seattle\, a Tribute Portfolio Hotel\n300 Terry Ave N\nSeattle\, WA 98109 \nRegistration:\n$50.00 Direct Member Ticket\n$70.00 after 5:00 pm June 17 \n$50.00 Member Ticket\n$70.00 after 5:00 pm June 17 \n$75.00 Guest Ticket\n$95.00 after 5:00 pm June 17
URL:https://gbta.org/event/pnw-industry-social/
CATEGORIES:North America,US Chapter Event
END:VEVENT
BEGIN:VEVENT
DTSTART;TZID=America/New_York:20240620T110000
DTEND;TZID=America/New_York:20240620T150000
DTSTAMP:20260422T075052
CREATED:20240508T165127Z
LAST-MODIFIED:20240508T165337Z
UID:15901-1718881200-1718895600@gbta.org
SUMMARY:GBTA Wisconsin Chapter Summer Event!
DESCRIPTION:Wisconsin Chapter Summer Event\nHow good are you at Axe Throwing or Hammerschlagen? Do you love to play Cornhole & Yard Games? If so\, we have the BEST summer event for you to attend! \nPlease join us in “The Backyard” for a fun day of networking\, axe-throwing\, games and a topic that is applicable to all! Our families are also invited to join (children must be 12 years & over). Tickets are $75 per person & include lunch\, 1 drink ticket\, axe-throwing & yard games (Hammerschlagen has an additional small fee). \n**All attendees must complete a waiver form prior to the event: Madison Axe Waiver Form \nSPONSORSHIP AN AXE ALLEY AT THE EVENT \nFOR ONLY $100!! \nAGENDA: \n11 am – 12 pm Guest Speaker\, Emily Wright\n12 pm – 1 pm Lunch\n1 pm – 3 pm Networking\, games & axe throwing \nCertified Professional Coach\, Emily Wright\, will be sharing insights on: \nEmily Wright\, a seasoned corporate professional\, who transformed into a comprehensive well-being advocate. With over two decades of corporate travel experience\, she’s an expert guide for over-thinkers\, over-achievers\, people-pleasers\, and perfectionists. Emily provides strategies to avoid burnout and keep you from feeling overwhelmed. If you aspire to have balance\, wellness\, and fulfillment in your professional journey\, she is here to help. \nEmily’s diverse corporate roles provided her with insights into team management\, strategic planning\, customer service\, public speaking\, training\, and helping lead volunteer boards. She is a Certified Professional Coach\, Emotional & Mental Wellness Coach\, and a Clinical Acupressure Practitioner\, making her poised to guide professionals toward a life they can truly enjoy and be present in! \nMeeting Venue: \nMadison Axe\n2427 S. Stoughton Road\nMadison\, WI 53716
URL:https://gbta.org/event/gbta-wisconsin-chapter-summer-event/
CATEGORIES:North America,US Chapter Event
END:VEVENT
BEGIN:VEVENT
DTSTART;TZID=America/New_York:20240620T160000
DTEND;TZID=America/New_York:20240620T190000
DTSTAMP:20260422T075052
CREATED:20240522T152435Z
LAST-MODIFIED:20240522T152435Z
UID:16163-1718899200-1718910000@gbta.org
SUMMARY:All About Networking! Join us for an evening of warm welcomes\, introductions\, and networking opportunities.
DESCRIPTION:Join us for an evening of warm welcomes\, introductions\, and networking opportunities. This event is an opportunity for industry leaders and travel professionals to come together\, exchange ideas\, and build meaningful and valuable connections. Enjoy refreshments and hors d’oevres provided by Oakland Airport while mingling with fellow attendees. Buyers Only Happy Hour starts at 4:00PM!
URL:https://gbta.org/event/all-about-networking-join-us-for-an-evening-of-warm-welcomes-introductions-and-networking-opportunities/
CATEGORIES:North America,US Chapter Event
END:VEVENT
BEGIN:VEVENT
DTSTART;TZID=America/New_York:20240625T000000
DTEND;TZID=America/New_York:20240625T000000
DTSTAMP:20260422T075052
CREATED:20231219T162130Z
LAST-MODIFIED:20231219T162130Z
UID:8920-1719273600-1719273600@gbta.org
SUMMARY:Masterclass GBTA France 2024
DESCRIPTION:
URL:https://gbta.org/event/masterclass-gbta-france-2024/
END:VEVENT
BEGIN:VEVENT
DTSTART;TZID=America/New_York:20240625T090000
DTEND;TZID=America/New_York:20240625T210000
DTSTAMP:20260422T075052
CREATED:20240522T113953Z
LAST-MODIFIED:20240522T145009Z
UID:16140-1719306000-1719349200@gbta.org
SUMMARY:Masterclass GBTA France
DESCRIPTION:Description:\nLa Masterclass\, événement phare du calendrier GBTA France est le rendez-vous des professionnels du Voyage d’Affaires et du MICE.\nDes experts acheteurs\, Travel Managers et fournisseurs\, représentant de la chaîne de valeur Travel et MICE donneront un éclairage sur l’industrie et partageront leur retour d’expérience sur des thématiques d’actualité. \nStart Date and Time:\nTuesday 25 june 2024 | 9h00 am – 09h00 pm CEST \nLocation:\nVenue Information: Paris Marriott Champs-Elysées\n70 av. des Champs-Élysées\, 75008 Paris \nLearn more
URL:https://gbta.org/event/masterclass-gbta-france/
CATEGORIES:Conference/Convention,France
END:VEVENT
BEGIN:VEVENT
DTSTART;TZID=America/New_York:20240626T110000
DTEND;TZID=America/New_York:20240626T120000
DTSTAMP:20260422T075052
CREATED:20240416T155621Z
LAST-MODIFIED:20240416T155621Z
UID:15563-1719399600-1719403200@gbta.org
SUMMARY:GBTA Annual Business Meeting 2024
DESCRIPTION:Join GBTA leaders for a review of the state of the association\, key milestones and what’s ahead at the GBTA’s 2024 Annual Business Meeting\, to be held virtually on June 26 (Aligned with New York State law\, this serves as a notification for GBTA members.)
URL:https://gbta.org/event/gbta-annual-business-meeting-2024-2/
CATEGORIES:North America,Online Courses & Webinars
END:VEVENT
END:VCALENDAR