BEGIN:VCALENDAR
VERSION:2.0
PRODID:-//Global Business Travel Association - GBTA - ECPv6.9.0//NONSGML v1.0//EN
CALSCALE:GREGORIAN
METHOD:PUBLISH
X-WR-CALNAME:Global Business Travel Association - GBTA
X-ORIGINAL-URL:https://gbta.org
X-WR-CALDESC:Events for Global Business Travel Association - GBTA
REFRESH-INTERVAL;VALUE=DURATION:PT1H
X-Robots-Tag:noindex
X-PUBLISHED-TTL:PT1H
BEGIN:VTIMEZONE
TZID:America/New_York
BEGIN:DAYLIGHT
TZOFFSETFROM:-0500
TZOFFSETTO:-0400
TZNAME:EDT
DTSTART:20240310T070000
END:DAYLIGHT
BEGIN:STANDARD
TZOFFSETFROM:-0400
TZOFFSETTO:-0500
TZNAME:EST
DTSTART:20241103T060000
END:STANDARD
END:VTIMEZONE
BEGIN:VEVENT
DTSTART;TZID=America/New_York:20240716T100000
DTEND;TZID=America/New_York:20240716T110000
DTSTAMP:20260422T194422
CREATED:20240705T152726Z
LAST-MODIFIED:20240705T153425Z
UID:16714-1721124000-1721127600@gbta.org
SUMMARY:Webinar GBTA Italia | Alimentazione e Salute durante i Viaggi d’Affari
DESCRIPTION:Data: 16 luglio 2024\nOrario: dalle 10.00 am alle 11.00 am\nLingua: italiano \nBenessere in Viaggio? Partecipa al Webinar gratuito di GBTA Italia del 16 luglio dalle 10.00am alle 11.00am: \n“Alimentazione e Salute durante i Viaggi di Lavoro”. \nRegister Now\n\n  \nDurante il Webinar\, parleremo di: \n✅ “One Health”: benessere e prevenzione\n✅ “Sentirsi a casa anche in viaggio”: accorgimenti nutrizionali per tutelare la salute in trasferta\n✅ Stress: gestirlo durante i viaggi di lavoro\n✅ Hotellerie: come è cambiata l’erogazione dei servizi F&B\n✅ Viaggiatori in volo: come e perché si è modificata l’offerta F&B e quali sono gli accorgimenti messi in atto dalle compagnie aeree per il benessere dei passeggeri\n✅ La filiera corta per una scelta sostenibile: le Farm negli hub aeroportuali e negli hotel \nAmpio spazio sarà dato alla risposta delle curiosità dei partecipanti da parte dei relatori. \n\n\n\n\n\n\n\n\nFlavio Ghiringhelli\nCountry Manager Italy\n@Emirates\nPaolo Fedeli\nMedico e Corporate Affairs Head\n@ Sandoz\nMartin Sapori\nVice President | Sales Governance Officer\n@Accor\n\n\n\nL’evento è sponsorizzato da:
URL:https://gbta.org/event/alimentazione-e-salute-durante-i-viaggi-daffari/
CATEGORIES:Italy,Online Courses & Webinars
END:VEVENT
BEGIN:VEVENT
DTSTART;TZID=America/New_York:20240720T083000
DTEND;TZID=America/New_York:20240721T160000
DTSTAMP:20260422T194422
CREATED:20240517T161028Z
LAST-MODIFIED:20240522T150413Z
UID:16053-1721464200-1721577600@gbta.org
SUMMARY:Advanced Principles of Business Travel Management™
DESCRIPTION:The Advanced Principles of Business Travel Management™ course builds off of the Fundamentals curriculum to aid business travel professionals in increasing their knowledge of the industry while also expanding on their professional skills. This course is designed for travel buyers overseeing a managed business travel program and suppliers offering travel-related products and services. Ideal preparation for your GTP exam\, or as a refresher to earn 14 GTP Recertification credits. \nCore Curriculum \n\nStrategic Planning and sourcing\nBuyer and Supplier Relationships\nTravel Risk Management\nTravel Program Administration\nAnalytics and reporting\n\nLocation of Event\nAtlanta\, GA\nIn-Person at GBTA Convention 2024. Convention attendance not required. \nPricing\n$450 member/$675 non-member \nMore information >>
URL:https://gbta.org/event/advanced-principles-of-business-travel-management-6/
CATEGORIES:Learning
END:VEVENT
BEGIN:VEVENT
DTSTART;TZID=America/New_York:20240720T083000
DTEND;TZID=America/New_York:20240721T160000
DTSTAMP:20260422T194422
CREATED:20240517T161431Z
LAST-MODIFIED:20240618T172213Z
UID:16058-1721464200-1721577600@gbta.org
SUMMARY:The Fundamentals of Strategic Meetings Management™
DESCRIPTION:In this fundamental course taught by procurement\, travel and meetings industry experts\, you will learn how to articulate the benefits and components of SMM in a corporate environment. Participants will take away SMMP best practices and strategies on how to contain cost\, mitigate risk\, manage data\, implement technology solutions\, and ensure service quality. \nParticipants earn 14 GTP Recertification credits. \nCore Curriculum \n\nStrategic meetings management overview\nKey program components\nEstablishing partnership strategies\nCreating a funding model\nBuilding a strategic meetings management business case\n\nLocation of Event\nAtlanta\, GA\nIn-Person at GBTA Convention 2024. Convention attendance not required. \nPricing\n$450 member/$675 non-member \nMore information >>
URL:https://gbta.org/event/the-fundamentals-of-strategic-meeting-management/
CATEGORIES:Learning
END:VEVENT
BEGIN:VEVENT
DTSTART;TZID=America/New_York:20240721T083000
DTEND;TZID=America/New_York:20240721T160000
DTSTAMP:20260422T194422
CREATED:20240517T161826Z
LAST-MODIFIED:20240606T153342Z
UID:16062-1721550600-1721577600@gbta.org
SUMMARY:Sustainable Travel Management
DESCRIPTION:Companies around the world are now examining their business travel practices as a lever to reduce overall emissions. But what does this mean in practice\, and how can travel programs contribute to the effort? GBTA’s Sustainable Travel Management course focuses on the practical application of climate action and the management\, reduction\, and tracking of carbon emissions from business travel. This training course will address the challenges and opportunities as forward-thinking organizations look to launch or advance their sustainable travel management program. \nParticipants earn 10 GTP Recertification credits. \nCore Curriculum \n\nEmissions-reducing technologies in business travel\nEmpowering travelers to make informed decisions via travel policy\, booking tools\, and more\nEmissions tracking\nSustainability criteria to aid in the selection of suppliers\n\nLocation of Event\nAtlanta\, GA\nIn-Person at GBTA Convention 2024. Convention attendance not required. \nPricing\n$450 member/$675 non-member \nMore information >>
URL:https://gbta.org/event/sustainable-travel-management/
CATEGORIES:Learning
END:VEVENT
BEGIN:VEVENT
DTSTART;TZID=America/New_York:20240721T083000
DTEND;TZID=America/New_York:20240721T160000
DTSTAMP:20260422T194422
CREATED:20240517T162724Z
LAST-MODIFIED:20240618T172745Z
UID:16065-1721550600-1721577600@gbta.org
SUMMARY:Global Leadership Professional (GLP) Capstone Kickoff
DESCRIPTION:Times:\nSunday\, July 21 from 8:30 AM – 4:00 PM ET \nThe Global Leadership Professional (GLP) Capstone Kickoff is the pinnacle of achievement for business travel professionals. This year-long program consists of several components centered on a collaborative\, industry-related and solutions-based project: \n\nProgram kicks off with a live meeting for registered participants at the GBTA Convention 2024\nVirtual consultation sessions available as needed for cohorts throughout the program\nAdditional opportunities to work with peers on your assigned project are provided throughout the year long cohort\nThe program concludes during GBTA Convention 2025\, where projects are finalized and attendance is mandatory\n\nParticipants earn 20 GTP Recertification credits. \nPrerequisite: You must complete Global Leadership Professional courses covering marketing\, management\, finance and leadership before participating in the Capstone program. \nLocation of Event\nAtlanta\, GA\nIn-Person at GBTA Convention 2024. Convention attendance not required. \nPricing\n$2500 member/$3000 non-member \n More information >>
URL:https://gbta.org/event/global-leadership-professional-glp-capstone-kickoff/
CATEGORIES:Learning
END:VEVENT
BEGIN:VEVENT
DTSTART;VALUE=DATE:20240722
DTEND;VALUE=DATE:20240725
DTSTAMP:20260422T194422
CREATED:20231120T165316Z
LAST-MODIFIED:20240425T035132Z
UID:13602-1721606400-1721865599@gbta.org
SUMMARY:GBTA Convention 2024
DESCRIPTION:Join us for the 55th annual GBTA Convention\, the premier global event for the business travel industry where diverse voices come together for a common purpose. \n– CONNECT in person with thousands of industry peers\, suppliers\, and partners\, as they benefit from unparalleled opportunities for professional and business growth\n– LEARN from and be inspired by insightful speakers and leading experts on timely topics that matter most\n– GROW your career and skills with unmatched sessions for learning\, training and professional development tailored for all levels and interests\n– DISCOVER tools\, research and resources – from the latest industry outlook and trends\, to best practices and technologies – that empower you to advance your organization\, travelers\, and teams \n \nLearn More>  \nInterested in exhibiting? Learn more about expo opportunities.
URL:https://gbta.org/event/gbta-convention-2024/
CATEGORIES:Conference/Convention
ATTACH;FMTTYPE=image/png:https://gbta.org/wp-content/uploads/goergiacenter.png
END:VEVENT
END:VCALENDAR