BEGIN:VCALENDAR
VERSION:2.0
PRODID:-//Global Business Travel Association - GBTA - ECPv6.9.0//NONSGML v1.0//EN
CALSCALE:GREGORIAN
METHOD:PUBLISH
X-ORIGINAL-URL:https://gbta.org
X-WR-CALDESC:Events for Global Business Travel Association - GBTA
REFRESH-INTERVAL;VALUE=DURATION:PT1H
X-Robots-Tag:noindex
X-PUBLISHED-TTL:PT1H
BEGIN:VTIMEZONE
TZID:America/New_York
BEGIN:DAYLIGHT
TZOFFSETFROM:-0500
TZOFFSETTO:-0400
TZNAME:EDT
DTSTART:20240310T070000
END:DAYLIGHT
BEGIN:STANDARD
TZOFFSETFROM:-0400
TZOFFSETTO:-0500
TZNAME:EST
DTSTART:20241103T060000
END:STANDARD
END:VTIMEZONE
BEGIN:VEVENT
DTSTART;TZID=America/New_York:20241001T130000
DTEND;TZID=America/New_York:20241022T150000
DTSTAMP:20260422T012627
CREATED:20240517T164919Z
LAST-MODIFIED:20240709T181918Z
UID:16090-1727787600-1729609200@gbta.org
SUMMARY:The Fundamentals of Business Travel Management™
DESCRIPTION:The Fundamentals of Business Travel Management course is designed for travel buyers and suppliers who want a deeper understanding of the foundational elements of a corporate travel policy. Learners will gain a better understanding of business travel management and make themselves indispensable to the needs of their organization. \nParticipants earn 14 GTP Recertification credits. \nCore Curriculum \n\nOverview of Travel Management\nTravel Policy\nCreating a Service Model\nTravel Technology Basics\nStrategic Sourcing/Vendor Management\n\nPricing\n$295 member/$675 non-member \n More information >>
URL:https://gbta.org/event/the-fundamentals-of-business-travel-management-5/
CATEGORIES:Learning
END:VEVENT
BEGIN:VEVENT
DTSTART;TZID=America/New_York:20241003T090000
DTEND;TZID=America/New_York:20241003T163000
DTSTAMP:20260422T012627
CREATED:20240508T065904Z
LAST-MODIFIED:20240717T140907Z
UID:15873-1727946000-1727973000@gbta.org
SUMMARY:GBTA Conference 2024 Milano
DESCRIPTION:Relatori d’eccezione\, Travel Manager\, Event Manager\, Mobility Manager e Supplier della catena del valore del Business Travel e del MICE si incontreranno\, si confronteranno sugli argomenti di attualità e condivideranno best practice nell’appuntamento annuale dei Viaggi d’Affari e degli Eventi. \nVai al sito della Conferenza
URL:https://gbta.org/event/gbta-conference-2024-milano/
CATEGORIES:Conference/Convention,Italy
END:VEVENT
BEGIN:VEVENT
DTSTART;TZID=America/New_York:20241004T110000
DTEND;TZID=America/New_York:20241101T130000
DTSTAMP:20260422T012627
CREATED:20240517T165317Z
LAST-MODIFIED:20240522T151319Z
UID:16096-1728039600-1730466000@gbta.org
SUMMARY:Sustainable Travel Management
DESCRIPTION:  \nCompanies around the world are now examining their business travel practices as a lever to reduce overall emissions. But what does this mean in practice\, and how can travel programs contribute to the effort? GBTA’s Sustainable Travel Management course focuses on the practical application of climate action and the management\, reduction\, and tracking of carbon emissions from business travel. This training course will address the challenges and opportunities as forward-thinking organizations look to launch or advance their sustainable travel management program. \nParticipants earn 10 GTP Recertification credits. \nCore Curriculum \n\nEmissions-reducing technologies in business travel\nEmpowering travelers to make informed decisions via travel policy\, booking tools\, and more\nEmissions tracking\nSustainability criteria to aid in the selection of suppliers\n\nPricing\n$450 member/$675 non-member \nMore information >>
URL:https://gbta.org/event/sustainable-travel-management-2/
CATEGORIES:Learning
END:VEVENT
BEGIN:VEVENT
DTSTART;TZID=America/New_York:20241008T110000
DTEND;TZID=America/New_York:20241008T131000
DTSTAMP:20260422T012627
CREATED:20240806T150141Z
LAST-MODIFIED:20240809T033736Z
UID:17045-1728385200-1728393000@gbta.org
SUMMARY:GBTA | Tennessee October Chapter Meeting: Gen Y & Gen Z Influencers in Managed Travel - Credit Approved
DESCRIPTION:GBTA | Tennessee \nGen Z has arrived and has already changed the corporate travel industry as we know it. This keynote provides a deep dive into the curious habits of Gen Y and Gen Z-ers and reveals the unavoidable impact they are already having on travel — from traveler and employee trends to their ever-increasing demands on experiences. In this presentation\, we’ll unpack ways to bridge the generational gap to live\, work\, and make travel more successful together with real-world case studies and best practices.\nJoin us as Tim Hines puts on a master class and encourages us as travel industry professionals to accelerate our growth by guiding us to be more collaborative\, innovative\, and influential. \n \nTim Hines\, Speaker\, Author\, Podcaster \nCourtyard by Marriott Nashville Green Hills\n3800 Bedford Avenue\nNashville\, TN 37215 \nTickets\n$35.00 GBTA-TN Member Registration\n$45.00 after 07:00 am October 7 \n$35.00 GBTA All-Access Registration\n$45.00 after 07:00 am October 7 \n$45.00 Guest Registration\n$55.00 after 07:00 am October 7
URL:https://gbta.org/event/gbta-tennessee-october-chapter-meeting-gen-y-gen-z-influencers-in-managed-travel/
CATEGORIES:North America,US Chapter Event
END:VEVENT
BEGIN:VEVENT
DTSTART;TZID=America/New_York:20241008T113000
DTEND;TZID=America/New_York:20241008T133000
DTSTAMP:20260422T012627
CREATED:20240916T163630Z
LAST-MODIFIED:20241007T032418Z
UID:17521-1728387000-1728394200@gbta.org
SUMMARY:San Diego Chapter - Integrating Green Initiatives into the Travel Ecosystem – GTP Credit Approved
DESCRIPTION:Please join us for our final educational program of 2024! Our panel will hold a lively discussion on how we can all work together to get into the green scene! We will hear about local initiatives to address the needs of our industry and the environment\, along with ways every sector can develop sustainable travel practices. \n \nPANELISTS:\n*Shals Iyer\, Director of Strategic Partnerships\, Hubli (Moderator)\n*Scott Coughlan\, Director of Sustainability\, Alaska Airlines\n*Tiffany Hinton\, Chief Operating Officer\, Motev LLC\n*Chad Reese\, Environmental Manager\, San Diego International Airport\n*Shelby Rust Buso\, Chief Sustainability Office\, City of San Diego\n*Mark Ziegler\, Senior Travel Manager\, NetApp \nLegacy Resort Hotel & Spa\, San Diego \nTickets:\n$30.00 Direct Member Ticket \n$60.00 Supplier Member Ticket \n$75.00 Guest Ticket
URL:https://gbta.org/event/integrating-green-initiatives-into-the-travel-ecosystem/
CATEGORIES:North America,US Chapter Event
END:VEVENT
BEGIN:VEVENT
DTSTART;TZID=America/New_York:20241015T080000
DTEND;TZID=America/New_York:20241015T170000
DTSTAMP:20260422T012627
CREATED:20240916T163516Z
LAST-MODIFIED:20240924T123009Z
UID:17517-1728979200-1729011600@gbta.org
SUMMARY:RMGBTA Education Day - GTP Credit Approved
DESCRIPTION:Rocky Mountain\, GBTA\nEducation Day which includes GBTA industry Update\, Denver International Airport and TSA Real ID update\, hotel industry and sourcing outlook\, supplier relationship building\, fireside chats with Southwest and Concur\, data science presentation\, networking\, and happy hour\nMany speakers\, please refer to attachment \n \nThis event will be held at The Rally Hotel\n1600 20th Street\nDenver\, CO 80202\nhttps://www.therallyhotel.com/\n$100.00 Chapter Member Ticket\n$75.00 Earlybird rate before October 1 \n$100.00 GBTA All-Access Ticket (Member of a chapter other than Rocky Mountain)\n$75.00 Earlybird rate before October 1 \n$100.00 Non-Member Ticket (Attendee is not a Rocky Mountain Chapter or GBTA All-Access Member)\n$75.00 Earlybird rate before October 1
URL:https://gbta.org/event/rmgbta-education-day/
CATEGORIES:North America,US Chapter Event
END:VEVENT
BEGIN:VEVENT
DTSTART;TZID=America/New_York:20241016T083000
DTEND;TZID=America/New_York:20241016T120000
DTSTAMP:20260422T012627
CREATED:20240603T151310Z
LAST-MODIFIED:20240815T222420Z
UID:16297-1729067400-1729080000@gbta.org
SUMMARY:GBTA LATAM Business Travel Forum – Mexico City
DESCRIPTION:The GBTA LATAM Business Travel Forum – Mexico City is a half-day event designed to train Travel Managers in corporate travel from Mexico. \nBy attending\, you can: \n\nEnhance your corporate travel program knowledge.\nNetwork with local colleagues.\nEngage with event sponsors.\nInvest time in your personal and professional growth.\n\nCost GBTA members: Complementary \nCost Non GBTA members: USD $45 (includes GBTA membership for one year) \nLocation: Camino Real Polanco \nSponsor opportunities now available >>  \nRegister here>>
URL:https://gbta.org/event/gbta-latam-business-travel-forum-mexico-city/
CATEGORIES:LATAM,Summits & Workshops
END:VEVENT
BEGIN:VEVENT
DTSTART;TZID=America/New_York:20241016T120000
DTEND;TZID=America/New_York:20241016T130000
DTSTAMP:20260422T012627
CREATED:20240829T125557Z
LAST-MODIFIED:20241009T095032Z
UID:17291-1729080000-1729083600@gbta.org
SUMMARY:ETIAS and EES Unveiled: Busting Myths and Preparing for Europe's New Entry Systems
DESCRIPTION:What you’ll learn: \n\nGain an understanding of the two new border management IT systems\nLearn how these systems will affect business travelers\, including new requirements and procedures\nThe steps you can take to prepare for the changes ahead of 2025 implementation\n& more!\n\nSpeakers \n\nVaya Moussa\nPolicy Officer for Smart Borders\, European Commission \n\nJason Rogers\nSr. Partner\, Newland Chase Advisory – Newland Chase \n\nGemma King\nVice President\, Global Corporate Travel – Omnicom Group \n  \nChange can be challenging for anyone\, but the #EES and #ETIAS doesn’t have to cause any trepidation with this informational webinar. Don’t miss out on this opportunity to learn best practices for these new systems. \n 
URL:https://gbta.org/event/etias-and-ees-unveiled-busting-myths-and-preparing-for-europes-new-entry-systems/
CATEGORIES:North America,Online Courses & Webinars,US Chapter Event
END:VEVENT
BEGIN:VEVENT
DTSTART;TZID=America/New_York:20241017T090000
DTEND;TZID=America/New_York:20241017T170000
DTSTAMP:20260422T012627
CREATED:20240920T091729Z
LAST-MODIFIED:20240920T091729Z
UID:17662-1729155600-1729184400@gbta.org
SUMMARY:GBTA DC 2024 Education Day
DESCRIPTION:GBTA DC Chapter \nJoin us for a day of knowledge and networking at the GBTA Greater DC Metro Chapter’s Education Day! Dive into the latest trends\, insights\, and best practices in the world of business travel. Our event brings together industry experts\, thought leaders\, and professionals to explore key topics\, share valuable experiences\, and foster meaningful connections. This year’s agenda is packed with engaging sessions and interactive workshops\, designed to enhance your expertise in travel management and corporate travel solutions. Don’t miss this opportunity to elevate your skills and stay ahead in the ever-evolving travel landscape. We look forward to seeing you there! \nFirst time in the history\, we will be offering GBTA fundamental certification program during this year’s education day. Stay tuned on how to register for the certification program. \nEvent Speakers: Tim Hines & Dale Buckner – CEO of Global Guardian \nEvent Location:\nThe Auditorium at HJF (Henry M. Jackson Foundation for the Advancement of Military Medicine)\n6720-A Rockledge Drive\, Suite 100\nBethesda\, MD 20817\nPrice: $75-$125
URL:https://gbta.org/event/gbta-dc-2024-education-day/
CATEGORIES:North America,US Chapter Event
END:VEVENT
BEGIN:VEVENT
DTSTART;TZID=America/New_York:20241017T090000
DTEND;TZID=America/New_York:20241017T170000
DTSTAMP:20260422T012627
CREATED:20240930T165412Z
LAST-MODIFIED:20241003T160421Z
UID:17842-1729155600-1729184400@gbta.org
SUMMARY:GBTA Arizona Education Day - GTP Credit Approved
DESCRIPTION:GBTA Arizona\nJoin us for GBTA Arizona’s Education Day 2024\, an action-packed\, full-day event focused on Traveler Safety and Duty of Care! This dynamic meeting will feature expert-led education sessions\, networking opportunities\, and our exciting Shark Tank Presentation. Attendees will gain insights into the latest industry trends\, crisis recovery\, and best practices for enhancing traveler safety. Plus\, meet with leading suppliers at our Trade Show Expo to discover innovative solutions for your travel program.\nDon’t miss out on this valuable opportunity to learn\, network\, and elevate your travel management expertise. Register now and be a part of this impactful event!
URL:https://gbta.org/event/gbta-arizona-education-day/
CATEGORIES:North America,US Chapter Event
END:VEVENT
BEGIN:VEVENT
DTSTART;TZID=America/New_York:20241017T103000
DTEND;TZID=America/New_York:20241017T130000
DTSTAMP:20260422T012627
CREATED:20240919T041311Z
LAST-MODIFIED:20240924T124710Z
UID:17631-1729161000-1729170000@gbta.org
SUMMARY:Dallas - Ft. Worth GBTA October Chapter Meeting - GTP Credit Approved
DESCRIPTION:Chapter/Committee/Partner Name: Dallas Ft. Worth – GBTA October Chapter Mtg.\nDescription: Katie Virtue will be sharing a roadmap of travel trends and show us useful strategies for the future of Travel and meetings planning.\nEvent Speaker: (Katie Virtue\, Head of Sales and Marketing\, Festive Road)\nLocation of Event: (If Virtual\, write Virtual. If In-person\, include Venue Information) \n \nPrice:\n$50.00 Members\n$70.00 Guest of Member\n$50.00 ALL ACCESS MEMBERS ONLY – Subject to Verification\n$75.00 Guest Non Member
URL:https://gbta.org/event/dallas-ft-worth-gbta-october-chapter-meeting/
CATEGORIES:North America,US Chapter Event
END:VEVENT
BEGIN:VEVENT
DTSTART;TZID=America/New_York:20241017T110000
DTEND;TZID=America/New_York:20241017T133000
DTSTAMP:20260422T012627
CREATED:20240522T152050Z
LAST-MODIFIED:20240522T152050Z
UID:16160-1729162800-1729171800@gbta.org
SUMMARY:Annual Lunch Meeting at SFO
DESCRIPTION:Annual Lunch Meeting at SFO \nAre you ready for Real ID? Come hear directly from the Transportation Security Administration – Department of Homeland Security on how they protect the nation’s transportation systems to ensure freedom of movement for people and commerce on a daily basis\, as well as how to get yourself and your travelers ready for Real ID by May 2025.
URL:https://gbta.org/event/annual-lunch-meeting-at-sfo/
CATEGORIES:North America,US Chapter Event
END:VEVENT
BEGIN:VEVENT
DTSTART;TZID=America/New_York:20241022T080000
DTEND;TZID=America/New_York:20241022T180000
DTSTAMP:20260422T012627
CREATED:20240712T072559Z
LAST-MODIFIED:20240712T072724Z
UID:16818-1729584000-1729620000@gbta.org
SUMMARY:GBTA Canada Business Travel Forums – Montreal
DESCRIPTION:The GBTA Canada Business Travel Forums are meticulously crafted as a one-day education and networking program replicated in four Canadian cities:  Vancouver\, Calgary\, Montreal and Toronto.  The program is strategically structured to deliver invaluable knowledge\, profound insights\, and cutting-edge education to an industry grappling with escalating costs\, supply chain uncertainties\, and multifaceted disruptions. \nAlongside the invaluable educational content\, the Forums offer curated networking opportunities\, with ample time allocated for meaningful buyer interaction within the Supplier Showcase. By participating in these enriching workshops\, our esteemed sponsors gain a crucial platform to highlight their commitment to evolving in alongside the ever-changing landscape of travel programs and traveler expectations. \nLocation:\nMarriott Montréal Chateau Champlain\n1100-1170 Rue De la Gauchetière O\,\nMontréal\, QC H3B 4C9\nTel: 514-878-9000\nHotel Website \nSponsor opportunities now available>> \nLearn More>>
URL:https://gbta.org/event/gbta-canada-business-travel-forums-montreal/
CATEGORIES:Canada,Summits & Workshops
END:VEVENT
BEGIN:VEVENT
DTSTART;TZID=America/New_York:20241023T080000
DTEND;TZID=America/New_York:20241023T180000
DTSTAMP:20260422T012627
CREATED:20241009T114323Z
LAST-MODIFIED:20241021T034815Z
UID:17998-1729670400-1729706400@gbta.org
SUMMARY:GBTA New York City Education Day
DESCRIPTION:GBTA New York City Education Day \nOctober 23\, 2024 | 8:00 AM EDT to 6:00 PM EDT\nHard Rock Cafe\n1501 Broadway\, New York\, NY\, 10036\nAdd to Calendar Get Directions\nJoin us for a jam-packed day of education and insight!\nAgenda\n8:00 AM – Breakfast & Registration\n9:15 AM – Kick-Off\nKelly Ferrigno – President\, GBTA NYC & National Account Manager\, United Airlines\n9:30 AM – Business Travel Outlook\nSuzanne Neufang – CEO\, GBTA\n10:00 AM – Government Update\nJoe Barton – Principal\, Cornerstone Government Affairs\n10:30 AM – Break\n11:00 AM – Cyber Safety & Security\nFrank Harrison – Regional Security Director\, World Travel Protection\n11:30 AM – Artificial Intelligence\nDaniel Raine – CEO & Founder\, Unlocked Data\n12:00 PM – Lunch\n1:00 PM – Hotel Panel – Pricing Trends/RFP Preparation\nChris Massucci – Senior Director\, Global Sales\, Marriott International\nChristiane Cabot Bini – VP Global Business Sales\, Hilton\nJoanne Cargill – Global Director\, Travel Industry Sales\, Omni Hotels & Resorts\n1:45 PM – Ground Transportation\nFrank Gallo – Director of Membership\, GBTA NYC & Global Account Director\, RMA Worldwide\nTyler Anderson – Lead Enterprise Account Manager\, Uber\nGordon Millner – Global Head of Corporate Sales\, Blacklane\n2:30 PM – Afternoon Break\n3:00 PM – Buyers Panel\nMark Cuschieri – President\, GBTA & Global Head of Travel\, UBS\nRosemary Maloney – Vice President GBTA & Senior Director of Corporate Travel\, Freeman\nChristina Martinez Reichelt – Senior Manager\, Global Travel Procurement\, Regeneron\n4:00 PM – Accessibility in Travel\nCari Wurzbacher – Government & Corporate Accounts Manager – United Airlines\nJamie Meek – Sales Director\, Altour\nAndrew Slaiby – Senior Manager\, Travel\, Raytheon Technologies\n4:45 PM – Board Updates\nRosemary Maloney – Chairman of the Board\, GBTA NYC & Vice President GBTA & Senior Director of Corporate Travel\, Freeman\n5:00 PM – Happy Hour\n*Agenda subject to change.\nWe will be hosting a Food Drive for City Harvest so please see the below list of most needed items to bring on Education Day.
URL:https://gbta.org/event/gbta-new-york-city-education-day/
CATEGORIES:North America,US Chapter Event
END:VEVENT
BEGIN:VEVENT
DTSTART;TZID=America/New_York:20241024T080000
DTEND;TZID=America/New_York:20241024T180000
DTSTAMP:20260422T012627
CREATED:20240712T072911Z
LAST-MODIFIED:20240712T072911Z
UID:16821-1729756800-1729792800@gbta.org
SUMMARY:GBTA Canada Business Travel Forums – Toronto
DESCRIPTION:The GBTA Canada Business Travel Forums are meticulously crafted as a one-day education and networking program replicated in four Canadian cities:  Vancouver\, Calgary\, Montreal and Toronto.  The program is strategically structured to deliver invaluable knowledge\, profound insights\, and cutting-edge education to an industry grappling with escalating costs\, supply chain uncertainties\, and multifaceted disruptions. \nAlongside the invaluable educational content\, the Forums offer curated networking opportunities\, with ample time allocated for meaningful buyer interaction within the Supplier Showcase. By participating in these enriching workshops\, our esteemed sponsors gain a crucial platform to highlight their commitment to evolving in alongside the ever-changing landscape of travel programs and traveler expectations. \nLocation:\nSheraton Toronto Airport Hotel & Conference Center\n801 Dixon Rd\nToronto\nON M9W 1J5\n416-675-6100\nHotel Website \nSponsor opportunities now available>> \nLearn More>>
URL:https://gbta.org/event/gbta-canada-business-travel-forums-toronto/
CATEGORIES:Canada,US Chapter Event
END:VEVENT
BEGIN:VEVENT
DTSTART;TZID=America/New_York:20241024T100000
DTEND;TZID=America/New_York:20241024T160000
DTSTAMP:20260422T012627
CREATED:20240628T165651Z
LAST-MODIFIED:20241018T043806Z
UID:16658-1729764000-1729785600@gbta.org
SUMMARY:GBTA WINiT Summit 2024
DESCRIPTION:The WINiT Summit is an empowering event that brings together professionals of all levels to positively transform the careers and lives of women in travel-related industries.
URL:https://gbta.org/event/gbta-winit-summit-2024/
CATEGORIES:Summits & Workshops,WINiT
END:VEVENT
BEGIN:VEVENT
DTSTART;TZID=America/New_York:20241024T183000
DTEND;TZID=America/New_York:20241024T213000
DTSTAMP:20260422T012627
CREATED:20240628T165753Z
LAST-MODIFIED:20241018T043803Z
UID:16661-1729794600-1729805400@gbta.org
SUMMARY:GBTA WINiT Gala 2024
DESCRIPTION:The goal of the WINiT Awards is to recognize the women\, men\, and companies who together are driving positive change for the career mobility of women in the travel-related industries. Winners will be honored at the Gala.
URL:https://gbta.org/event/gbta-winit-gala-2024/
CATEGORIES:Summits & Workshops,WINiT
ATTACH;FMTTYPE=image/png:https://gbta.org/wp-content/uploads/winit-gala-event.png
END:VEVENT
BEGIN:VEVENT
DTSTART;TZID=America/New_York:20241029T083000
DTEND;TZID=America/New_York:20241029T120000
DTSTAMP:20260422T012627
CREATED:20240603T151356Z
LAST-MODIFIED:20241025T140121Z
UID:16301-1730190600-1730203200@gbta.org
SUMMARY:GBTA LATAM Business Travel Forum – Santiago
DESCRIPTION:The GBTA LATAM Business Travel Forum – Santiago is a half-day event designed to train Travel Managers in corporate travel from Chile. \nBy attending\, you can: \n\nEnhance your corporate travel program knowledge.\nNetwork with local colleagues.\nEngage with event sponsors.\nInvest time in your personal and professional growth.\n\nParticipation is complementary and by invitation only. If you’re interested and you work in travel management\, please email latamevents@gbta.org. Note that expressing interest does not guarantee a spot; a confirmation email from GBTA is required. \nLocation: Hotel Pullman Santiago Vitacura \nRegister Here>>
URL:https://gbta.org/event/gbta-latam-business-travel-forum-santiago-2/
CATEGORIES:LATAM,Summits & Workshops
END:VEVENT
END:VCALENDAR