BEGIN:VCALENDAR
VERSION:2.0
PRODID:-//Global Business Travel Association - GBTA - ECPv6.9.0//NONSGML v1.0//EN
CALSCALE:GREGORIAN
METHOD:PUBLISH
X-WR-CALNAME:Global Business Travel Association - GBTA
X-ORIGINAL-URL:https://gbta.org
X-WR-CALDESC:Events for Global Business Travel Association - GBTA
REFRESH-INTERVAL;VALUE=DURATION:PT1H
X-Robots-Tag:noindex
X-PUBLISHED-TTL:PT1H
BEGIN:VTIMEZONE
TZID:America/New_York
BEGIN:DAYLIGHT
TZOFFSETFROM:-0500
TZOFFSETTO:-0400
TZNAME:EDT
DTSTART:20250309T070000
END:DAYLIGHT
BEGIN:STANDARD
TZOFFSETFROM:-0400
TZOFFSETTO:-0500
TZNAME:EST
DTSTART:20251102T060000
END:STANDARD
TZID:Europe/London
BEGIN:DAYLIGHT
TZOFFSETFROM:+0000
TZOFFSETTO:+0100
TZNAME:BST
DTSTART:20250330T010000
END:DAYLIGHT
BEGIN:STANDARD
TZOFFSETFROM:+0100
TZOFFSETTO:+0000
TZNAME:GMT
DTSTART:20251026T010000
END:STANDARD
END:VTIMEZONE
BEGIN:VEVENT
DTSTART;TZID=America/New_York:20250108T110000
DTEND;TZID=America/New_York:20250108T140000
DTSTAMP:20260421T135236
CREATED:20241206T073530Z
LAST-MODIFIED:20241206T073530Z
UID:19328-1736334000-1736344800@gbta.org
SUMMARY:The Road Ahead: 2025 Global and Regional Travel Predictions and Tourism Strategies
DESCRIPTION:The Road Ahead: 2025 Global and Regional Travel Predictions and Tourism Strategies \nJoin us for an engaging and informative session featuring key industry leaders who will share insights on global and local travel forecast and trends. This program is designed for travel professionals seeking to stay ahead of industry trends and understand the local landscape’s impact on travel planning. Whether you manage travel\, work in sales\, or are involved in destination marketing\, this session will provide you with the insights you need for 2025. \nNetwork with peers\, gain practical knowledge\, and prepare for the year ahead with us at this can’t-miss event!
URL:https://gbta.org/event/the-road-ahead-2025-global-and-regional-travel-predictions-and-tourism-strategies/
CATEGORIES:North America,US Chapter Event
END:VEVENT
BEGIN:VEVENT
DTSTART;TZID=America/New_York:20250109T110000
DTEND;TZID=America/New_York:20250109T220000
DTSTAMP:20260421T135236
CREATED:20241218T192852Z
LAST-MODIFIED:20250107T103536Z
UID:19617-1736420400-1736460000@gbta.org
SUMMARY:Utah Monthly Luncheon and Meeting - GTP Credit Approved
DESCRIPTION:It’s time to discover what’s next for GBTA in 2025! Our special guest\, Cady Wolf \,Vice President of Corporate and Foundation Relations for the GBTA Foundation \, will guide us through an exclusive look at the exciting innovations and opportunities your GBTA membership provides. From cutting-edge educational programs to transformative global events\, and the impactful initiatives of the GBTA Foundation focused on People and Planet\, there’s much to explore. \n \nCady will also share the latest industry insights from the Business Travel Index\, groundbreaking research on gender equity in business travel\, and a forward-looking perspective on where the industry is headed. Get ready to walk away with actionable strategies to maximize your membership benefits\, stay ahead of the curve\, and achieve success in your professional journey.Don’t miss this opportunity to hear from Cady Wolf and stay ahead on important developments in our industry.\n35.00 for non members
URL:https://gbta.org/event/utah-monthly-luncheon-and-meeting/
CATEGORIES:North America,US Chapter Event
END:VEVENT
BEGIN:VEVENT
DTSTART;VALUE=DATE:20250114
DTEND;VALUE=DATE:20250116
DTSTAMP:20260421T135236
CREATED:20241218T191733Z
LAST-MODIFIED:20250107T102916Z
UID:19613-1736812800-1736985599@gbta.org
SUMMARY:Global Business Travel Association - Wisconsin Annual Event - GTP Credit Approved
DESCRIPTION:GBTA Wisconsin Annual Event January 14-15 at the Osthoff Resort \nCome and join us beginning at 1pm January 14th for open registration and to view our Vendor Marketplace event. We will also have complimentary headshots available for the entire event on the 14th and 15th. In addition to the education sessions\, we will have our silent auction and much more! See below for speaker and session details! \n \nTuesday\, January 14th \n1pm Registration Opens/Vendor Marketplace & Headshots \n2pm Conference kickoff \n2:10pm Speaker: Emily Wright-Organizational Coach “Burn Bright\, not out: Unveiling the Secrets to Sustained Success” \n3:45pm Direct and Allied Sessions\nDirect Speaker: Grant Caplan-President of Procurigence “DIY Audit your program like a pro and prove\nyour value”\nAllied: Coming Soon! \n5:30pm 26th Annual Silent Auction \n7:30pm Dinner and Networking (on your own) \nWednesday January 15th \n6:30am Yoga (optional) with grab and go breakfast \n7:15am Breakfast \n8:35am Speaker: Rosemary Maloney- Sr. Director\, Corporate Travel & Vice-President of the GBTA Board of Directors “GBTA Updates\, Current Travel Trends & Forecast\, GBTA 2024 Conference & Volunteer Opportunities” \n9:20am Speaker: Laura Smith-EVP Global Sales & Partnerships at Hertz “Winning in Business” \n10:30am Buyer & Supplier Roundtables \n11:40am Speaker: Grant Caplan-President of Procurigence “MICE (Meetings\, Incentives\, Conferences\, and exhibitions) and Business Travel Together” \n12:45pm Lunch & Business Meeting \n2pm Speaker: Megan Miller TEDx & Global Speaker\, Founder: The Intentional Living Method\, International Bestselling Author and the Host of Apple’s Top-Rated Podcast\, Attention to Intention. “The Intentional; Living Method” \n3pm Closing Remarks
URL:https://gbta.org/event/global-business-travel-association-wisconsin-annual-event/
CATEGORIES:North America,US Chapter Event
END:VEVENT
BEGIN:VEVENT
DTSTART;TZID=America/New_York:20250114T100000
DTEND;TZID=America/New_York:20250114T110000
DTSTAMP:20260421T135236
CREATED:20241014T153434Z
LAST-MODIFIED:20241101T045648Z
UID:18123-1736848800-1736852400@gbta.org
SUMMARY:The Year Ahead: 2025 Global Risk Outlook by the GBTA Risk Committee - GTP Credit Approved
DESCRIPTION:Join GBTA’s Global Risk Committee for The Year Ahead: 2025 Global Risk Outlook\, a must-attend live webinar designed to equip organizations with the knowledge they need to navigate the emerging risks of 2025. As we move into the new year\, businesses must be proactive in identifying and preparing for key risks to ensure traveler safety and organizational success. Our panel of experts will provide an in-depth review of the emerging risks and how they expect to shape safety and security for global business travelers throughout the year. Tune in for this vital look ahead and enter 2025 with confidence!
URL:https://gbta.org/event/the-year-ahead-2025-global-risk-outlook-by-the-gbta-risk-committee/
CATEGORIES:North America,US Chapter Event
END:VEVENT
BEGIN:VEVENT
DTSTART;TZID=America/New_York:20250114T110000
DTEND;TZID=America/New_York:20250114T131000
DTSTAMP:20260421T135236
CREATED:20250107T102436Z
LAST-MODIFIED:20250107T102436Z
UID:19795-1736852400-1736860200@gbta.org
SUMMARY:GBTA Tennessee January Chapter & Annual Business Meeting - How Nashville’s History Shapes Its Future
DESCRIPTION:GBTA | Tennessee \nJoin us for our annual business meeting and explore the fascinating connection between Nashville’s rich history and its dynamic growth as a top destination for business travel with David Ewing\, a renowned 9th Generation Nashvillian and celebrated storyteller.\nDavid\, known as the “Best Historian\,” will take us on a journey through the unique stories and pivotal moments that have defined Music City. Learn how these historical insights illuminate Nashville’s evolution into a thriving hub for commerce\, tourism\, and innovation\, and how its past continues to shape its future. Discover how these historical insights impact not only the city’s reputation but also its vital industries\, including hoteliers\, ground transportation providers\, and local businesses.\nThis session will highlight the role history plays in fostering economic growth\, enhancing the city’s global reputation\, and creating opportunities for the business travel community. Whether you’re a travel manager or industry professional\, David’s engaging storytelling will provide valuable perspectives on how Nashville’s heritage supports its future development and inspires meaningful travel experiences. \nDavid Steele Ewing\, CEO\, Nashville History \nHilton Nashville Green Hills\n3801 Cleghorn Avenue\nNashville\, TN 37215 \nTickets\n$40.00 GBTA-TN Member Registration\n$50.00 after 08:00 am January 13 \n$40.00 GBTA All-Access Registration\n$50.00 after 08:00 am January 13 \n$50.00 Guest Registration\n$60.00 after 08:00 am January 13
URL:https://gbta.org/event/gbta-tennessee-january-chapter-annual-business-meeting-how-nashvilles-history-shapes-its-future/
CATEGORIES:North America,US Chapter Event
END:VEVENT
BEGIN:VEVENT
DTSTART;TZID=America/New_York:20250115T160000
DTEND;TZID=America/New_York:20250115T180000
DTSTAMP:20260421T135236
CREATED:20250114T115727Z
LAST-MODIFIED:20250114T115727Z
UID:20059-1736956800-1736964000@gbta.org
SUMMARY:Accessibility and Inclusion in Travel
DESCRIPTION:GBTA Kansas City\nTime to kick off the New Year with a GBTA Kansas City learning and educational event. Join Kelly Kirby\, Meetings and Events Director at Loews Kansas City Hotel\, George Kalka\, VP of Fox World Travel\, and Melissa Cooper\, Director of Aviation for the Kansas City International Airport as they discuss Accessibility and Inclusion throughout Travel.
URL:https://gbta.org/event/accessibility-and-inclusion-in-travel/
CATEGORIES:North America,US Chapter Event
END:VEVENT
BEGIN:VEVENT
DTSTART;TZID=America/New_York:20250116T100000
DTEND;TZID=America/New_York:20250116T133000
DTSTAMP:20260421T135236
CREATED:20250107T101621Z
LAST-MODIFIED:20250113T152143Z
UID:19773-1737021600-1737034200@gbta.org
SUMMARY:The Modern Road Warrior:  Navigating Travel\, Policies\, and Personal Balance - GTP Credit Approved
DESCRIPTION:Location:\nWarwick Melrose – Dallas\n3015 Oak Lawn Ave\nDallas\, TX 75219 \nDate:\nJanuary 16\, 2025\, from 10:30am CT – 1:00pm CT\n• Networking – 30 min\n• Speaker/Panel Portion – 1 hr\n• Chapter Updates and Lunch 1 hr \nModerator:\nMarilyn Townsend – Sabre\, Sr. Director\, Global Travel\, Real Estate\, Facilities\, Security & Safety \nPanelists:\nBrett Dowling – GetThere\, VP/GM\nBruce Hines – Lexus\, Lexus Motorsports Manager\nKevin Henning – Simpler (an IBM Company)\, VP \nThe Modern Road Warrior: Navigating Travel\, Policies\, and Personal Balance \n• Communication Preferences / Organizational Tools / Work Life Balance\n• Loyalty Programs & Airline Preferences\n• Duty of Care & Support During Travel Disruptions\n• Sustainability in Corporate Travel\n• Your Feedback as a Road Warrior
URL:https://gbta.org/event/the-modern-road-warrior-navigating-travel-policies-and-personal-balance/
CATEGORIES:North America,US Chapter Event
END:VEVENT
BEGIN:VEVENT
DTSTART;TZID=America/New_York:20250116T110000
DTEND;TZID=America/New_York:20250116T133000
DTSTAMP:20260421T135236
CREATED:20250107T102647Z
LAST-MODIFIED:20250107T102647Z
UID:19799-1737025200-1737034200@gbta.org
SUMMARY:GBTA | Georgia In Person Luncheon Meeting
DESCRIPTION:GBTA | Georgia January 16 In Person Luncheon Meeting.\nYou won’t want to miss our first meeting of the year! We’re thrilled to announce our Keynote Speaker: Mr. Shane Downey\, Vice President of Government and Community Relations for GBTA. Shane is at the forefront of GBTA’s advocacy efforts\, ensuring our collective voice is heard on crucial public policy issues affecting the business travel industry both globally and locally. \nWhy Attend?\nDiscover how the new administration is supporting smoother\, more efficient travel. \nLearn about the latest developments in travel infrastructure that will benefit your business. \nGet insights into sustainable practices that can help your company and the planet. \nUnderstand the changes in traveler taxes and fees and how they impact you. \nAll at the stunning Porsche Headquarters! \nMembers / All Access Members: $50\nNon Members:: $70\nDue Porsche Headquarters NA Security\, no late registrations or walk-ins allowed. Registration cut-off is January 9\, 2025. \nProgram Sponsor: Jekyll Island Authority
URL:https://gbta.org/event/gbta-georgia-in-person-luncheon-meeting/
CATEGORIES:North America,US Chapter Event
END:VEVENT
BEGIN:VEVENT
DTSTART;TZID=Europe/London:20250121T180000
DTEND;TZID=Europe/London:20250121T200000
DTSTAMP:20260421T135236
CREATED:20241017T160410Z
LAST-MODIFIED:20250102T204141Z
UID:18238-1737482400-1737489600@gbta.org
SUMMARY:The Fundamentals of Business Travel Management
DESCRIPTION:Course session dates: January 21 – February 11 \nTime: Live online classes weekly\, 1:00-3:00PM GMT \nThe Fundamentals of Business Travel Management course is designed for travel buyers and suppliers who want a deeper understanding of the foundational elements of a corporate travel policy. Learners will gain a better understanding of business travel management and make themselves indispensable to the needs of their organization. \nParticipants earn 14 GTP Recertification credits. \nCore Curriculum \n\nOverview of Travel Management\nTravel Policy\nCreating a Service Model\nTravel Technology Basics\nStrategic Sourcing/Vendor Management\n\nPricing \n$295 member/$675 non-member
URL:https://gbta.org/event/the-fundamentals-of-business-travel-management-6/
CATEGORIES:Africa,Europe,France,Italy,Learning,Online Courses & Webinars,Virtual
END:VEVENT
BEGIN:VEVENT
DTSTART;TZID=America/New_York:20250122T110000
DTEND;TZID=America/New_York:20250122T120000
DTSTAMP:20260421T135236
CREATED:20241216T145951Z
LAST-MODIFIED:20241218T200251Z
UID:19539-1737543600-1737547200@gbta.org
SUMMARY:Sex Trafficking in Travel webinar by the Aviation Committee - GTP Credit Approved
DESCRIPTION:January is Human Trafficking Awareness Month! In recognition of this\, The Aviation Committee is providing a Sex Trafficking Awareness webinar for GBTA members. \nParticipants will learn about the harmful effects of sex trafficking on the travel industry and how travel professionals can help (and be more aware). \n \nTopics to be included: \nTop Indicators to Identify Trafficking Situations & Potential Victims\nHow to Report It\nHow Travel Companies Can Protect Themselves from Liability & Civil Lawsuits\nShepherd’s Watch Foundation’s Investigative Tools Used to Assist Law Enforcement in Targeting Sex Traffickers & Trafficking Rings\nHow the Travel Community Can Help in the Fight Against This Atrocity. The content of this webinar will benefit travel companies\, employees\, travelers & buyers.
URL:https://gbta.org/event/sex-trafficking-in-travel-webinar-by-the-aviation-committee/
CATEGORIES:North America,US Chapter Event
END:VEVENT
BEGIN:VEVENT
DTSTART;TZID=America/New_York:20250122T160000
DTEND;TZID=America/New_York:20250122T180000
DTSTAMP:20260421T135236
CREATED:20250114T115839Z
LAST-MODIFIED:20250114T115855Z
UID:20063-1737561600-1737568800@gbta.org
SUMMARY:All About Networking
DESCRIPTION:The GBTA Silicon Valley Chapter is excited to invite you to our ALL About Networking event! This is your chance to connect with fellow professionals\, exchange ideas\, and grow your business network. \nWhat to Expect: \nInvaluable Networking Opportunities with industry peers\nDelicious drinks and food hosted by the Park James hotel in Menlo Park\nDon’t miss out on this amazing opportunity to expand your professional circle! \nMark your calendars and come enjoy a fantastic evening of conversation\, collaboration\, and connection. \nSee you there!
URL:https://gbta.org/event/all-about-networking-6/
CATEGORIES:North America,US Chapter Event
END:VEVENT
BEGIN:VEVENT
DTSTART;TZID=America/New_York:20250123T163000
DTEND;TZID=America/New_York:20250123T190000
DTSTAMP:20260421T135236
CREATED:20250107T101830Z
LAST-MODIFIED:20250107T101830Z
UID:19777-1737649800-1737658800@gbta.org
SUMMARY:Corporate Travel Connections: Andretti Orlando
DESCRIPTION:Start 2025 with a night of connections and fun! \nJoin us at Andretti Indoor Karting & Games to discover CNFBTA’s exciting plans for the year ahead. Build relationships with fellow business travel professionals while mingling and having fun. \nBe among the first 30 registrants to enjoy FREE admission!\nYour registration includes: \nTwo complimentary drink tickets\nAppetizer-style dining\nAn arcade play game card\nDon’t miss this chance to connect\, unwind\, and set the tone for an amazing 2025! \nSee you there!
URL:https://gbta.org/event/corporate-travel-connections-andretti-orlando/
CATEGORIES:North America,US Chapter Event
END:VEVENT
BEGIN:VEVENT
DTSTART;TZID=America/New_York:20250127T130000
DTEND;TZID=America/New_York:20250128T170000
DTSTAMP:20260421T135236
CREATED:20240606T180111Z
LAST-MODIFIED:20240904T165642Z
UID:16344-1737982800-1738083600@gbta.org
SUMMARY:GBTA US Chapter Leadership Summit 2025
DESCRIPTION:The GBTA is proud to host the 21st Annual GBTA US Chapter Leadership Summit! This event brings almost 200 US Chapter volunteer leaders from across the country for 2 days of learning including professional development\, networking and collaboration to enhance GBTA’s 37 US Chapter organizations. \nAll US Chapter board members and volunteers are welcome and encouraged to attend! \nLearn more
URL:https://gbta.org/event/gbta-us-chapter-leadership-summit-2025/
CATEGORIES:Summits & Workshops,US Chapter Event
END:VEVENT
END:VCALENDAR