BEGIN:VCALENDAR
VERSION:2.0
PRODID:-//Global Business Travel Association - GBTA - ECPv6.9.0//NONSGML v1.0//EN
CALSCALE:GREGORIAN
METHOD:PUBLISH
X-WR-CALNAME:Global Business Travel Association - GBTA
X-ORIGINAL-URL:https://gbta.org
X-WR-CALDESC:Events for Global Business Travel Association - GBTA
REFRESH-INTERVAL;VALUE=DURATION:PT1H
X-Robots-Tag:noindex
X-PUBLISHED-TTL:PT1H
BEGIN:VTIMEZONE
TZID:America/New_York
BEGIN:DAYLIGHT
TZOFFSETFROM:-0500
TZOFFSETTO:-0400
TZNAME:EDT
DTSTART:20250309T070000
END:DAYLIGHT
BEGIN:STANDARD
TZOFFSETFROM:-0400
TZOFFSETTO:-0500
TZNAME:EST
DTSTART:20251102T060000
END:STANDARD
END:VTIMEZONE
BEGIN:VEVENT
DTSTART;TZID=America/New_York:20250701T083000
DTEND;TZID=America/New_York:20250701T123000
DTSTAMP:20260419T235710
CREATED:20250103T075212Z
LAST-MODIFIED:20250206T173038Z
UID:19732-1751358600-1751373000@gbta.org
SUMMARY:GBTA LATAM Business Travel Forum 2025 – Ciudad de México | 1 de julio
DESCRIPTION:Tailored Events for Travel Managers (Corporate Travel Buyers)\nThe GBTA LATAM Business Travel Forums are a series of exclusive half-day events crafted for Travel Managers in the corporate travel sector\, taking place in major cities across Argentina\, Brazil\, Colombia\, Mexico\, Chile\, and Peru.\nLast year\, we gathered over 200 industry professionals at our events. This year\, don’t miss the chance to be part of this exceptional opportunity. \nBy attending\, you will:\n• Gain updated insights to enhance your corporate travel programs.\n• Expand your network and connect with fellow professionals in your region.\n• Discover key aspects of travel procurement\, including airlines\, hotels\, car rental services\, travel management companies\, expense reporting\, and risk management.\n• Engage with select sponsors who make this event possible.\n• Invest in your personal and professional growth. \n–  Sign up here to get notified when registration opens. \n–  Regístrese aquí para recibir una notificación cuando se abra el registro. \n\nLearn MoreConocer más
URL:https://gbta.org/event/gbta-latam-business-travel-forum-2025-ciudad-de-mexico-1-de-julio/
CATEGORIES:LATAM,Summits & Workshops
END:VEVENT
BEGIN:VEVENT
DTSTART;TZID=America/New_York:20250703T090000
DTEND;TZID=America/New_York:20250703T210000
DTSTAMP:20260419T235710
CREATED:20241202T183729Z
LAST-MODIFIED:20250326T182452Z
UID:19240-1751533200-1751576400@gbta.org
SUMMARY:Masterclass GBTA France 2025
DESCRIPTION:Description:\nLa Masterclass\, événement phare du calendrier GBTA France est le rendez-vous des professionnels du Voyage d’Affaires et du MICE.\nDes experts acheteurs\, Travel Managers et fournisseurs\, représentant de la chaine de valeur Travel et MICE donneront un éclairage sur l’industrie et partageront leur retour d’expérience sur des thématiques d’actualité. \nStart Date and Time:\n3 juillet 2025 09:00 am CET \nEnd Date and Time:\n3 juillet 2025 09:00 9m CET \nLocation:\nNovotel Paris Centre Tour Eiffel 61 Quai de Grenelle\, 75015 Paris \nLearn More
URL:https://gbta.org/event/masterclass-gbta-france-2025/
CATEGORIES:Europe,France
END:VEVENT
BEGIN:VEVENT
DTSTART;TZID=America/New_York:20250708T083000
DTEND;TZID=America/New_York:20250708T100000
DTSTAMP:20260419T235710
CREATED:20250527T062334Z
LAST-MODIFIED:20250527T062421Z
UID:23336-1751963400-1751968800@gbta.org
SUMMARY:WINiT Breakfast - Milano
DESCRIPTION:Per la prima volta in Italia\, la Community di WINiT\, si riunisce in un appuntamento di Networking\, Relazioni informali e spunti Formativi. \n8 luglio 2025. Starhotels Ritz\nVia Lazzaro Spallanzani\, 40 – Milano \nAccesso ai Membri delle Community WINiT. \nE agli Annual Partner di GBTA Italia
URL:https://gbta.org/event/winit-breakfast-milano/
CATEGORIES:Italy
END:VEVENT
BEGIN:VEVENT
DTSTART;TZID=America/New_York:20250709T140000
DTEND;TZID=America/New_York:20250709T150000
DTSTAMP:20260419T235710
CREATED:20250702T082022Z
LAST-MODIFIED:20250702T082022Z
UID:24262-1752069600-1752073200@gbta.org
SUMMARY:GBTA DFW - GTBA Recertification Process
DESCRIPTION:GBTA DFW Chapter\nEverything to Know about the GBTA Recertification Process\nSpeakers: Jake Moreland\, Chapter Secretary & Cindy Lewis\, Chapter President\nVirtual Event – will also be available for replay\nFree Event to Members and Guest
URL:https://gbta.org/event/gbta-dfw-gtba-recertification-process/
CATEGORIES:North America,US Chapter Event
END:VEVENT
BEGIN:VEVENT
DTSTART;TZID=America/New_York:20250719T080000
DTEND;TZID=America/New_York:20250720T170000
DTSTAMP:20260419T235710
CREATED:20241017T162305Z
LAST-MODIFIED:20250102T205822Z
UID:18268-1752912000-1753030800@gbta.org
SUMMARY:Advanced Principles of Business Travel Management
DESCRIPTION:Dates: July 19-20\, 2025\nTimes: Coming soon \nThe Advanced Principles of Business Travel Management™ course builds off of the Fundamentals curriculum to aid business travel professionals in increasing their knowledge of the industry while also expanding on their professional skills. This course is designed for travel buyers overseeing a managed business travel program and suppliers offering travel-related products and services. Ideal preparation for your GTP exam\, or as a refresher to earn 14 GTP Recertification credits. \nCore Curriculum \n\nStrategic Planning and sourcing\nBuyer and Supplier Relationships\nTravel Risk Management\nTravel Program Administration\nAnalytics and reporting\n\nLocation of Event\nDenver\, CO\nIn-Person at GBTA Convention 2025. Convention attendance not required. \nPricing\n$450 member/$675 non-member
URL:https://gbta.org/event/advanced-principles-of-business-travel-management-9/
LOCATION:Colorado Convention Center\, Denver\, CO
CATEGORIES:Learning,North America
END:VEVENT
BEGIN:VEVENT
DTSTART;TZID=America/New_York:20250721T080000
DTEND;TZID=America/New_York:20250721T171500
DTSTAMP:20260419T235710
CREATED:20241210T151928Z
LAST-MODIFIED:20241211T145511Z
UID:19392-1753084800-1753118100@gbta.org
SUMMARY:GBTA Convention 2025
DESCRIPTION:Join us for the 56th annual GBTA Convention\, the premier global event for the business travel industry where diverse voices come together for a common purpose. \nCONNECT in person with thousands of industry peers\, suppliers\, and partners\, as they benefit from unparalleled opportunities for professional and business growth\nLEARN from and be inspired by insightful speakers and leading experts on timely topics that matter most\nGROW your career and skills with unmatched sessions for learning\, training and professional development tailored for all levels and interests\nDISCOVER tools\, research and resources – from the latest industry outlook and trends\, to best practices and technologies – that empower you to advance your organization\, travelers\, and teams \nBe part of the collective movement shaping the future of global business travel. \nStart Date and Time:\nJuly 21\, 2025; 8:00 AM MT \nEnd Date and Time:\nJuly 23\, 2025; 5:15 PM MT \nLocation:\nColorado Convention Center\n700 14th Street\nDenver\, Colorado 80202 \nInterested in exhibiting? Learn more about expo opportunities. \nLearn More About Convention
URL:https://gbta.org/event/gbta-convention-2025/
CATEGORIES:Conference/Convention
ATTACH;FMTTYPE=image/webp:https://gbta.org/wp-content/uploads/colorado-2025.webp
END:VEVENT
BEGIN:VEVENT
DTSTART;TZID=America/New_York:20250731T133000
DTEND;TZID=America/New_York:20250731T160000
DTSTAMP:20260419T235710
CREATED:20250423T072013Z
LAST-MODIFIED:20250731T172008Z
UID:22298-1753968600-1753977600@gbta.org
SUMMARY:GBTA Australia Business Travel Forums 2025 | Melbourne
DESCRIPTION:The GBTA Australia Business Travel Forums are a must-attend event for corporate travel professionals\, offering an afternoon of expert insights\, dynamic discussions\, and valuable networking. Taking place in Brisbane on June 10\, 2025\, and Melbourne on July 31\, 2025\, these forums bring together industry leaders to explore the most pressing challenges and opportunities in Australian business travel. \nWith engaging panels on the corporate travel outlook\, AI and technology’s impact on travel programs\, and the ongoing complexities of air travel\, attendees will gain actionable insights to navigate the evolving landscape. A dedicated Buyer Roundtable provides a platform for candid discussions on shared challenges\, while structured networking sessions create opportunities for meaningful connections. \nJoin us in Brisbane or Melbourne for a forward-thinking program designed to equip you with the knowledge\, strategies\, and industry relationships needed to stay ahead in corporate travel. \nVenue:\nThe Langham\, Melbourne\n1 Southgate Ave\nSouthbank\nVIC 3006 \nLearn More & Register
URL:https://gbta.org/event/gbta-australia-business-travel-forums-2025-melbourne/
CATEGORIES:APAC
END:VEVENT
END:VCALENDAR