BEGIN:VCALENDAR
VERSION:2.0
PRODID:-//Global Business Travel Association - GBTA - ECPv6.9.0//NONSGML v1.0//EN
CALSCALE:GREGORIAN
METHOD:PUBLISH
X-ORIGINAL-URL:https://gbta.org
X-WR-CALDESC:Events for Global Business Travel Association - GBTA
REFRESH-INTERVAL;VALUE=DURATION:PT1H
X-Robots-Tag:noindex
X-PUBLISHED-TTL:PT1H
BEGIN:VTIMEZONE
TZID:America/New_York
BEGIN:DAYLIGHT
TZOFFSETFROM:-0500
TZOFFSETTO:-0400
TZNAME:EDT
DTSTART:20250309T070000
END:DAYLIGHT
BEGIN:STANDARD
TZOFFSETFROM:-0400
TZOFFSETTO:-0500
TZNAME:EST
DTSTART:20251102T060000
END:STANDARD
END:VTIMEZONE
BEGIN:VEVENT
DTSTART;VALUE=DATE:20251001
DTEND;VALUE=DATE:20251003
DTSTAMP:20260419T174803
CREATED:20250917T153649Z
LAST-MODIFIED:20250923T055648Z
UID:26034-1759276800-1759449599@gbta.org
SUMMARY:GBTA Ohio Valley Q3 Meeting - GTP Credit Approved
DESCRIPTION:
URL:https://gbta.org/event/gbta-ohio-valley-q3-meeting/
CATEGORIES:North America,US Chapter Event
END:VEVENT
BEGIN:VEVENT
DTSTART;VALUE=DATE:20251001
DTEND;VALUE=DATE:20251003
DTSTAMP:20260419T174803
CREATED:20250926T131456Z
LAST-MODIFIED:20250926T131523Z
UID:26354-1759276800-1759449599@gbta.org
SUMMARY:OVBTA Q3 Meeting
DESCRIPTION:
URL:https://gbta.org/event/ovbta-q3-meeting/
CATEGORIES:North America,US Chapter Event
END:VEVENT
BEGIN:VEVENT
DTSTART;TZID=America/New_York:20251002T090000
DTEND;TZID=America/New_York:20251002T163000
DTSTAMP:20260419T174803
CREATED:20250505T103228Z
LAST-MODIFIED:20250624T100854Z
UID:22456-1759395600-1759422600@gbta.org
SUMMARY:GBTA Conference 2025 Milano
DESCRIPTION:Torna la Conferenza Annuale di GBTA Italia\, il punto d’incontro della community del Business Travel! \nRelatori internazionali\, Travel Manager\, Event Manager\, Mobility Manager e Supplier della catena del valore del Business Travel e del MICE si incontrano per confrontarsi sulle principali tematiche all’ordine del giorno\, condividere best practice e costruire insieme il futuro del settore degli eventi e dei viaggi d’affari. \nGiovedì 2 ottobre\, 9.00 – 16.30 CEST\nEnterprise Hotel\, Corso Sempione\, 91\, Milano \nLearn More
URL:https://gbta.org/event/gbta-conference-2025-milano/
CATEGORIES:Conference/Convention,Italy
END:VEVENT
BEGIN:VEVENT
DTSTART;TZID=America/New_York:20251003T110000
DTEND;TZID=America/New_York:20251003T140000
DTSTAMP:20260419T174803
CREATED:20250627T080721Z
LAST-MODIFIED:20250627T080721Z
UID:24186-1759489200-1759500000@gbta.org
SUMMARY:UBTA 2025 Trade Show
DESCRIPTION:Chapter: Utah \nDescription: The Utah Travel Trade Show is your gateway to connecting with many leading vendors from across the state\, ready to help you craft unforgettable itineraries and build valuable industry partnerships. From hidden gems to headline attractions\, this event is your ultimate resource for elevating client experiences and staying ahead in the travel game. \nLocation: Salt Lake City Marriott City Center – 220 South State Street Salt Lake City\, UT 84111 \nPrice $0.00
URL:https://gbta.org/event/ubta-2025-trade-show/
CATEGORIES:North America,US Chapter Event
END:VEVENT
BEGIN:VEVENT
DTSTART;VALUE=DATE:20251007
DTEND;VALUE=DATE:20251029
DTSTAMP:20260419T174803
CREATED:20241017T162208Z
LAST-MODIFIED:20250707T142358Z
UID:18263-1759795200-1761695999@gbta.org
SUMMARY:The Fundamentals of Business Travel Management
DESCRIPTION:Course dates: October 7 – October 28 \nTimes: Live online classes weekly\, 10:00AM-12:00PM ET \nThe Fundamentals of Business Travel Management course is designed for travel buyers and suppliers who want a deeper understanding of the foundational elements of a corporate travel policy. Learners will gain a better understanding of business travel management and make themselves indispensable to the needs of their organization. \nParticipants earn 14 GTP Recertification credits. \nCore Curriculum \n\nOverview of Travel Management\nTravel Policy\nCreating a Service Model\nTravel Technology Basics\nStrategic Sourcing/Vendor Management\n\nRegister by September 30
URL:https://gbta.org/event/the-fundamentals-of-business-travel-management-8/
CATEGORIES:Europe,Learning,North America,Virtual
END:VEVENT
BEGIN:VEVENT
DTSTART;TZID=America/New_York:20251009T113000
DTEND;TZID=America/New_York:20251009T133000
DTSTAMP:20260419T174803
CREATED:20250815T115330Z
LAST-MODIFIED:20250826T121351Z
UID:25460-1760009400-1760016600@gbta.org
SUMMARY:Intrapreneurial Mindset - The New Superpower for Travel Buyers and Suppliers - GTP Credit Approved
DESCRIPTION:Intrapreneurial Mindset – The New Superpower for Travel Buyers and Suppliers \nWe are thrilled to invite you to an exclusive workshop designed to revolutionize the way you approach corporate travel management. Join us for “Intrapreneurial Mindset: The New Superpower for Travel Buyers and Suppliers\,” a dynamic 60-minute session presented by Greeley Koch from 490 Consulting. \n \nWhy Attend? \nThe corporate travel industry is evolving at lightning speed\, and those who rely on traditional methods risk falling behind. Success today requires a new way of thinking—an intrapreneurial mindset. Unlike entrepreneurs who innovate outside organizations\, intrapreneurs drive transformation from within\, leveraging their expertise and influence to champion bold ideas that reshape corporate travel programs. Now is the time to unlock your intrapreneurial superpower and lead the future of corporate travel within your company. \nWhat to Expect: \nInspiring Keynote: Greeley Koch will introduce the intrapreneurial mindset and explain why it’s critical for both travel managers and suppliers today.\nInteractive Group Activities: Participate in a tabletop workshop\, collaborating with both travel managers and supplier peers to develop actionable intrapreneurial strategies.\nStrategic Action Planning: Identify opportunities for innovation\, navigate challenges\, and create a plan to future-proof both travel programs and supplier offerings. \nWalk Away With: \nA first step toward making bold\, impactful changes\nA clear understanding of the intrapreneurial mindset and how to apply it\nPractical ideas to future-proof your travel program and supplier strategies \nDon’t miss this opportunity to engage with industry leaders and peers\, and to equip yourself with the tools and mindset needed to thrive in the rapidly changing corporate travel landscape.
URL:https://gbta.org/event/intrapreneurial-mindset-the-new-superpower-for-travel-buyers-and-suppliers/
CATEGORIES:North America,US Chapter Event
END:VEVENT
BEGIN:VEVENT
DTSTART;TZID=America/New_York:20251014T110000
DTEND;TZID=America/New_York:20251014T130000
DTSTAMP:20260419T174803
CREATED:20250909T111104Z
LAST-MODIFIED:20250911T130426Z
UID:25819-1760439600-1760446800@gbta.org
SUMMARY:GBTA | Tennessee Rise to the Challenge: Making the Business Case for Sustainable and Resilient Travel - GTP Credit Approved
DESCRIPTION:GBTA | Tennessee \nThe global conversation on climate action is shifting – and in some places\, even slowing – as governments cut back on commitments and incentives. Yet for companies\, the business case for sustainability in travel remains stronger than ever. The challenge now is to stay the course\, prove the value\, and drive progress even when external pressures waver.\nJoin us for an energizing discussion featuring Delphine Millot\, Managing Director of the GBTA Foundation. Together\, we’ll explore how organizations can continue to build and strengthen the case for sustainable and resilient travel – not only because it’s the right thing to do\, but because it delivers measurable business results. \n\nYou’ll gain: \n• Actionable insights on measuring ROI and communicating impact to stakeholders\n• Industry-tested best practices for scaling sustainability in travel programs\n• A first look at early results from the GBTA Sustainability Acceleration Challenge\n• Interactive discussion with peers on what’s working – and what’s next\nThis isn’t just another talk on “going green.” It’s your chance to connect\, challenge assumptions\, and leave with the tools and inspiration to keep sustainability front and center in your travel program – because progress makes business sense.
URL:https://gbta.org/event/gbta-tennessee-rise-to-the-challenge-making-the-business-case-for-sustainable-and-resilient-travel/
CATEGORIES:North America,US Chapter Event
END:VEVENT
BEGIN:VEVENT
DTSTART;TZID=America/New_York:20251016T103000
DTEND;TZID=America/New_York:20251016T130000
DTSTAMP:20260419T174803
CREATED:20251001T153119Z
LAST-MODIFIED:20251006T142828Z
UID:26472-1760610600-1760619600@gbta.org
SUMMARY:GBTA-DFW October 2025 Chapter Meeting - GTP Credit Approved
DESCRIPTION:DFW Metroplex Momentum: 2026 Vision from DFW’s CVG Leaders
URL:https://gbta.org/event/gbta-dfw-october-2025-chapter-meeting/
CATEGORIES:North America,US Chapter Event
END:VEVENT
BEGIN:VEVENT
DTSTART;TZID=America/New_York:20251021T113000
DTEND;TZID=America/New_York:20251021T160000
DTSTAMP:20260419T174803
CREATED:20250926T130653Z
LAST-MODIFIED:20250930T073212Z
UID:26350-1761046200-1761062400@gbta.org
SUMMARY:Jacksonville Education Day - GTP Credit Approved
DESCRIPTION:Jamie Meek\, GoldSpring Consulting\, will lead a power packed Corporate Travel Manager Panel and workshop to discuss the challenges and successes of making sure your corporate travel program speaks to the multi-generational workforce. Following the panel\, an interactive roundtable exercise will commence that highlights what suppliers can do to help the topic of the needs of multi-generational workforces. Don’t miss and update from Jeanne Goldschmidt\, from Visit Jacksonville will provide insights on tourism and convention updates impacting the greater Jacksonville area along with available resources.
URL:https://gbta.org/event/jacksonville-education-day/
CATEGORIES:North America,US Chapter Event
END:VEVENT
BEGIN:VEVENT
DTSTART;TZID=America/New_York:20251022T120000
DTEND;TZID=America/New_York:20251022T130000
DTSTAMP:20260419T174803
CREATED:20250806T140108Z
LAST-MODIFIED:20250922T103749Z
UID:25255-1761134400-1761138000@gbta.org
SUMMARY:Navigating New Horizons: Launching Corporate Travel in the Middle East
DESCRIPTION:Date: 22nd October.\nTime; 2pm/ 11am Uk/ 12noon CET\nFormat: The webinar will be 45 minutes long with an additional 10 mins for Q&A\, \nJoin us for this insightful session as we introduce GBTA (Global Business Travel Association) and explore the evolving landscape of business travel in the Middle East. The webinar will begin with a short presentation offering high-level market insights\, followed by a dynamic panel discussion featuring both buyers and suppliers. Together\, we’ll explore the key opportunities\, emerging trends\, and challenges shaping the region’s corporate travel market. \nWhether you’re new to business travel or an experienced travel professional\, this session will provide valuable perspectives to help you navigate the road ahead.
URL:https://gbta.org/event/navigating-new-horizons-launching-corporate-travel-in-the-middle-east/
CATEGORIES:Middle East,Online Courses & Webinars
END:VEVENT
BEGIN:VEVENT
DTSTART;TZID=America/New_York:20251022T173000
DTEND;TZID=America/New_York:20251022T190000
DTSTAMP:20260419T174803
CREATED:20250918T143559Z
LAST-MODIFIED:20250918T143559Z
UID:26052-1761154200-1761159600@gbta.org
SUMMARY:The Executive Mindset & Unlocking Your Inner Leader
DESCRIPTION:Chapter/Committee/Partner Name: GBTA Las Vegas \nDescription:\nThe Executive Mindset & Unlocking Your Inner Leader\nGBTA Las Vegas is hosting a professional development talk about how to unlock your inner leader and build an executive mindset. Jon Purpura of Elevate Advisory will share strategies he has built over a 25 year career\, including communicating with clarity and conviction\, handling objections like a strategist\, and influencing in all directions. This session will benefit new and seasoned professionals\, whether in the travel industry or other sectors. Join us for this intimate conversation to level up your career! \nEvent Speaker:\nJon Purpura is an accomplished global business leader with over 25 years of experience in leadership roles at United Airlines. Throughout his career\, he successfully mentored and coached high-impact teams to enhance their leadership capabilities. His passion lies in building confidence\, empowering teams\, and witnessing their growth as they perform at their best. \nDedicated to the study of positive psychology\, Jon strives to share his eternal optimism with others. He specializes in helping individuals capitalize on their unique assets\, guiding them to unlock their full potential. \nJon’s passion for coaching and speaking led to the creation of Elevate Advisory LLC\, where he continues to elevate others on their personal and professional journeys. \nLocation: Flamingo Las Vegas\nCarson City Rooms 1 & 2\nLight Hors d’Oeuvres and beverages provided \nTicket Price:\n$30 – Direct Member\n$40 – Allied Member\n$50 – Guest \nSelf Parking:\n0-24 Hours: $20\nCaesars Rewards: Platinum-Diamond-Seven Stars Free\nLocals: First 3 hours are Free with valid NV D.L.
URL:https://gbta.org/event/the-executive-mindset-unlocking-your-inner-leader/
CATEGORIES:North America,US Chapter Event
END:VEVENT
BEGIN:VEVENT
DTSTART;TZID=America/New_York:20251023T100000
DTEND;TZID=America/New_York:20251023T164500
DTSTAMP:20260419T174803
CREATED:20250203T221725Z
LAST-MODIFIED:20251001T155118Z
UID:20865-1761213600-1761237900@gbta.org
SUMMARY:GBTA WINiT Summit 2025
DESCRIPTION:WINiT Summit 2025: The Power of Possibility. A Day to Imagine\, Ignite\, and Lead What’s Next \nEvent date: October 23\, 2025 \nEvent location: Civic Hall\, New York\, NY.  \nAbout the event\nJoin us for a high-impact\, day-long experience designed to spark new ideas\, unlock potential\, and elevate your leadership journey. Rooted in WINiT’s pillars of mentorship\, professional development\, and community\, The Power of Possibility is intended to help you embrace possibility\, break barriers\, and envision new opportunities for the future.
URL:https://gbta.org/event/gbta-winit-summit-2025/
CATEGORIES:North America,Summits & Workshops,WINiT
ATTACH;FMTTYPE=image/webp:https://gbta.org/wp-content/uploads/hamburg600-newyork.webp
END:VEVENT
BEGIN:VEVENT
DTSTART;TZID=America/New_York:20251023T110000
DTEND;TZID=America/New_York:20251023T130000
DTSTAMP:20260419T174803
CREATED:20250925T103604Z
LAST-MODIFIED:20250926T125041Z
UID:26329-1761217200-1761224400@gbta.org
SUMMARY:October 2025- Educational Lunch Meeting - GTP Credit Approved
DESCRIPTION:Exciting things are happening at Phoenix Sky Harbor International Airport! \nJoin us for an engaging session featuring:\n✅ The latest airport update\n✅ New air service routes + an Asia airline overview\n✅ Important TSA updates to keep your travelers informed \n \nDon’t miss this chance to get insider insights and stay ahead of what’s next in air travel. \nAgenda:\n11:15 – 11:45 pm: Registration and Networking \n11:45 – 12:00 pm: Welcome\, Announcements\, Southwest Airlines Update and Lunch \n12:00 – 1:00 pm: Phoenix Sky Harbor and TSA Updates\, Q & A\, and Closing Remarks \nTickets\n$55.00 Member Registration\n$65.00 after 5:00 pm October 17\n$50.00 Early bird rate before October 3 \n$70.00 Non-Member/Guest\n$80.00 after 5:00 pm October 17\n$65.00 Early bird rate before October 3
URL:https://gbta.org/event/october-2025-educational-lunch-meeting/
CATEGORIES:North America,US Chapter Event
END:VEVENT
BEGIN:VEVENT
DTSTART;TZID=America/New_York:20251023T110000
DTEND;TZID=America/New_York:20251023T140000
DTSTAMP:20260419T174803
CREATED:20251001T152810Z
LAST-MODIFIED:20251001T152810Z
UID:26468-1761217200-1761228000@gbta.org
SUMMARY:Unlocking the Power of Professional Designations
DESCRIPTION:Your name is your brand—and the letters that follow it can be a powerful key to career growth\, credibility\, and new opportunities. In partnership with: The MPI New Jersey Chapter\, MPI Academy\, GBTA Academy and GBTA Meetings and Events Committee. \n✨The Value of Your Letters After Your Name: A Designation Edition\nWhether you’ve earned a CMP\, CCTE\, GTP\, GLP\, CMM or are considering pursuing a certification\, this session will explore how designations can set you apart\, elevate your expertise\, and strengthen your professional brand in the meetings\, events\, and travel\nindustries. \n🔑What You’ll Gain:\nInsights from industry leaders on the true ROI of certifications Guidance on choosing the right designation for your career path\nTips to leverage your credentials for advancement and recognition Networking with peers who’ve taken the designation journey\nEnjoy an engaging discussion\, make valuable connections\, and leave inspired to invest in your future. \n💡Don’t miss this opportunity to learn how the right designation can open doors for your career!
URL:https://gbta.org/event/unlocking-the-power-of-professional-designations/
CATEGORIES:North America,US Chapter Event
END:VEVENT
BEGIN:VEVENT
DTSTART;TZID=America/New_York:20251023T110000
DTEND;TZID=America/New_York:20251023T140000
DTSTAMP:20260419T174803
CREATED:20251017T062901Z
LAST-MODIFIED:20251017T062901Z
UID:26769-1761217200-1761228000@gbta.org
SUMMARY:Unlocking the Power of Professional Designations
DESCRIPTION:-GBTA New Jersey (In partnership with GBTA\, MPI\, GBTA Meetings and Events\, MPI-New Jersey Chapter)\n-Speakers: Tim Luepke\, CMM\, CMP\, CTS\, DES @ MPI; Jill Koronkiewicz @ GBTA; Brenda Davis @ International SOS\n-2x Panels: 1) Meetings and Events – Tammy Hsu\, CMP\, SEPC; Jordan Lacey\, CMP; Trish Raffety\, CMP\, HMCC; Kaaren Hamilton\, CMM\, HMCC 2) Travel – Kathy Kaden\, CCTE\, GLP\, CMM; Joanne McNellis-Coelho GTP\, GLP; Doug Payne CCTE\, GTP\, GLP\n-Location: 11AM-2PM Liberty House\, 76 Audrey Zapp Dr\, Jersey City\, NJ 07305 \n-Event Name: Unlocking the Power of Professional Designations \n🗓️Thursday\, October 23rd\n⏰11:00 AM – 2:00 PM\n📍Liberty House\n76 Audrey Zapp Dr\, Jersey City\, NJ 07305 \nLimited Space!\nRegister Here \nYour name is your brand—and the letters that follow it can be a powerful key to career\ngrowth\, credibility\, and new opportunities. In partnership with: The MPI New Jersey\nChapter\, MPI Academy\, GBTA Foundation and GBTA Meetings and Events Committee. \n✨The Value of Your Letters After Your Name: A Designation Edition\nWhether you’ve earned a CMP\, CCTE\, GTP\, GLP\, CMM or are considering pursuing a\ncertification\, this session will explore how designations can set you apart\, elevate your\nexpertise\, and strengthen your professional brand in the meetings\, events\, and travel\nindustries. \n🔑What You’ll Gain:\nInsights from industry leaders on the true ROI of certifications\nGuidance on choosing the right designation for your career path\nTips to leverage your credentials for advancement and recognition\nNetworking with peers who’ve taken the designation journey\nEnjoy an engaging discussion\, make valuable connections\, and leave inspired to invest\nin your future. \n💡Don’t miss this opportunity to learn how the right designation can open doors for\nyour career! \nHotel Information: \nHyatt Regency Jersey City Hotel \n2 Exchange Place \nJersey City\, NJ 07302 \nRoom Type: Standard King/Queen \nCourtesy Rate – $399 (per night) \nFor booking\, contact John Bruton. \nE: John.Bruton@hyatt.com \nRun of Show \n11:00AM Check-in\, Lunch & Networking \n11:30AM Opening Remarks \n11:40AM M&E Designations \nPresented by MPI Academy \n12:00PM M&E Panel (CMP\, CMM & more!) \n12:35PM Break \nTalk with ME \nPresented by GBTA Meetings and Events Committee \n12:50PM Travel Designations \nPresented by GBTA Foundation \n1:10PM Travel Panel (GLP\, GTP & more!) \n1:45PM Presentation \nPresented by Hyatt Regency Jersey City \n1:55PM Closing Remarks \n2:00PM Event Concludes
URL:https://gbta.org/event/unlocking-the-power-of-professional-designations-2/
CATEGORIES:North America,US Chapter Event
END:VEVENT
BEGIN:VEVENT
DTSTART;TZID=America/New_York:20251023T180000
DTEND;TZID=America/New_York:20251023T220000
DTSTAMP:20260419T174803
CREATED:20250203T222436Z
LAST-MODIFIED:20250820T170714Z
UID:20872-1761242400-1761256800@gbta.org
SUMMARY:GBTA WINiT Gala 2025
DESCRIPTION:Event date: October 23\, 2025\, 6:30 pm – 10:00 pm ET.  \nEvent location: Civic Hall\, New York\, NY. \nAbout the event\nThe goal of the WINiT Awards is to recognize the women\, men\, and companies who together are driving positive change for the career mobility of women in the travel-related industries. Winners will be honored at the Gala. \nWINiT Gala award categories will include: \n\nMost Innovative Trailblazer\nOutstanding Woman of the Year\nRising Female Leader\nBest Mentor or Coach (Women)\nBest Mentor or Coach (Male)\nDEI Leadership Award\nThe Future of the Workforce Award\n\nEmbrace empowerment of women in business travel. Learn more about corporate sponsorship opportunities.
URL:https://gbta.org/event/gbta-winit-gala-2025/
CATEGORIES:North America,WINiT
END:VEVENT
BEGIN:VEVENT
DTSTART;VALUE=DATE:20251028
DTEND;VALUE=DATE:20251029
DTSTAMP:20260419T174803
CREATED:20250317T102941Z
LAST-MODIFIED:20250806T144645Z
UID:21667-1761609600-1761695999@gbta.org
SUMMARY:GBTA Canada Business Travel Forums - Calgary
DESCRIPTION:The GBTA Canada Business Travel Forums are meticulously crafted as a one-day education and networking program replicated in 3 Canadian cities:  Calgary\, Montreal and Toronto.  The program is strategically structured to deliver invaluable knowledge\, profound insights\, and cutting-edge education to an industry grappling with escalating costs\, supply chain uncertainties\, and multifaceted disruptions. \nAlongside the invaluable educational content\, the Forums offer curated networking opportunities\, with ample time allocated for meaningful buyer interaction within the Supplier Showcase. By participating in these enriching workshops\, our esteemed sponsors gain a crucial platform to highlight their commitment to evolving in alongside the ever-changing landscape of travel programs and traveler expectations. \nLearn More
URL:https://gbta.org/event/gbta-canada-business-travel-forums-calgary-2/
CATEGORIES:Canada
END:VEVENT
END:VCALENDAR